{"text_format":"1","workbook":"xlsx","n_sheets":24,"sheets":["Cover Page","Contents","Facility Info","Operational Data","Operational Summary","Perf. Form 1","Energy Form 1","Permit Compliance","Improvements","Public Liasion","CO2 N2O","Residue Quality ","Water","Air (periodic)","Air (CEMS)","HCl","SO2","NOx","TOC","Particulates","CO 0.5 hourly","CO 95% 10 min","NH3","Template changes log"],"not_rendered":{"charts":8,"images":3,"macros":1,"external_links":1,"defined_names":24,"comments":0,"pivot_tables":0},"unopened":[],"bounds":{"document_bytes":16777216,"sheet_cells":100000,"rows_first":2000,"rows_last":500,"rows_between":2000,"halvings":0,"cell_chars":16384,"cell_head_chars":4096},"cells_cut":0,"cells_raw":0,"read":"whole","date_system":"1900"}

{"sheet":"Cover Page","index":0,"n_rows":53,"n_cols":14,"rows_kept":53,"cut":false,"hidden":false,"merged":[[48,2,48,3],[48,6,48,8],[52,2,52,3],[36,1,36,8],[40,2,40,8],[42,2,42,4],[44,2,44,4],[46,2,46,3],[46,6,46,8],[13,13,18,15],[34,1,34,8],[0,3,5,6],[7,1,23,8],[28,1,28,8],[30,1,30,8],[32,1,32,8]]}
[null,null,null,"Add company logo"]
[null,null,null,null,null,null,null,null,null,null,null,null,null,"Version 24.2a (for incinerators) - 27/11/24"]
[]
[null,null,null,null,null,null,null,null,null,null,null,null,null,"Note that there is another version of this template available for co-incinerators"]
[]
[]
[]
[null,"Add photo"]
[]
[]
[]
[]
[null,null,null,null,null,null,null,null,null,null,null,null,null,"Notes:"]
[null,null,null,null,null,null,null,null,null,null,null,null,null,"This template may require adjustments by individual operators to meet specific reporting requirements as defined in the site Permit(s)"]
[]
[]
[]
[]
[]
[]
[]
[]
[]
[]
[]
[]
[]
[]
[null,"Annual Performance Report 2024"]
[]
[null,"Permit EPR/XP3005LB"]
[]
[null,"Runcorn Energy From Waste Facility "]
[]
[null,"Runcorn EfW"]
[]
[null,"Viridor Energy Limited"]
[]
[null,"Year:",2024]
[]
[null,"Address:","Barlow Way, Runcorn WA7 4HG"]
[]
[null,"Tel: ",7788754223]
[]
[null,"Email: ","glenn.powell@viridor.com"]
[]
[null,"Prepared by:","Glenn Powell",null,null,"Position:","Technical compliance lead"]
[]
[null,"Approved by:","Darren Bolton",null,null,"Position:","Plant Manager"]
[]
[null,"Version:","24.2a"]
[]
[null,"Issue Date:","2024-11-27"]

{"sheet":"Contents","index":1,"n_rows":45,"n_cols":11,"rows_kept":45,"cut":false,"hidden":false,"merged":[[44,0,47,9],[37,1,37,6],[38,1,38,6],[39,1,39,6],[40,1,40,6],[41,1,41,6],[42,1,42,6],[36,1,36,6],[22,1,22,6],[23,1,23,6],[24,1,24,6],[27,1,27,6],[28,1,28,6],[29,1,29,6],[30,1,30,6],[31,1,31,6],[32,1,32,6],[35,1,35,6],[21,1,21,6],[9,1,9,6],[10,1,10,6],[11,1,11,6],[13,1,13,6],[14,1,14,6],[15,1,15,6],[16,1,16,6],[17,1,17,6],[18,1,18,6],[19,1,19,6],[20,1,20,6],[12,1,12,6],[4,10,7,14],[8,1,8,6],[3,1,3,6],[4,1,4,6],[5,1,5,6],[6,1,6,6],[7,1,7,6]]}
[{"$f":"+'Cover Page'!$B$29","v":"Annual Performance Report 2024"},null,null,null,{"$f":"+'Cover Page'!$B$33","v":"Runcorn Energy From Waste Facility "}]
[]
["Contents",null,null,null,null,null,null,null,null,null,"Notes:"]
["Section","Subject",null,null,null,null,null,"Page ",null,null,"Section references and Page nos. to be inserted"]
[null,"Facility Information",null,null,null,null,null,1,null,null,"Sections and Subjects may require adjustment by individual operators to meet specific reporting requirements as defined in the sites Permit(s)"]
[null,"Operational Data",null,null,null,null,null,2]
[null,"Operational Summary",null,null,null,null,null,3]
[null,"Performance Form 1",null,null,null,null,null,4]
[null,"Energy Form 1",null,null,null,null,null,5]
[null,"Permit Compliance",null,null,null,null,null,6]
[null,"Improvements",null,null,null,null,null,7]
[null,"Public Liaison",null,null,null,null,null,8]
[null,"Carbon dioxide and nitrous oxide emissions",null,null,null,null,null,9]
[null,"Residue Quality ",null,null,null,null,null,10]
[null,"Emissions to Water",null,null,null,null,null,11]
[null,"Emissions to Air (periodically monitored)",null,null,null,null,null,12]
[null,"Emissions to Air (continuously monitored)",null,null,null,null,null,13]
[null,"Hydrogen Chloride emissions",null,null,null,null,null,14]
[null,"Sulphur Dioxide emissions",null,null,null,null,null,15]
[null,"Oxides of Nitrogen emissions",null,null,null,null,null,16]
[null,"Total Organic Carbon emissions",null,null,null,null,null,17]
[null,"Particulate Matter emissions",null,null,null,null,null,18]
[null,"Carbon Monoxide emissions",null,null,null,null,null,19]
[null,"Ammonia emissions",null,null,null,null,null,20]
[]
[]
["Version Control"]
["Section","Information",null,null,null,null,null,"Date"]
[]
[]
[]
[]
[]
[]
["Distribution"]
["Copy","Name, Role",null,null,null,null,null,"No."]
[]
[]
[]
[]
[]
[]
[]
[]
["This report is required under the Industrial Emissions Directive’s Article 55(2) requirements on reporting and public information on waste incineration plants and co-incineration plants, which require the operator to produce an annual report on the functioning and monitoring of the plant and make it available to the public. "]

{"sheet":"Facility Info","index":2,"n_rows":22,"n_cols":11,"rows_kept":22,"cut":false,"hidden":false,"merged":[[4,0,17,8],[21,0,53,8],[4,10,13,13],[21,10,30,13]]}
[{"$f":"+'Cover Page'!$B$29","v":"Annual Performance Report 2024"},null,null,null,{"$f":"+'Cover Page'!$B$33","v":"Runcorn Energy From Waste Facility "}]
[]
["Plant Description and Design",null,null,null,null,null,null,null,null,null,"Notes:"]
[]
["Runcorn Energy from Waste (EfW) facility is located to the north of the Runcorn site known as Weston Point. The EfW facility has a total capacity of approximately 350MW (thermal input) and is capable of generating up to approximately 86MW of electrical power and 110 tonnes per hour steam. The plant comprises of two parts: Phase 1 and Phase 2. Phase 1 consists of two lines 1 and 2. Phase 2 consists of two further lines; 3 and 4. The capacity of the facility is 1,100,000 tonnes per calendar year.",null,null,null,null,null,null,null,null,null,"Include summary of plant design, design capacity, no. of combustion lines, electrical and heat capacity and any other general information that describes the facility, its location and purpose "]
[]
[]
[]
[]
[]
[]
[]
[]
[]
[]
[]
[]
[]
[]
["Summary of Operational Processes and Procedures"]
[]
["Incoming refuse vehicles and bulk transport enter the site and proceed to the incoming weighbridge. After weighing in, the vehicles continue to the enclosed reception hall where they will discharge their load into the waste storage bunker.\n\nVehicle loads are inspected randomly in the tipping hall to confirm the nature of incoming waste.\nOnce vehicles have deposited their waste they leave the site via a second weighbridge.\nPotential emissions of odour and dust from the tipping hall and refuse bunkers are controlled\nby forced draught fans located above the refuse bunkers. These draw air from the bunker hall\nand reception area into the furnace to feed the combustion process, creating a slight negative\npressure.\n\nThe waste combustion takes place on a Keppel Seghers grate, the heat generated being used to create superheated steam which is used to drive the steam turbine and generate electricity. Heat from turbine bleeds can be used for combined heat and power systems and is also used for pre-heating of combustion air and operation of the deaerator to maximise efficiency.\n\nCondensing of the steam takes place via cooling towers and the condensate cycles back around in a closed system (other than necessary top up).\n\nEmission control is via injection of ammonia into the furnace for NOx control via SNCR technology while at the end of the boiler and gas path lime and activated carbon are added to remove acidic gases, dioxins, furans and heavy metals before this is all filtered by a bag filter system to remove the lime, carbon and particulates from the flue gases producing APCr.\n\nEmissions are measured continuously in stack and by extractive stack measurements as required by the environmental permit.\n\nResidues from the process, IBA and APCr are both sent to specialist reprocessing sites. IBA has metals removed for recyling and is reprocessed into IBAA (Incinerator Bottom Ash Aggregate). The APCr is sent to OCO Technology (formally Carbon8) who use accelerated carbonation technology to produce a carbon negative aggregate material which encapsulates the absorbed substances from the APCr.\n\nMaintenance is controlled by a CMMS system and consists of planned preventative maintenance (ppm), derived from both experience of the plant and OEM requirements, and reactive maintenance. The site has two annual shutdown periods (one per Phase) during which maintenance and statutory inspections are carried out.\nThe plant operates a document control system meeting the requirements of the Viridor document management system and ISO 9001, 14001, 45001 and 50001. On December 18th 2020 the sites Environmental Permit was transfered from Viridor Waste Management to Viridor Energy and a new permit number issued (EPR/XP3005LB) ",null,null,null,null,null,null,null,null,null,"Include summary of key processes and procedures such as (but not limited to); waste reception, control rooms, grate, bed and boiler, energy & heat  generation, cooling systems, residue management, emission controls, health and safety systems, maintenance"]

{"sheet":"Operational Data","index":3,"n_rows":65,"n_cols":10,"rows_kept":65,"cut":false,"hidden":false,"merged":[[5,9,7,9],[52,0,56,0],[33,1,38,1],[3,1,3,2],[7,1,19,1],[23,1,26,1],[28,1,29,1],[9,9,20,9],[21,9,25,9]]}
[{"$f":"+'Cover Page'!$B$29","v":"Annual Performance Report 2024"},null,null,null,{"$f":"+'Cover Page'!$B$33","v":"Runcorn Energy From Waste Facility "}]
[]
["Operational Data"]
["Plant Size",1100000,null,"tonnes pa",38,"MWth",51,"MWe",null,"Notes:"]
["No. of combustion lines",4,null,"No. of Turbines:",null,2,null,null,null,"* - RDF to include SRF "]
[null,null,null,null,null,null,null,null,null,"** - Combusted tonnage = tonnes delivered in period + (tonnes in bunker at start of period – tonnes in bunker at end of period), or equivalent calculation depending on plant type"]
["Waste types received","Unit","Q1","Q2","Q3","Q4","Year Total","%"]
["Household / Local Authority","tonnes",267913,258590.80000000019,252964.56000000023,236830.22,{"$f":"SUM(C8:F8)","v":1016298.5800000003},{"$f":"IF(G8>0,G8/$G$18,\"-\")","v":1}]
["Commercial & Industrial ",null,null,null,null,null,{"$f":"SUM(C9:F9)","v":0},"-",null,"*** - CHP plants only"]
["Hazardous ",null,null,null,null,null,0,"-",null,"**** Availability Definition: 'the availability of a line is to be calculated by the number of hours the line reported Continuously Monitored emission levels to the Regulator through the calendar year divided by the total number of hours in that year. \n\nThe overall plant availability is calculated as the Mean of all lines in the plant. For clarity this includes periods of abnormal operation.'  \n\nRationale: The primary function of an Energy from Waste facility is the disposal of waste. It follows therefore that the availability of a plant is determined by the period of time a facility spends undertaking this activity."]
["Clinical",null,null,null,null,null,0,"-"]
["Waste wood (biomass) ",null,null,null,null,null,0,"-"]
["Refuse Derived Fuel * - H'hold/LA",null,null,null,null,null,{"$f":"SUM(C13:F13)","v":0},"-"]
["Refuse Derived Fuel *  - C&I",null,null,null,null,null,0,"-"]
["Other [Please specify]",null,null,null,null,null,0,"-"]
["Other [Please specify]",null,null,null,null,null,0,"-"]
["Other [Please specify]",null,null,null,null,null,0,"-"]
["Total waste received",null,{"$f":"SUM(C8:C17)","v":267913},{"$f":"SUM(D8:D17)","v":258590.80000000019},{"$f":"SUM(E8:E17)","v":252964.56000000023},{"$f":"SUM(F8:F17)","v":236830.22},1016298.5800000003]
["Rejected Waste ",null,null,null,null,null,{"$f":"SUM(C19:F19)","v":0},{"$f":"IF(G19>0,G19/$G$18,\"-\")","v":"-"}]
["Unprocessed waste transferred out",null,null,null,null,null,{"$f":"SUM(C20:F20)","v":0},{"$f":"IF(G20>0,G20/$G$18,\"-\")","v":"-"}]
["Total waste combusted **",null,254079.66999999998,253781.98,248962.19999999995,234400.46000000002,{"$f":"SUM(C21:F21)","v":991224.31}]
[null,null,null,null,null,null,null,null,null,"Password for protected cells\nA password has been set to prevent accidental  editing of cells with formulae. \nIf you still need to make an edit for some reason then the password = 1234"]
["Energy Usage / Export","Unit","Q1","Q2","Q3","Q4","Year Total","KWh/te"]
["Power Generated","MWh",179224.54,176083.63,180457.47,157243.9,{"$f":"SUM(C24:F24)","v":693009.54},{"$f":"IF(G24>0,G24*1000/$G$21,\"-\")","v":699.14501996021465}]
["Power Exported",null,158341.57,154873.35,158559.71,138047.13,{"$f":"SUM(C25:F25)","v":609821.76},{"$f":"IF(G25>0,G25*1000/$G$21,\"-\")","v":615.22074655332051}]
["Power Used on site",null,{"$f":"C24-C25","v":20882.97},21221.429,21920,19969.708999999999,{"$f":"SUM(C26:F26)","v":83994.108000000007},{"$f":"IF(G26>0,G26*1000/$G$21,\"-\")","v":84.737740138758298}]
["Power Imported",null,0,{"$f":"11149/1000","v":11.148999999999999},21.919,{"$f":"(78732+694207)/1000","v":772.93899999999996},806.00699999999995,{"$f":"IF(G27>0,G27*1000/$G$21,\"-\")","v":0.81314288992770967}]
["Parasitic Load","%",{"$f":"IF(C24>0,1-C25/(C24+C27),\"-\")","v":0.11651847453479303},{"$f":"IF(D24>0,1-D25/(D24+D27),\"-\")","v":0.1205114036913042},{"$f":"IF(E24>0,1-E25/(E24+E27),\"-\")","v":0.12145253328622474},{"$f":"IF(F24>0,1-F25/(F24+F27),\"-\")","v":0.12637709453231116},{"$f":"IF(G24>0,1-G25/(G24+G27),\"-\")","v":0.1210606873299136}]
["Thermal Energy Produced ***","MWh",null,null,null,null,{"$f":"SUM(C29:F29)","v":0},{"$f":"IF(G29>0,G29*1000/$G$21,\"-\")","v":"-"}]
["Thermal Energy Exported ***",null,119009.10879071089,109574.15614950479,78977.551743490854,89631.86769318681,397192.68437689333,{"$f":"IF(G30>0,G30*1000/$G$21,\"-\")","v":400.70918395543924}]
["R1 value (if applicable)","R1"]
[]
["Waste Disposal & Recovery","Unit","Q1","Q2","Q3","Q4","Year Total","% inputs"]
["APC Residues - produced","tonnes",9042.52,7738.3399999999992,7943.88,6949,{"$f":"SUM(C34:F34)","v":31673.74},{"$f":"IF(G34>0,G34/$G$21,\"-\")","v":3.1954159800620711E-2}]
["IBA - produced",null,50202.74,52088.050000000039,51564.719999999994,44402,198257.51000000004,{"$f":"IF(G35>0,G35/$G$21,\"-\")","v":0.20001275997760792}]
["Metals recycling",null,null,null,null,null,{"$f":"SUM(C36:F36)","v":0},"-"]
["Other",null,0,0,0,0,{"$f":"SUM(C37:F37)","v":0},"-"]
["Other",null,0,0,0,0,0,"-"]
["Other",null,0,0,0,0,0,"-"]
[]
["Raw Material Usage","Unit","Q1","Q2","Q3","Q4","Year Total","kg or Ltr /te"]
["Mains Water","ltrs",204761000,157720000,116939000,132074000,{"$f":"SUM(C42:F42)","v":611494000},{"$f":"IF(G42>0,G42/$G$21,\"-\")","v":616.90779153711435}]
["Other Water","ltrs",486677410.39999998,510095695.80000007,570945000,435555646.99999994,2003273753.2,{"$f":"IF(G43>0,G43/$G$21,\"-\")","v":2021.0095061126981}]
["Ammonia","kgs",551380,473530,497880,447580,1970370,1.9878144433322058]
["Urea","kgs",null,null,null,null,{"$f":"SUM(C45:F45)","v":0},"-"]
["Activated Carbon","kgs",54318.87999999999,55209.999999999993,59000,76170.87000000001,244699.75,0.24686617098807837]
["Lime / hydrated lime","kgs",4941580,4026360,3998000,3731120,16697060,16.844885493173589]
["Fuel oil","ltrs",null,null,null,null,0,"-"]
["Gas","cuf",42974.39544807966,56716.92745376956,63576.813655761027,198026.31578947371,361294.45234708395]
["Other",null,null,null,null,null,0]
[]
["Summary ","Line/Unit","Q1","Q2","Q3","Q4","Year Total",null,"Hrs in year "]
["Availability of waste combustion by line, hrs ****",1,2128,2181,2053,2030.5,{"$f":"SUM(C53:F53)","v":8392.5},{"$f":"+G53/$I$53","v":0.95804794520547942},8760,"Change this figure to 8784 in a leap year"]
[null,2,2166,2011,2166,2080.5,8423.5,{"$f":"+G54/$I$53","v":0.96158675799086757}]
[null,3,2134,1987,1956,1822,7899,0.90171232876712326]
[null,4,2068,2181,2165,1868,8282,0.94543378995433791]
[null,5,null,null,null,null,{"$f":"SUM(C57:F57)","v":0},0]
["Overall Availability, mean avg. of all lines, hrs",null,{"$f":"AVERAGE(C53:C56)","v":2124},{"$f":"AVERAGE(D53:D56)","v":2090},{"$f":"AVERAGE(E53:E56)","v":2085},{"$f":"AVERAGE(F53:F56)","v":1950.25},{"$f":"AVERAGE(G53:G56)","v":8249.25},0.94169520547945207]
["Hours of turbine operations, hrs",1,2184,2181,2208,2180,8753,0.9992009132420091]
["Hours of turbine operations, hrs",2,2184,2184,2202,1831,8401,0.9590182648401826]
["Hours of heat / steam export",null,2184,2184,2208,2208,8784,{"$f":"IF(B61>0,G60/I53,\"n/a\")","v":"n/a"}]
["Net Calorific Value of waste","MJ/kg",11.07,10.785,11.06,10.57]
["Abnormal Events","qty.",null,null,null,null,0,{"$f":"IF(G63>0,\"yes\",\"no\")","v":"no"}]
["Abnormal operation","hours",null,null,null,null,0,{"$f":"+(G64)/I53","v":0}]
["Permit Breaches","qty.",5,6,2,2,15,{"$f":"IF(G65>0,\"yes\",\"no\")","v":"yes"}]

{"sheet":"Operational Summary","index":4,"n_rows":69,"n_cols":11,"rows_kept":69,"cut":false,"hidden":false,"merged":[[69,1,69,8],[54,10,64,13],[63,1,63,8],[59,1,59,8],[55,1,55,8],[56,1,56,8],[57,1,57,8],[58,1,58,8],[68,1,68,8],[64,1,64,8],[66,1,66,8],[67,1,67,8],[60,1,60,8],[61,1,61,8],[62,1,62,8],[4,0,26,8],[30,0,51,8],[4,10,13,13],[30,10,39,13],[54,1,54,8],[53,1,53,8]]}
[{"$f":"+'Cover Page'!$B$29","v":"Annual Performance Report 2024"},null,null,null,{"$f":"+'Cover Page'!$B$33","v":"Runcorn Energy From Waste Facility "}]
[]
["Summary of Plant Operations and Maintenance during the reporting year",null,null,null,null,null,null,null,null,null,"Notes:"]
[]
["During the year of 2024 the site facility accepted 1,016,299 tonnes of waste from municipal sources and processed 991.224 tonnes of waste. The facility generated 693,010 MW of electricity, exporting 609,822 MW while generating 397,193 tonnes in the form of steam for use within the connected Inovyn works.\n\nOverall availability for the whole of 2024 was 94.2% acorss the 4 lines.",null,null,null,null,null,null,null,null,null,"Include summary of key operational and/or maintenance activity undertaken in the year, such as any major component upgrades and/or replacements "]
[]
[]
[]
[]
[]
[]
[]
[]
[]
[]
[]
[]
[]
[]
[]
[]
[]
[]
[]
[]
[]
[]
[]
["Summary of Residue Handling for the reporting year"]
[]
["All IBA has been assessed as non hazardous.",null,null,null,null,null,null,null,null,null,"Include in here a summary of residue handling regimes and destinations "]
[]
[]
[]
[]
[]
[]
[]
[]
[]
[]
[]
[]
[]
[]
[]
[]
[]
[]
[]
[]
[]
[]
[{"$f":"+'Cover Page'!C39","v":2024},"Plant shut-downs"]
["Date","Reason for shut-down",null,null,null,null,null,null,null,null,"Provide a very brief reason for plant shut-down e.g. \"Shut-down prior to major outage\"; \"Emergency shut-down due to boiler tube leak\"\n\nThere is no need to include periods of hot-standby here (e.g. to clear feed chute hopper blockages).\n\nFor clinical waste incinerators which require regular shut-downs for boiler cleaning, there is no need to record these here. "]
["2024-02-15","Boiler tube leak - Line 4"]
["2024-03-05","Superheater drain repair - Line 1"]
["2024-03-28","Boiler tube leak - Line 3"]
["2024-04-07","Boiler tube leak - Line 2"]
["2024-04-21","Boiler tube leak - Line 2"]
["2024-05-20","Boiler tube leak - Line 2"]
["2024-05-08","Boiler tube leak - Line 3"]
["2024-05-21","Boiler tube leak - Line 3"]
["2024-07-06","Superheater drain repair - Line 1"]
["2024-09-05","Ash crane issues - Line 4"]
["2024-10-03","Planned outage - Line 4"]
["2024-10-19","Boiler tube leak - Line 2"]
["2024-11-04","Superheater repair - Line 1"]
["2024-11-08","Blocked ash extractor - Line 2"]

{"sheet":"Perf. Form 1","index":5,"n_rows":54,"n_cols":10,"rows_kept":54,"cut":false,"hidden":false,"merged":[[47,0,47,1],[49,0,49,9],[50,0,51,9],[38,0,38,9],[39,0,40,9],[43,0,43,1],[43,2,43,9],[45,0,45,1],[46,0,46,1],[36,0,36,3],[36,4,36,5],[36,7,36,8],[37,0,37,3],[37,4,37,5],[37,7,37,8],[34,0,34,3],[34,4,34,5],[34,7,34,8],[35,0,35,3],[35,4,35,5],[35,7,35,8],[31,0,31,3],[31,7,31,8],[32,0,32,3],[32,4,32,5],[32,7,32,8],[33,0,33,3],[33,4,33,5],[33,7,33,8],[23,0,23,3],[23,4,23,5],[23,6,23,7],[23,8,23,9],[25,0,25,9],[26,0,28,9],[21,0,21,1],[21,2,21,3],[21,4,21,5],[21,6,21,7],[21,8,21,9],[22,0,22,3],[22,4,22,5],[22,6,22,7],[22,8,22,9],[19,0,19,1],[19,2,19,3],[19,4,19,5],[19,6,19,7],[19,8,19,9],[20,0,20,1],[20,2,20,3],[20,4,20,5],[20,6,20,7],[20,8,20,9],[17,0,17,1],[17,2,17,3],[17,4,17,5],[17,6,17,7],[17,8,17,9],[18,0,18,1],[18,2,18,3],[18,4,18,5],[18,6,18,7],[18,8,18,9],[15,0,15,1],[15,2,15,3],[15,4,15,5],[15,6,15,7],[15,8,15,9],[16,0,16,9],[13,0,13,1],[13,2,13,3],[13,4,13,5],[13,6,13,7],[13,8,13,9],[14,0,14,3],[14,4,14,5],[14,6,14,7],[14,8,14,9],[11,0,11,1],[11,2,11,3],[11,4,11,5],[11,6,11,7],[11,8,11,9],[12,0,12,1],[12,2,12,3],[12,4,12,5],[12,6,12,7],[12,8,12,9],[9,0,9,9],[10,0,10,1],[10,2,10,3],[10,4,10,5],[10,6,10,7],[10,8,10,9],[2,0,2,4],[2,6,2,8],[3,1,3,4],[5,3,5,4],[5,6,5,7],[8,0,8,1],[8,2,8,3],[8,4,8,5],[8,6,8,7],[8,8,8,9]]}
[{"$f":"+'Cover Page'!C39","v":2024}," Annual Reporting Performance Form 1"]
[]
[{"$f":"+'Cover Page'!B31","v":"Permit EPR/XP3005LB"},null,null,null,null,"Operator: ",{"$f":"+'Cover Page'!B37","v":"Viridor Energy Limited"}]
["Facility:",{"$f":"+'Cover Page'!B33:I33","v":"Runcorn Energy From Waste Facility "},null,null,null,"Form:","Performance 1"]
[]
["Reporting  Period from: ",null,null,"2024-01-01",null,"to:","2024-12-31"]
[]
[{"$f":"+A1","v":2024},"Annual Reporting of Waste Disposal and Recovery"]
["Waste Description",null,"Disposal Route(s)",null,"Disposal Tonnes",null,"Recovery Tonnes",null,"% / tonne of waste incinerated"]
["1) Hazardous Wastes"]
["APC Residues",null,null,null,null,null,{"$f":"'Operational Data'!G34","v":31673.74},null,{"$f":"IF((E11+G11)>0,(E11+G11)/'Operational Data'!$G$21, \"-\")","v":3.1954159800620711E-2}]
["IBA",null,null,null,null,null,null,null,{"$f":"IF((E12+G12)>0,(E12+G12)/'Operational Data'!$G$21, \"-\")","v":"-"}]
[null,null,null,null,null,null,null,null,{"$f":"IF((E13+G13)>0,(E13+G13)/'Operational Data'!$G$21, \"-\")","v":"-"}]
[null,null,null,null,null,null,null,null,{"$f":"IF((E14+G14)>0,(E14+G14)/'Operational Data'!$G$21, \"-\")","v":"-"}]
["Total Hazardous Waste",null,null,null,{"$f":"SUM(E11:F14)","v":0},null,{"$f":"SUM(G11:H14)","v":31673.74},null,{"$f":"IF((E15+G15)>0,(E15+G15)/'Operational Data'!$G$21, \"-\")","v":3.1954159800620711E-2}]
[]
["2) Non-Hazardous Wastes"]
["IBA",null,null,null,null,null,{"$f":"'Operational Data'!G35","v":198257.51000000004},null,{"$f":"IF((E18+G18)>0,(E18+G18)/'Operational Data'!$G$21, \"-\")","v":0.20001275997760792}]
["Ferrous Metal",null,null,null,null,null,null,null,{"$f":"IF((E19+G19)>0,(E19+G19)/'Operational Data'!$G$21, \"-\")","v":"-"}]
["Process Water",null,null,null,null,null,null,null,{"$f":"IF((E20+G20)>0,(E20+G20)/'Operational Data'!$G$21, \"-\")","v":"-"}]
[null,null,null,null,null,null,null,null,{"$f":"IF((E21+G21)>0,(E21+G21)/'Operational Data'!$G$21, \"-\")","v":"-"}]
[null,null,null,null,null,null,null,null,{"$f":"IF((E22+G22)>0,(E22+G22)/'Operational Data'!$G$21, \"-\")","v":"-"}]
["Total Non-Hazardous Waste",null,null,null,{"$f":"SUM(E18:F22)","v":0},null,{"$f":"SUM(G18:H22)","v":198257.51000000004},null,{"$f":"IF((E23+G23)>0,(E23+G23)/'Operational Data'!$G$21, \"-\")","v":0.20001275997760792}]
["TOTAL WASTE",null,null,null,{"$f":"+E23+E15","v":0},null,{"$f":"+G23+G15","v":229931.25000000003},null,{"$f":"IF((E24+G24)>0,(E24+G24)/'Operational Data'!$G$21, \"-\")","v":0.23196691977822861}]
[]
["Operator’s comments :"]
[]
[]
[]
[]
[{"$f":"+A1","v":2024},"Annual Reporting of Water and Other Raw Material Usage"]
["Raw Material",null,null,null,"Usage",null,"Unit","Specific Usage",null,"Unit"]
["Mains Water",null,null,null,{"$f":"+'Operational Data'!G42/1000","v":611494},null,"m3",{"$f":"IF(E33>0,E33/'Operational Data'!$G$21,\"-\")","v":0.61690779153711428},null,"m3/te"]
["Total Water",null,null,null,{"$f":"'[1]Operational Data'!$G$38+'[1]Operational Data'!$G$39","v":2047138106.2},null,"m3",{"$f":"IF(E34>0,E34/'Operational Data'!$G$21,\"-\")","v":2065.2622070982097},null,"m3/te"]
["Urea / Ammonia",null,null,null,{"$f":"+'Operational Data'!G44","v":1970370},null,"kg",{"$f":"IF(E35>0,E35/'Operational Data'!$G$21,\"-\")","v":1.9878144433322058},null,"kg/te"]
["Activated Carbon",null,null,null,{"$f":"+'Operational Data'!G46","v":244699.75},null,"kg",{"$f":"IF(E36>0,E36/'Operational Data'!$G$21,\"-\")","v":0.24686617098807837},null,"kg/te"]
["Lime / hydrated lime / Sodium Bicarb.",null,null,null,{"$f":"+'Operational Data'!G47","v":16697060},null,"kg",{"$f":"IF(E37>0,E37/'Operational Data'!$G$21,\"-\")","v":16.844885493173589},null,"kg/te"]
[]
["Operator’s comments :"]
[]
[]
[]
[{"$f":"+A31","v":2024},"Annual Reporting of other performance indicators "]
["Parameter",null,"Results by Line"]
[null,null,"A1","A2","A3","A4","A5",null,"Turbine 1","Turbine 2"]
["Operating hours for the year, hours",null,{"$f":"'Operational Data'!G53","v":8392.5},{"$f":"'Operational Data'!G54","v":8423.5},{"$f":"'Operational Data'!G55","v":7899},{"$f":"'Operational Data'!G56","v":8282},null,null,{"$f":"'Operational Data'!G59","v":8753},{"$f":"'Operational Data'!G60","v":8401}]
["Number of periods of abnormal operation, qty."]
["Cumulative hours of abnormal operation for this year, hours"]
[]
["Operator’s comments :"]
[]
[]
[]
["Signed: ",null,null,null,null,null,"Date:"]

{"sheet":"Energy Form 1","index":6,"n_rows":29,"n_cols":7,"rows_kept":29,"cut":false,"hidden":false,"merged":[[15,0,15,2],[15,3,15,4],[15,6,15,8],[17,0,17,8],[18,0,24,8],[13,0,13,2],[13,3,13,4],[13,6,13,8],[14,0,14,2],[14,3,14,4],[14,6,14,8],[11,0,11,2],[11,3,11,4],[11,6,11,8],[12,0,12,2],[12,3,12,4],[12,6,12,8],[9,0,9,2],[9,3,9,4],[9,6,9,8],[10,0,10,2],[10,3,10,4],[10,6,10,8],[2,6,2,8],[4,1,4,4],[6,3,6,4],[6,6,6,7],[8,0,8,2],[8,3,8,4],[8,6,8,8]]}
[{"$f":"+'Cover Page'!C39","v":2024}," Annual Reporting of Energy Usage/Export"]
[]
[{"$f":"+'Cover Page'!B31","v":"Permit EPR/XP3005LB"},null,null,null,null,"Operator: ",{"$f":"+'Cover Page'!B37","v":"Viridor Energy Limited"}]
[]
["Facility:",{"$f":"+'Cover Page'!B33:I33","v":"Runcorn Energy From Waste Facility "},null,null,null,"Form:","Energy 1"]
[]
["Reporting  Period from: ",null,null,{"$f":"+'Perf. Form 1'!D6:E6","v":"2024-01-01"},null,"to:",{"$f":"+'Perf. Form 1'!G6:H6","v":"2024-12-31"}]
[]
["Energy Source",null,null,"Energy Usage",null,"Unit","Specific Usage (KWh/tonne incinerated"]
["Electricity Produced",null,null,{"$f":"+'Operational Data'!G24","v":693009.54},null,"MWh",{"$f":"+'Operational Data'!H24","v":699.14501996021465}]
["Electricity Imported   ",null,null,{"$f":"+'Operational Data'!G27","v":806.00699999999995},null,"MWh",{"$f":"+'Operational Data'!H27","v":0.81314288992770967}]
["Electricity Exported",null,null,{"$f":"+'Operational Data'!G25","v":609821.76},null,"MWh",{"$f":"+'Operational Data'!H25","v":615.22074655332051}]
["Gas Oil",null,null,null,null,"tonnes"]
["Steam/hot water exported",null,null,{"$f":"+'Operational Data'!G30","v":397192.68437689333},null,"GWh",{"$f":"+'Operational Data'!H30","v":400.70918395543924}]
[]
[]
[]
["Operator’s comments :"]
[]
[]
[]
[]
[]
[]
[]
[]
[]
[]
["Signed: ",null,null,null,null,null,"Date:"]

{"sheet":"Permit Compliance","index":7,"n_rows":53,"n_cols":12,"rows_kept":53,"cut":false,"hidden":false,"merged":[[52,1,52,3],[52,4,52,6],[52,7,52,9],[50,1,50,3],[50,4,50,6],[50,7,50,9],[51,1,51,3],[51,4,51,6],[51,7,51,9],[48,1,48,3],[48,4,48,6],[48,7,48,9],[49,1,49,3],[49,4,49,6],[49,7,49,9],[46,1,46,3],[46,4,46,6],[46,7,46,9],[47,1,47,3],[47,4,47,6],[47,7,47,9],[24,1,24,2],[36,1,36,2],[37,0,37,8],[19,7,19,8],[19,1,19,2],[19,3,19,5],[21,3,21,5],[22,3,22,5],[23,3,23,5],[24,3,24,5],[36,3,36,5],[21,1,21,2],[27,1,27,2],[30,1,30,2],[34,1,34,2],[8,11,20,11],[39,0,39,10],[18,0,18,10],[44,1,44,3],[44,4,44,6],[44,7,44,9],[40,1,40,3],[40,4,40,6],[40,7,40,9],[41,1,41,3],[41,4,41,6],[41,7,41,9],[22,1,22,2],[23,1,23,2],[14,0,14,1],[14,2,14,4],[45,1,45,3],[45,4,45,6],[45,7,45,9],[42,1,42,3],[42,4,42,6],[42,7,42,9],[43,1,43,3],[43,4,43,6],[43,7,43,9],[14,5,14,8],[15,0,15,1],[16,2,16,4],[16,5,16,8],[15,2,15,4],[15,5,15,8],[16,0,16,1],[7,0,7,1],[7,2,7,8],[8,0,8,1],[8,2,8,4],[8,5,8,8],[9,0,9,1],[9,2,9,4],[9,5,9,8],[10,0,10,1],[10,2,10,4],[10,5,10,8],[13,0,13,1],[13,2,13,4],[13,5,13,8],[11,0,11,1],[11,2,11,4],[11,5,11,8],[12,0,12,1],[12,2,12,4],[12,5,12,8]]}
[{"$f":"+'Cover Page'!$B$29","v":"Annual Performance Report 2024"},null,null,null,{"$f":"+'Cover Page'!$B$33","v":"Runcorn Energy From Waste Facility "}]
[]
["Summary of Permit Compliance"]
[]
["Compliance with permit limits for continuously monitored pollutants"]
[]
["The plant met its emission limits as shown in the table below:"]
["Substance",null,"Percentage time compliant during operationNote 1",null,null,null,null,null,null,null,null,"Notes:"]
[null,null,"Half-hourly limit",null,null,"Daily limit",null,null,null,null,null,"Note 1: Please report to 2 decimal places, i.e. xx.xx%\n\nNote 2: Please enter into this table any permit non-compliances that the EA has given a CCS score for. Please also enter any other non-compliances which you have notified to the EA (e.g. ELV exceedances) but which have not yet been assessed by the EA. There is no need to enter any notifications which were subsequently assessed by the EA not to be permit breaches.  \n\nNote 3: Please enter information here (rather than just referencing the notifications that were sent to the EA) including where relevant the incineration line reference, pollutant and value of the measured result for any ELV exceedances.   \n\n"]
["Particulates",null,1,null,null,0.99990000000000001]
["Oxides of nitrogen",null,1,null,null,0.99990000000000001]
["Sulphur dioxide",null,0.99990000000000001,null,null,1]
["Carbon monoxide",null,"100.00 % 95% of 10-min averages\n",null,null,0.99990000000000001]
["Total organic carbon",null,0.99939999999999996,null,null,1]
["Hydrogen chloride",null,0.99990000000000001,null,null,1]
["Hydrogen fluoride",null,1,null,null,1]
[]
[]
["Summary of non-compliances under the permit Note 2"]
["Date","Summary of non-compliance Note 3",null,"Reason ",null,null,"Measures taken to prevent reoccurrence","CCS score if applicable*"]
[null,null,null,null,null,null,null,"Impact","Root cause"]
["2024-01-18","30-min TOC",null,"I.D. Fan trip",null,null,"As detailed in Part B"]
["2024-02-08","30-min TOC",null,"I.D. Fan trip",null,null,"As detailed in Part B"]
["2024-02-14","4 x 30-min TOC",null,"poor combustion conditions initially, then Cems prefilter issues.",null,null,"As detailed in Part B"]
["2024-03-18","30-min TOC",null,"Expolsion on the grate",null,null,"Increased vigilance on incoming waste"]
["2024-03-19","Daily Nox",null,"Abnormal operation issue with Ammonia delivery p/p's",null,null,"Considered as AO, but added for completeness until CAR received."]
["2024-05-03","30-min HCl",null,"Issue with lime dosing system during maintenance",null,null,"Only take 1 compartment oos at any one time"]
["2024-05-23","30-min TOC",null,"Online cleaning caused distruption in combustion conditions when access door opened. Boiler tripped on low pressure",null,null,"Operations to monitor boiler pressures during future cleaning."]
[null,"30-min SO2",null,"Online cleaning caused distruption in combustion conditions when access door opened. Boiler tripped on low pressure",null,null,"Operations to monitor boiler pressures during future cleaning."]
["2024-06-14","30-min HCl",null,"Sudden increase in raw gas HCl and system could not recover in Auto mode. Intervention by operator required.",null,null,"Communications to fuel supply team regarding PVC content of wastes. Operation to be vigilant is high raw gas HCl concentrations occur."]
["2024-07-30","30-min TOC",null,"Radio interference caused I.D. fan trip",null,null,"Now restriced area for radio use"]
["2024-07-30","Daily CO",null,"Predictive software issue",null,null,"Issue resolved, regular cross checks and full system survey"]
["2024-09-23","Daily CO",null,"Unaware of daily predictor score for CO",null,null,"Reduced load but could not recover the Day. Increased vigilance."]
["2024-10-17","Daily Particulates",null,"High moiture reading gave excessive multiplyer",null,null,"Not believed to be a true breach"]
["2024-11-02","30-min TOC",null,"Explosion on the grate",null,null,"Increased vigilance on incoming waste"]
["2024-11-20","30-min SO2",null,"Higher than usual raw gas HCl",null,null,"Manually intervene with lime dosing where required"]
[]
["*If the Environment Agency (EA) has given a Compliance Classification Scheme (CCS) score due to a permit non-compliance it should be entered here (CCS4 = No impact; CCS3 = Minor impact; CCS2 = Significant impact; CCS1 = Major impact). If the EA has not yet assessed a non-compliance which you have notified to them, these columns should be left blank. Enter N/A if no score was given for the root cause.  "]
[]
["Summary of any complaints received and actions to taken to resolve them."]
["Date","Summary of complaint [including Line/Reference]",null,null,"Reason (including whether substantiated by the operator or the EA)",null,null,"Measures taken to prevent reoccurrence"]
["2024-05-01","Odour complaint",null,null,"Unsubstantiated"]
["2024-05-17","Reports of litter in area",null,null,"Unknown source of litter"]
["2024-05-24","Odour complaint",null,null,"Unsubstantiated"]
["2024-05-31","Complaint of dust in area",null,null,"Unsubstantiated"]
["2024-06-30","Odour complaint",null,null,"Unsubstantiated"]
["2024-07-02","Odour complaint",null,null,"Unsubstantiated"]
["2024-09-03","Odour complaint",null,null,"Unsubstantiated"]
["2024-09-05","Odour complaint X 3",null,null,"Unsubstantiated"]
["2024-10-16","Complaint of noise",null,null,"Unsubstantiated"]
["2024-10-21","Odour complaint X 3",null,null,"Unsubstantiated"]
["2024-10-23","Odour complaint",null,null,"Unsubstantiated"]
["2024-12-17","Odour complaint",null,null,"Unsubstantiated"]

{"sheet":"Improvements","index":8,"n_rows":38,"n_cols":5,"rows_kept":38,"cut":false,"hidden":false,"merged":[[37,0,37,8],[38,0,47,8],[4,0,4,8],[5,0,13,8],[15,0,15,8],[16,0,24,8],[26,0,26,8],[27,0,35,8]]}
[{"$f":"+'Cover Page'!$B$29","v":"Annual Performance Report 2024"},null,null,null,{"$f":"+'Cover Page'!$B$33","v":"Runcorn Energy From Waste Facility "}]
[]
["Summary of Plant Improvements"]
[]
["Summary of any efficiency improvements that have been completed within the year."]
["MCR increase to Phase 2, post outage from 108% to 110%.   Both Phases have had replacement blades for the cooling towers which has resulted in reduced power consumption."]
[]
[]
[]
[]
[]
[]
[]
[]
[]
["Summary of any permit improvement conditions that have been completed within the year and the resulting environmental benefits."]
["NONE"]
[]
[]
[]
[]
[]
[]
[]
[]
[]
["Summary of any changes to the plant or operating techniques which required a variation to the permit and a summary of the resulting environmental impact."]
["NONE"]
[]
[]
[]
[]
[]
[]
[]
[]
[]
["Summary of any other improvements made to the plant or planned to be made and a summary of the resulting environmental benefits."]

{"sheet":"Public Liasion","index":9,"n_rows":29,"n_cols":5,"rows_kept":29,"cut":false,"hidden":false,"merged":[[12,2,13,9],[23,0,24,1],[23,2,24,8],[25,0,26,1],[25,2,26,8],[16,0,16,1],[16,2,16,8],[12,0,13,1],[15,0,15,8],[28,0,28,8],[17,0,18,1],[17,2,18,8],[19,0,20,1],[19,2,20,8],[21,0,22,1],[21,2,22,8],[5,0,5,1],[5,2,5,8],[6,0,7,1],[8,0,9,1],[10,0,11,1],[6,2,7,9],[8,2,9,9],[10,2,11,9]]}
[{"$f":"+'Cover Page'!$B$29","v":"Annual Performance Report 2024"},null,null,null,{"$f":"+'Cover Page'!$B$33","v":"Runcorn Energy From Waste Facility "}]
[]
["Details of Public & Stakeholder Liaison"]
[]
["Summary of events held during the reporting year."]
["Date",null,"Description"]
["2024-01-15",null,"Quarterly public liaison meeting"]
[]
["2024-04-15",null,"Quarterly public liaison meeting"]
[]
["2024-07-15",null,"Quarterly public liaison meeting"]
[]
["2024-10-11",null,"Quarterly public liaison meeting"]
[]
[]
["List of events planned for next year"]
["Date",null,"Description"]
["2025-01-27",null,"Quarterly public liaison meeting"]
[]
["2025-04-07",null,"Quarterly public liaison meeting"]
[]
["2025-07-28",null,"Quarterly public liaison meeting"]
[]
["2025-10-20",null,"Quarterly public liaison meeting"]
[]
[]
[]
[]
["If you wish to be involved in the public liaison programme, please contact _________________"]

{"sheet":"CO2 N2O","index":10,"n_rows":25,"n_cols":6,"rows_kept":25,"cut":false,"hidden":false,"merged":[[22,2,22,3],[25,1,25,3],[16,2,16,3],[4,0,4,3],[9,0,9,3],[17,0,17,3],[13,0,13,3],[12,0,12,1],[8,2,8,3],[11,2,11,3],[19,2,19,3]]}
[{"$f":"+'Cover Page'!$B$29","v":"Annual Performance Report 2024"},null,{"$f":"+'Cover Page'!$B$33","v":"Runcorn Energy From Waste Facility "}]
[]
["Carbon dioxide emissions and biogenic content of waste inputs",null,null,null,null,"Notes:"]
[]
["Carbon dioxide emissions (all types of plant)"]
[null,"Annual mass of carbon dioxide released","tonnes ",{"$f":"281079+267182+261043+275652","v":1084956}]
[null,"Annual mass of carbon dioxide released per tonne of waste burned","t CO2 / t waste ",{"$f":"D6/'Operational Data'!G21","v":1.0945615326968725}]
[null,"Annual mass of carbon dioxide released per MWh of energy exported","t CO2 / MWh export ",{"$f":"D6/'Operational Data'!G25","v":1.7791362512219964}]
[null,"Description of how annual carbon dioxide mass emission has been calculated. \nSee Note 1","CO2 CEMS installed on each line. Daily average concentrations and total flow used to calculate mass emissions",null,null,"Note 1: All permits require operators to continuously monitor CO2 to EN14181 and flow to BS EN 16911-2 (unless otherwise agreed in writing). Operators must therefore use the results from these instruments to calculate their annual CO2 emissions. Where an operator does not have a flow meter calibrated to BS EN 16911-2, the averaged flow measurement from that year's periodic monitoring can be used instead. If the plant does not have calibrated CO2 CEMS, a suitably justified emissions factor can be used."]
["Nitrous oxide emissions (only plants which use ammonia or urea to abate NOx emissions)"]
[null,"Annual mass emissions of nitrous oxide","tonnes N2O",{"$f":"0.5668+0.126+1.067+1.875","v":3.6347999999999998}]
[null,"Description of how annual nitrous oxide mass emission has been calculated\nSee Note 2","N2O CEMS installed on each line. Daily average concentrations and total flow used to calculate mass emissions",null,null,"Note 2: All permits require operators to continuously monitor N2O to EN14181 and flow to BS EN 16911-2, unless otherwise agreed in writing. Operators must therefore use the results from these instruments to calculate their annual N2O emissions. Where an operator does not have a flow meter calibrated to BS EN 16911-2, the averaged flow measurement from periodic monitoring can be used instead. If the plant does not have calibrated N2O CEMS, data from periodic monitoring or a suitably justified emissions factor can be used instead."]
["Total annual carbon dioxide + nitrous oxide emissions. \nSee Note 3. ",null,"tonnes CO2e",{"$f":"(D11*265)+D6","v":1085919.2220000001},null,"Note 3: Total annual carbon dioxide and nitrous oxide emissions reported as carbon dioxide equivalent where 1 tonne nitrous oxide is equivalent to 265 tonnes carbon dioxide."]
["Biogenic CO2 emissions (See Note 4)",null,null,null,null,"Note 4: Only plants combusting residual municipal waste, refuse derived fuel or solid recovered fuel need complete this section. "]
[null,"Percentage of total carbon dioxide emissions arising from biogenic waste","%",0.499]
[null,"No. of measurements undertaken","Number",18]
[null,"Description of how percentage biogenic carbon dioxide emissions have been measured or calculated.\nSee Note 5","C14 Cartridges replaced every 4 weeks and sent for analysis.",null,null,"Note 5: The results from C14 sampling should be used if this is carried out at the plant (either via an installed sampler or from spot samples).  \nOtherwise, as an approximation (and in lieu of any more accurate metrics which may be developed in future), the measured or estimated biogenic fraction by net calorific value (see Note 6) can be assumed to be the same as the biogenic CO2 fraction of the total CO2 emissions from the plant. "]
["Biogenic fraction of waste feedstock (See Note 4)"]
[null,"Yearly average biogenic percentage of the waste by net calorific value (NCV)","%",0.42299999999999999]
[null,"Description of how biogenic percentage (by NCV) has been calculated or estimated. \nSee Note 6","RDF sampling carried out annually for REGO accreditiation. Bogenic percentage calculated from net CV analysis.",null,null,"Note 6: If C14 sampling is carried out at the plant, the methodology set out in the embedded document entitled \"Renewable Energy Association Energy Content of Fuels - Description of Method\" embedded below can be used to calculate the biogenic percentage by net calorific value. Otherwise, data from waste sampling or BIOMA software can be used; or if none of these are available, an estimated figure with justification or a figure assumed on the basis of up-to-date industry data can be used. "]
[null,"Yearly average biogenic percentage of the waste by mass","%"]
[null,"If waste sampling undertaken, no. of samples used to ascertain average biogenic percentages above","Number",1]
[null,"Description of how biogenic percentage (by mass) has been calculated or estimated. \nSee Note 7",null,null,null,"Note 7: Where available, data from waste sampling should be used; otherwise, an estimated figure with justification can be used, or a figure assumed on the basis of up-to-date industry data. "]
[]
[null,"Comments:"]

{"sheet":"Residue Quality ","index":11,"n_rows":37,"n_cols":6,"rows_kept":37,"cut":false,"hidden":false,"merged":[[36,0,41,6],[32,3,32,4],[35,0,35,6],[27,0,28,1],[29,0,29,1],[30,0,30,1],[31,0,31,1],[32,0,32,1],[29,3,29,4],[30,3,30,4],[29,5,29,6],[30,5,30,6],[31,5,31,6],[32,5,32,6],[33,0,33,6],[20,0,21,1],[20,2,21,6],[22,0,23,1],[22,2,23,6],[31,3,31,4],[27,2,28,2],[28,3,28,4],[28,5,28,6],[27,3,27,6],[26,0,26,6],[5,0,6,6],[7,0,8,6],[9,0,10,6],[14,0,15,1],[14,2,15,6],[16,0,17,1],[16,2,17,6],[18,0,19,1],[18,2,19,6],[12,0,12,6],[13,0,13,1],[13,2,13,6]]}
[{"$f":"+'Cover Page'!$B$29","v":"Annual Performance Report 2024"},null,null,null,{"$f":"+'Cover Page'!$B$33","v":"Runcorn Energy From Waste Facility "}]
[]
["Residue Quality Monitoring Requirements"]
[]
["Summary of monitoring undertaken and compliance"]
["2 weekly sampling of IBA of each phase. Total 48 samples for year. No hazardous results as per ESA protocol."]
[]
["Quarterly sampling of APCr for each phase. Total of 8 samples for year."]
[]
["All residue analysis shows compliance with permit."]
[]
[]
["Commentary on any specific events"]
["Date & Event",null,"Description"]
[]
[]
[]
[]
[]
[]
[]
[]
[]
[]
[]
[]
["Residue Quality Monitoring Results"]
["Parameter (unit) ",null,"Limit*","Normal Operation "]
[null,null,null,"Bottom ash  ",null,"APC Residues"]
["Loss on Ignition (average %)",null,"<5%"]
["Total Organic Carbon (average %)",null,"<3%","<1"]
["No. of Assessments Undertaken",null,"---",48,null,8]
["No. of Hazardous Results",null,"---",0]
["* The permit will specify a limit of either 5% loss on ignition or 3% total organic carbon. If both are measured anyway, please enter the results here, even where the limit does not apply. "]
[]
["Comments :"]
["All 2 weekly IBA remained non-hazardous as per the ESA protocol throughout 2024."]

{"sheet":"Water","index":12,"n_rows":28,"n_cols":9,"rows_kept":28,"cut":false,"hidden":false,"merged":[[29,0,29,2],[29,3,29,4],[26,0,26,2],[26,3,26,4],[27,0,27,2],[27,3,27,4],[28,0,28,2],[28,3,28,4],[23,0,23,2],[23,3,23,4],[24,0,24,2],[24,3,24,4],[25,0,25,2],[25,3,25,4],[21,0,21,8],[22,0,22,2],[22,3,22,4],[14,0,15,1],[14,2,15,8],[16,0,17,1],[16,2,17,8],[18,0,19,1],[18,2,19,8],[5,0,6,8],[7,0,8,8],[9,0,10,8],[12,0,12,8],[13,0,13,1],[13,2,13,8]]}
[{"$f":"+'Cover Page'!$B$29","v":"Annual Performance Report 2024"},null,null,null,{"$f":"+'Cover Page'!$B$33","v":"Runcorn Energy From Waste Facility "}]
[]
["Emissions to Water"]
[]
["Summary of monitoring undertaken and compliance"]
["Weekly spot samples taken for emission point W1. No exceedances of permitted limits in 2024."]
[]
[]
[]
[]
[]
[]
["Commentary on any specific events"]
["Date & Event",null,"Description"]
[]
[]
[]
[]
[]
[]
[]
["Emissions to Water / Sewer"]
["Parameter",null,null,"Monitoring Frequency",null,"Limit","Target","Max.","Average"]
["Suspended Solids ",null,null,"Weekly, Spot (when flow present)",null,"150 mg/l","100 mg/l",148,23.3]
["pH",null,null,"Weekly, Spot (when flow present)",null,"4 - 11","5 – 9 ",10.1,7.8]
["Temperature ",null,null,"Weekly, Spot (when flow present)",null,"40 oC",null,36.9,26.6]
["Available Chlorine ",null,null,"Weekly, Spot (when flow present)",null,"20 mg/l","5 mg/l","<1","<1"]
["Oil&grease ",null,null,"Weekly, Spot (when flow present)",null,"None visible","None visible","None visible","None visible"]

{"sheet":"Air (periodic)","index":13,"n_rows":39,"n_cols":16,"rows_kept":39,"cut":false,"hidden":false,"merged":[[18,3,18,4],[13,3,13,4],[14,3,14,4],[15,3,15,4],[16,3,16,4],[17,3,17,4],[21,3,21,4],[22,3,22,4],[23,3,23,4],[24,3,24,4],[31,3,31,4],[25,3,25,4],[26,3,26,4],[28,3,28,4],[38,0,38,9],[19,0,19,1],[20,0,20,1],[21,0,21,1],[34,3,34,4],[35,3,35,4],[33,0,33,1],[34,0,34,1],[35,0,35,1],[36,0,36,1],[24,0,24,1],[32,3,32,4],[27,3,27,4],[33,3,33,4],[19,3,19,4],[20,3,20,4],[39,0,40,9],[25,0,25,1],[26,0,26,1],[22,0,22,1],[23,0,23,1],[37,0,37,1],[27,0,27,1],[28,0,28,1],[29,0,29,1],[30,0,30,1],[31,0,31,1],[32,0,32,1],[37,3,37,4],[29,3,29,4],[30,3,30,4],[36,3,36,4],[16,0,16,1],[17,0,17,1],[18,0,18,1],[13,0,13,1],[14,0,14,1],[15,0,15,1],[12,0,12,1],[11,3,11,4],[12,3,12,4],[9,0,10,1],[9,3,10,4],[9,2,10,2],[9,5,9,8],[9,9,9,12],[5,15,8,18],[9,15,11,18],[8,0,8,9],[5,0,6,9],[11,0,11,1]]}
[{"$f":"+'Cover Page'!$B$29","v":"Annual Performance Report 2024"},null,null,null,{"$f":"+'Cover Page'!$B$33","v":"Runcorn Energy From Waste Facility "}]
[]
["Emissions to Air (periodically monitored)"]
[]
["Summary of monitoring undertaken, standards used and compliance",null,null,null,null,null,null,null,null,null,null,null,null,null,null,"Notes:"]
[null,null,null,null,null,null,null,null,null,null,null,null,null,null,null,"Template may require adjustment for any bespoke monitoring requirements of permit - please also check that all default ELV values, reference periods and the stated oxygen reference value match those for your plant, and edit if necessary!"]
[]
[]
["Results of emissions to air that are periodically monitored - oxygen reference 11% "]
["Substance",null,"Ref. Period","Emission Limit Value",null,"Biannual 1",null,null,null,"Biannual 2",null,null,null,null,null,"User to add additional tables as necessary, depending on whether quarterly or bi-annual reporting is required for the compliance year"]
[null,null,null,null,null,"A1","A2","A3","A4","A1","A2","A3","A4"]
["Hydrogen fluoride",null,"1 hr","1 mg/m3",null,0.06,0.05,0.14000000000000001,7.0000000000000007E-2,7.0000000000000007E-2,0.14000000000000001,0.1,0.12]
["Cd and Tl and their compounds",null,"0.5-8hrs","0.02 mg/m3",null,1.1000000000000001E-3,2.0999999999999999E-3,1.1000000000000001E-3,1.1999999999999999E-3,1E-3,1E-3,1E-3,1E-3]
["Hg and its compounds",null,"0.5-8hrs","0.02 mg/m3",null,7.1999999999999998E-3,1.1999999999999999E-3,0.06,4.3E-3,8.0000000000000002E-3,7.0000000000000001E-3,"TBC",6.0000000000000001E-3]
["Sb, As, Pb, Cr, Co, Cu, Mn, Ni, V and their compounds",null,"0.5-8hrs","0.3 mg/m3",null,4.3999999999999997E-2,8.8999999999999996E-2,8.9999999999999993E-3,0.18,0.02,0.02,0.01,0.01]
["Dioxins & Furans (I-TEQ)",null,"6-8hrs","0.06 ng/m3",null,1.3899999999999999E-2,8.6999999999999994E-3,8.9999999999999993E-3,7.7000000000000002E-3,0.01,3.0000000000000001E-3,0.01,0.02]
["PCBs (WHO-TEQ Humans / Mammals)",null,"6-8hrs","None set ng/m3",null,1.6999999999999999E-3,1E-3,1E-3,8.5999999999999998E-4,1E-3,4.0000000000000002E-4,1E-3,3.0000000000000001E-3]
["PCBs (WHO-TEQ Fish)",null,"6-8hrs","None set ng/m3",null,1E-4,4.8000000000000001E-5,4.3999999999999999E-5,3.8000000000000002E-5,1E-4,3.0000000000000001E-5,4.0000000000000003E-5,1E-4]
["PCBs (WHO-TEQ Birds)",null,"6-8hrs","None set ng/m3",null,3.5000000000000001E-3,2.7000000000000001E-3,2E-3,1.6999999999999999E-3,0.01,2E-3,2E-3,5.0000000000000001E-3]
["Dioxins & Furans (WHO-TEQ Humans / Mammals)",null,"6-8hrs","None set ng/m3",null,1.6999999999999999E-3,1E-3,7.3000000000000001E-3,6.4000000000000003E-3,0.01,4.0000000000000002E-4,5.0000000000000001E-3,0.02]
["Dioxins & Furans (WHO-TEQ Fish)",null,"6-8hrs","None set ng/m3",null,1E-4,8.6999999999999994E-3,8.3999999999999995E-3,7.4000000000000003E-3,0.01,3.0000000000000001E-5,5.0000000000000001E-3,0.02]
["Dioxins & Furans (WHO-TEQ Birds)",null,"6-8hrs","None set ng/m3",null,3.5000000000000001E-3,1.52E-2,1.6299999999999999E-2,1.41E-2,0.01,2E-3,0.01,0.03]
["Anthanthrene",null,"6-8hrs","None set µg/m3",null,"< 0.0017","< 0.0018","< 0.0015","< 0.0013"]
["Benzo(a)anthracene",null,"6-8hrs","None set µg/m3",null,0,0,0,0]
["Benzo(a)pyrene",null,"6-8hrs","None set µg/m3",null,"< 0.0017","< 0.0018","< 0.0015",0]
["Benzo(b)fluoranthene",null,"6-8hrs","None set µg/m3",null,"< 0.0017",0,0,0.01]
["Benzo(b)naptho(2,1-d) thiophene",null,"6-8hrs","None set µg/m3",null,0,0,0,0]
["Benzo(c)phenanthrene",null,"6-8hrs","None set µg/m3",null,0,0,"< 0.0015","< 0.0013"]
["Benzo(ghi)perylene",null,"6-8hrs","None set µg/m3",null,0,0,"< 0.0015",0]
["Benzo(k)fluoranthene",null,"6-8hrs","None set µg/m3",null,"< 0.0017",0,"< 0.0015",0]
["Cholanthrene",null,"6-8hrs","None set µg/m3",null,"< 0.0017","< 0.0018","< 0.0015","< 0.0013"]
["Chrysene",null,"6-8hrs","None set µg/m3",null,0.01,0.01,0,0.01]
["Cyclopenta(cd)pyrene",null,"6-8hrs","None set µg/m3",null,"< 0.0017","< 0.0018","< 0.0015","< 0.0013"]
["Dibenzo(ai)pyrene",null,"6-8hrs","None set µg/m3",null,"< 0.0017","< 0.0018","< 0.0015","< 0.0013"]
["Dibenzo(ah)anthracene",null,"6-8hrs","None set µg/m3",null,"< 0.0017","< 0.0018","< 0.0015","< 0.0013"]
["Fluoranthene",null,"6-8hrs","None set µg/m3",null,0.11,0.08,0.05,0.06]
["Indeno(123-cd) pyrene",null,"6-8hrs","None set µg/m3",null,"< 0.0017","< 0.0018","< 0.0015",0]
["Naphthalene",null,"6-8hrs","None set µg/m3",null,0.15,0.23,0.34,0.1]
["Comments :"]

{"sheet":"Air (CEMS)","index":14,"n_rows":28,"n_cols":14,"rows_kept":28,"cut":false,"hidden":false,"merged":[[28,0,29,12],[13,0,14,0],[5,0,6,12],[7,0,8,12],[10,0,10,12],[11,0,12,0],[11,2,12,2],[11,1,12,1],[11,3,11,4],[11,5,11,6],[11,7,11,8],[11,9,11,10],[11,11,11,12],[14,13,15,13],[14,14,15,14],[14,15,15,15],[12,13,13,15],[26,0,26,12]]}
[{"$f":"+'Cover Page'!$B$29","v":"Annual Performance Report 2024"},null,null,null,null,null,null,null,{"$f":"+'Cover Page'!$B$33","v":"Runcorn Energy From Waste Facility "}]
[]
["Emissions to Air (continuously monitored)"]
[null,null,null,null,null,null,null,null,null,null,null,null,null,"Notes:"]
["Summary of monitoring undertaken, standards used and compliance",null,null,null,null,null,null,null,null,null,null,null,null,"Template may require adjustment for any bespoke monitoring requirements of permit"]
[null,null,null,null,null,null,null,null,null,null,null,null,null,"Please check that all default ELV values match those for your plant and edit if necessary!"]
[null,null,null,null,null,null,null,null,null,null,null,null,null,"Report to 1 decimal place"]
[]
[]
[]
["Results of emissions to air that are continuously monitored (maximum and average values for each line) - oxygen reference 11%"]
["Substance","Reference Period","Emission Limit Value","A1",null,"A2",null,"A3",null,"A4",null,"A5"]
[null,null,null,"Max.","Avg.","Max.","Avg.","Max.","Avg.","Max.","Avg.","Max.","Avg."]
["Oxides of nitrogen","Daily mean","180 mg/m3 ",{"$f":"NOx!O19","v":170.070663},{"$f":"NOx!N19","v":164.83432270304951},{"$f":"NOx!O34","v":168.84527600000001},{"$f":"NOx!N34","v":163.99123906018383},{"$f":"NOx!O49","v":181.4},{"$f":"NOx!N49","v":168.42916642633941},{"$f":"NOx!O64","v":177.11862199999999},{"$f":"NOx!N64","v":170.15279139542335}]
[null,"½ hourly mean","400 mg/m3 ",{"$f":"NOx!M19","v":331.55514499999998},{"$f":"NOx!L19","v":164.3990663701889},{"$f":"NOx!M34","v":276.070404},{"$f":"NOx!L34","v":163.00045101266002},{"$f":"NOx!M49","v":289.39999999999998},{"$f":"NOx!L49","v":168.0725010796136},{"$f":"NOx!M64","v":300.74642899999998},{"$f":"NOx!L64","v":169.89751122921714}]
["Particulates","Daily mean","5 mg/m3",{"$f":"Particulates!O19","v":1.660582},{"$f":"Particulates!N19","v":0.56805257742272353},{"$f":"Particulates!O34","v":603.97},{"$f":"Particulates!N34","v":3.2328389695321609},{"$f":"Particulates!O49","v":2.37},{"$f":"Particulates!N49","v":0.62296688662233046},{"$f":"Particulates!O64","v":3.0181580000000001},{"$f":"Particulates!N64","v":0.65456142865961209}]
[null,"½ hourly mean","30 mg/m3 ",{"$f":"Particulates!M19","v":11.2},{"$f":"Particulates!L19","v":0.57777797934222463},{"$f":"Particulates!M34","v":28952.95},{"$f":"Particulates!L34","v":3.1792718142754133},{"$f":"Particulates!M49","v":10.07},{"$f":"Particulates!L49","v":0.63189254743385037},{"$f":"Particulates!M64","v":11.168981},{"$f":"Particulates!L64","v":0.65510791972157267},null,null,"*Moisture analyser giving untrue muliplyer to low dust reading. Believed to be a false reading"]
["Total Organic Carbon ","Daily mean","10 mg/m3 ",{"$f":"TOC!O19","v":1.337704},{"$f":"TOC!N19","v":2.2251995447142753E-2},{"$f":"TOC!O34","v":0.46},{"$f":"TOC!N34","v":3.1503551292268978E-2},{"$f":"TOC!O49","v":4.181934},{"$f":"TOC!N49","v":6.436881458610251E-2},{"$f":"TOC!O64","v":0.83},{"$f":"TOC!N64","v":0.28415808017195765}]
[null,"½ hourly mean","20 mg/m3 ",{"$f":"TOC!M19","v":62.441113000000001},{"$f":"TOC!L19","v":2.4253693683730444E-2},{"$f":"TOC!M34","v":13.42},{"$f":"TOC!L34","v":3.3037959370960553E-2},{"$f":"TOC!M49","v":39.575066},{"$f":"TOC!L49","v":7.1397002015451558E-2},{"$f":"TOC!M64","v":11.047765999999999},{"$f":"TOC!L64","v":0.28270984080044065}]
["Hydrogen chloride ","Daily mean","8 mg/m3 ",{"$f":"HCl!O19","v":7.326759},{"$f":"HCl!N19","v":4.4137239384803477},{"$f":"HCl!O34","v":5.8579759999999998},{"$f":"HCl!N34","v":2.9712010773960613},{"$f":"HCl!O49","v":6.0764230000000001},{"$f":"HCl!N49","v":2.2995753008387014},{"$f":"HCl!O64","v":6.065207},{"$f":"HCl!N64","v":1.2040422572486773}]
[null,"½ hourly mean","60 mg/m3 ",{"$f":"HCl!M19","v":47.812973},{"$f":"HCl!L19","v":4.2116751868606288},{"$f":"HCl!M34","v":107.65625},{"$f":"HCl!L34","v":2.940338841205461},{"$f":"HCl!M49","v":49.77},{"$f":"HCl!L49","v":2.3035490550940843},{"$f":"HCl!M64","v":38.780548000000003},{"$f":"HCl!L64","v":1.1998951100932591}]
["Sulphur dioxide","Daily mean","40 mg/m3 ",{"$f":"'SO2'!O19","v":35.253726999999998},{"$f":"'SO2'!N19","v":23.386435795739683},{"$f":"'SO2'!O34","v":28.491811999999999},{"$f":"'SO2'!N34","v":10.928810918521739},{"$f":"'SO2'!O49","v":36.010834000000003},{"$f":"'SO2'!N49","v":19.839924220381324},{"$f":"'SO2'!O64","v":33.119999999999997},{"$f":"'SO2'!N64","v":23.561264733051143}]
[null,"½ hourly mean","200 mg/m3 ",{"$f":"'SO2'!M19","v":201.487381},{"$f":"'SO2'!L19","v":22.843681385135337},{"$f":"'SO2'!M34","v":168.05845600000001},{"$f":"'SO2'!L34","v":10.831998390534173},{"$f":"'SO2'!M49","v":236.88},{"$f":"'SO2'!L49","v":20.889097322665883},{"$f":"'SO2'!M64","v":148.82682800000001},{"$f":"'SO2'!L64","v":21.806429492262264}]
["Carbon monoxide ","Daily mean","50 mg/m3 ",{"$f":"'CO 95% 10 min'!Q22","v":71.192284000000001},{"$f":"'CO 95% 10 min'!P22","v":3.3516599101485411},{"$f":"'CO 95% 10 min'!Q37","v":60.54},{"$f":"'CO 95% 10 min'!P37","v":1.0713619388653963},{"$f":"'CO 95% 10 min'!Q52","v":57.113258000000002},{"$f":"'CO 95% 10 min'!P52","v":3.1290009491842077},{"$f":"'CO 95% 10 min'!Q67","v":71.517432999999997},{"$f":"'CO 95% 10 min'!P67","v":3.0399194791892974}]
[null,"95%ile 10-min avg *","150 mg/m3 *",{"$f":"'CO 95% 10 min'!M22","v":1329.95},{"$f":"'CO 95% 10 min'!N22","v":8.419584363004569},{"$f":"'CO 95% 10 min'!M37","v":475.29},{"$f":"'CO 95% 10 min'!N37","v":5.4652893063881001},{"$f":"'CO 95% 10 min'!M52","v":1597.0454709999999},{"$f":"'CO 95% 10 min'!N52","v":5.1714739957135514},{"$f":"'CO 95% 10 min'!M67","v":1114.1300000000001},{"$f":"'CO 95% 10 min'!N67","v":5.8261981088055848}]
[" Ammonia","Daily mean","15 mg/m3 ",{"$f":"'NH3'!O19","v":2.0950250000000001},{"$f":"'NH3'!N19","v":0.13879092872250079},{"$f":"'NH3'!O34","v":2.2875260000000002},{"$f":"'NH3'!N34","v":0.27187274326169658},{"$f":"'NH3'!O49","v":1.01},{"$f":"'NH3'!N49","v":0.35445078645939271},{"$f":"'NH3'!O64","v":1.8576680000000001},{"$f":"'NH3'!N64","v":0.14460714009700179}]
[]
["Comments :"]

{"sheet":"HCl","index":15,"n_rows":79,"n_cols":17,"rows_kept":79,"cut":false,"hidden":false,"merged":[[12,16,15,18],[51,9,63,9],[66,9,78,9],[4,9,4,14],[4,1,4,3],[4,4,4,6],[48,0,51,6],[47,0,47,6],[6,9,18,9],[21,9,33,9],[36,9,48,9],[3,16,7,18],[9,16,11,18],[18,4,18,6]]}
[{"$f":"+'Cover Page'!$B$29","v":"Annual Performance Report 2024"},null,null,null,{"$f":"+'Cover Page'!$B$33","v":"Runcorn Energy From Waste Facility "}]
[]
["Monitoring of Hydrogen Chloride emissions",null,null,"Whole Installation",null,null,"See  Notes in Cell Q3",null,null,{"$f":"+A3","v":"Monitoring of Hydrogen Chloride emissions"},null,null,null,"Per Combustion Line",null,null,"Notes:"]
[null,null,null,null,null,null,null,null,null,null,null,null,null,null,null,null,"User to add logic to complete Whole installation, Table A5:G18. From the data in Per Combustion Line, Table J6:O79, subject to No. of lines installed"]
[{"$f":"+'Cover Page'!C39","v":2024},"1/2 Hourly Reference Periods",null,null,"Daily Reference Periods"]
["mg/Nm3","1/2 hourly HCl ELV","Monthly mean of half-hourly averages","Highest half- hourly average","Daily HCl ELV","Monthly mean of  daily averages","Highest daily average",null,null,{"$f":"+A5","v":2024},"mg/Nm3","Monthly mean of half-hourly averages","Highest half- hourly average","Monthly mean of  daily averages","Highest daily average"]
["Jan",60,{"$f":"AVERAGE(L7,L22,L37,L52)","v":3.2386984803060201},{"$f":"MAX(M7,M22,M37,M52)","v":38.780548000000003},8,{"$f":"AVERAGE(N7,N22,N37,N52)","v":3.2550171385211697},{"$f":"MAX(O7,O22,O37,O52)","v":6.065207},null,null,"A1","Jan",4.7227574769736798,14.098693000000001,4.7227574210526297,5.5498500000000002]
["Feb",60,3.4938392477609179,47.812973,8,{"$f":"AVERAGE(N8,N23,N38,N53)","v":3.486315368527185},{"$f":"MAX(O8,O23,O38,O53)","v":7.326759},null,null,null,"Feb",5.03318216181954,47.812973,5.0336918928571404,7.326759]
["Mar",60,2.5200353098750776,17.340447999999999,8,{"$f":"AVERAGE(N9,N24,N39,N54)","v":2.5147162237955172},5.7853159999999999,null,null,null,"Mar",2.8515859975747802,17.340447999999999,2.82494544,5.7853159999999999,null,"Whole Installation table A5:G18:"]
["Apr",60,2.4669920550050275,13.869070000000001,8,{"$f":"AVERAGE(N10,N25,N40,N55)","v":2.464110797569445},5.7233150000000004,null,null,null,"Apr",4.6761228508287296,9.0388169999999999,4.6396152222222202,5.7233150000000004,null,"Mean: for 1/2 hourly and daily periods calculate mean of values across all operational combustion lines for the month"]
["May",60,3.3650541126461704,22.163263000000001,8,3.3933390155747127,5.6950010000000004,null,null,null,"May",5.4731220122126398,22.163263000000001,5.4731220689655196,5.6950010000000004]
["Jun",60,2.6882879404199977,107.65625,8,2.6858658416666676,6.0457489999999998,null,null,null,"Jun",5.2736509048611104,16.217075000000001,5.2736509666666702,5.7228709999999996]
["Jul",60,2.1432106975836307,13.259036,8,2.1517672416367981,5.6458940000000002,null,null,null,"Jul",3.9831976802828,10.369451,4.0028280000000001,5.3501539999999999,null,"Maximum: for 1/2 hourly and daily periods use the highest value across all operational combustion lines for the month"]
["Aug",60,2.5941571372431191,11.190975999999999,8,3.1922165830026463,6.0764230000000001,null,null,null,"Aug",3.1774372685571302,9.0159300000000009,5.4896539999999998,3.1760157200000001]
["Sep",60,3.9060995989203375,15.316000000000001,8,3.9522795115972218,5.9687809999999999,null,null,null,"Sep",4.6290458892171298,15.316000000000001,4.6144222499999996,5.9687809999999999]
["Oct",60,{"$f":"AVERAGE(L16,L31,L46,L61)","v":2.4250000000000003},{"$f":"MAX(M16,M31,M46,M61)","v":16.52},8,{"$f":"AVERAGE(N16,N31,N46,N61)","v":2.41},{"$f":"MAX(O16,O31,O46,O61)","v":5.56},null,null,null,"Oct",4.91,15.83,4.9000000000000004,5.54]
["Nov",60,2.1624999999999996,49.77,8,{"$f":"AVERAGE(N17,N32,N47,N62)","v":2.1850000000000001},{"$f":"MAX(O17,O32,O47,O62)","v":6.04},null,null,null,"Nov",4.55,32.28,4.66,6.04]
["Dec",60,0.96249999999999991,19.53,8,{"$f":"AVERAGE(N18,N33,N48,N63)","v":0.97500000000000009},5.66,null,null,null,"Dec",1.26,10.6,1.33,5.48]
[null,null,null,null,null,null,null,null,null,null,"Annual",{"$f":"AVERAGE(L7:L18)","v":4.2116751868606288},{"$f":"MAX(M7:M18)","v":47.812973},{"$f":"AVERAGE(N7:N18)","v":4.4137239384803477},{"$f":"MAX(O7:O18)","v":7.326759}]
[]
[null,null,null,null,null,null,null,null,null,{"$f":"+A5","v":2024},"mg/Nm3","Monthly mean of half-hourly averages","Highest half- hourly average","Monthly mean of  daily averages","Highest daily average"]
[null,null,null,null,null,null,null,null,null,"A2","Jan",4.6488103327386199,18.872174999999999,4.6765612608695601,5.7820299999999998]
[null,null,null,null,null,null,null,null,null,null,"Feb",5.2809221851851804,15.238222,5.2809221481481501,5.8579759999999998]
[null,null,null,null,null,null,null,null,null,null,"Mar",4.55420691815476,14.207476,4.5526250714285696,5.7721150000000003]
[null,null,null,null,null,null,null,null,null,null,"Apr",2.2431744041450798,11.477417000000001,2.2535473124999998,4.1951530000000004]
[null,null,null,null,null,null,null,null,null,null,"May",2.6327197582236801,8.7626830000000009,2.6393176399999998,5.5727310000000001]
[null,null,null,null,null,null,null,null,null,null,"Jun",1.2608418937500001,107.65625,1.2564382999999999,5.2019339999999996]
[null,null,null,null,null,null,null,null,null,null,"Jul",0.94825526344085898,13.259036,0.952531225806451,5.0757750000000001]
[null,null,null,null,null,null,null,null,null,null,"Aug",3.1504717330434802,11.190975999999999,3.1517092500000001,5.8025510000000002]
[null,null,null,null,null,null,null,null,null,null,"Sep",5.3546636057838697,11.074679,5.5407607199999998,5.8221239999999996]
[null,null,null,null,null,null,null,null,null,null,"Oct",2.2200000000000002,12.42,2.31,5.56]
[null,null,null,null,null,null,null,null,null,null,"Nov",1.36,10.36,1.41,3.41]
[null,null,null,null,null,null,null,null,null,null,"Dec",1.63,19.53,1.63,5.66]
[null,null,null,null,null,null,null,null,null,null,"Annual",{"$f":"AVERAGE(L22:L33)","v":2.940338841205461},{"$f":"MAX(M22:M33)","v":107.65625},{"$f":"AVERAGE(N22:N33)","v":2.9712010773960613},{"$f":"MAX(O22:O33)","v":5.8579759999999998}]
[]
[null,null,null,null,null,null,null,null,null,{"$f":"+A5","v":2024},"mg/Nm3","Monthly mean of half-hourly averages","Highest half- hourly average","Monthly mean of  daily averages","Highest daily average"]
[null,null,null,null,null,null,null,null,null,"A3","Jan",2.2493645275537602,20.907124,2.2493646129032299,4.6363620000000001]
[null,null,null,null,null,null,null,null,null,null,"Feb",1.9836849985621801,8.2225940000000008,1.98318879310345,5.8559580000000002]
[null,null,null,null,null,null,null,null,null,null,"Mar",1.0473771065088699,6.3754200000000001,1.0542667647058801,2.159116]
[null,null,null,null,null,null,null,null,null,null,"Apr",1.7365220983796299,8.2493789999999994,1.7365220555555601,4.8233779999999999]
[null,null,null,null,null,null,null,null,null,null,"May",2.2752999525816602,8.3587419999999995,2.2845218333333301,5.448366]
[null,null,null,null,null,null,null,null,null,null,"Jun",2.3098620534722198,8.0211240000000004,2.3098620666666698,6.0457489999999998]
[null,null,null,null,null,null,null,null,null,null,"Jul",2.8608939597014902,9.2413030000000003,2.861154,5.6458940000000002]
[null,null,null,null,null,null,null,null,null,null,"Aug",3.7342068534031401,11.022878,3.8164172962962999,6.0764230000000001]
[null,null,null,null,null,null,null,null,null,null,"Sep",4.2953771109660597,9.4440919999999995,4.2896061874999996,5.8557629999999996]
[null,null,null,null,null,null,null,null,null,null,"Oct",2.34,16.52,2.31,5.52]
[null,null,null,null,null,null,null,null,null,null,"Nov",2.13,49.77,2.04,5.48]
["Comments :",null,null,null,null,null,null,null,null,null,"Dec",0.68,2.12,0.66,0.81]
[null,null,null,null,null,null,null,null,null,null,"Annual",{"$f":"AVERAGE(L37:L48)","v":2.3035490550940843},{"$f":"MAX(M37:M48)","v":49.77},{"$f":"AVERAGE(N37:N48)","v":2.2995753008387014},{"$f":"MAX(O37:O48)","v":6.0764230000000001}]
[]
[null,null,null,null,null,null,null,null,null,{"$f":"+A5","v":2024},"mg/Nm3","Monthly mean of half-hourly averages","Highest half- hourly average","Monthly mean of  daily averages","Highest daily average"]
[null,null,null,null,null,null,null,null,null,"A4","Jan",1.3338615839580199,38.780548000000003,1.3713852592592599,6.065207]
[null,null,null,null,null,null,null,null,null,null,"Feb",1.6775676454767701,10.215825000000001,1.64745864,5.8965800000000002]
[null,null,null,null,null,null,null,null,null,null,"Mar",1.6269712172619,9.7961349999999996,1.6270276190476201,5.5199379999999998]
[null,null,null,null,null,null,null,null,null,null,"Apr",1.21214886666667,13.869070000000001,1.2267585999999999,4.4625019999999997]
[null,null,null,null,null,null,null,null,null,null,"May",3.0790747275667001,10.539604000000001,3.1763945200000001,5.6043649999999996]
[null,null,null,null,null,null,null,null,null,null,"Jun",1.9087969095966599,7.9726369999999998,1.90351203333333,5.1471020000000003]
[null,null,null,null,null,null,null,null,null,null,"Jul",0.78049588690937199,7.1941819999999996,0.79055574074074098,5.1453540000000002]
[null,null,null,null,null,null,null,null,null,null,"Aug",0.314512693968727,7.122293,0.31108578571428602,2.6308720000000001]
[null,null,null,null,null,null,null,null,null,null,"Sep",1.3453117897142901,7.795229,1.36432888888889,4.5135509999999996]
[null,null,null,null,null,null,null,null,null,null,"Oct",0.23,3.01,0.12,0.43]
[null,null,null,null,null,null,null,null,null,null,"Nov",0.61,7.74,0.63,3.14]
[null,null,null,null,null,null,null,null,null,null,"Dec",0.28000000000000003,4.97,0.28000000000000003,1.25]
[null,null,null,null,null,null,null,null,null,null,"Annual",{"$f":"AVERAGE(L52:L63)","v":1.1998951100932591},{"$f":"MAX(M52:M63)","v":38.780548000000003},{"$f":"AVERAGE(N52:N63)","v":1.2040422572486773},{"$f":"MAX(O52:O63)","v":6.065207}]
[]
[null,null,null,null,null,null,null,null,null,{"$f":"+A5","v":2024},"mg/Nm3","Monthly mean of half-hourly averages","Highest half- hourly average","Monthly mean of  daily averages","Highest daily average"]
[null,null,null,null,null,null,null,null,null,"A5","Jan"]
[null,null,null,null,null,null,null,null,null,null,"Feb"]
[null,null,null,null,null,null,null,null,null,null,"Mar"]
[null,null,null,null,null,null,null,null,null,null,"Apr"]
[null,null,null,null,null,null,null,null,null,null,"May"]
[null,null,null,null,null,null,null,null,null,null,"Jun"]
[null,null,null,null,null,null,null,null,null,null,"Jul"]
[null,null,null,null,null,null,null,null,null,null,"Aug"]
[null,null,null,null,null,null,null,null,null,null,"Sep"]
[null,null,null,null,null,null,null,null,null,null,"Oct"]
[null,null,null,null,null,null,null,null,null,null,"Nov"]
[null,null,null,null,null,null,null,null,null,null,"Dec"]
[null,null,null,null,null,null,null,null,null,null,"Annual",{"$f":"AVERAGE(L67:L78)","v":{"$error":"#DIV/0!"}},{"$f":"MAX(M67:M78)","v":0},{"$f":"AVERAGE(N67:N78)","v":{"$error":"#DIV/0!"}},{"$f":"MAX(O67:O78)","v":0}]

{"sheet":"SO2","index":16,"n_rows":79,"n_cols":17,"rows_kept":79,"cut":false,"hidden":false,"merged":[[3,16,7,18],[9,16,11,18],[12,16,15,18],[66,9,78,9],[4,1,4,3],[4,4,4,6],[4,9,4,14],[6,9,18,9],[21,9,33,9],[36,9,48,9],[47,0,47,6],[48,0,51,6],[51,9,63,9],[18,4,18,6]]}
[{"$f":"+'Cover Page'!$B$29","v":"Annual Performance Report 2024"},null,null,null,{"$f":"+'Cover Page'!$B$33","v":"Runcorn Energy From Waste Facility "}]
[]
["Monitoring of Sulphur dioxide emissions",null,null,"Whole Installation",null,null,"See  Notes in Cell Q3",null,null,{"$f":"+A3","v":"Monitoring of Sulphur dioxide emissions"},null,null,null,"Per Combustion Line",null,null,"Notes:"]
[null,null,null,null,null,null,null,null,null,null,null,null,null,null,null,null,"User to add logic to complete Whole installation, Table A5:G18. From the data in Per Combustion Line, Table J6:O79, subject to No. of lines installed"]
[{"$f":"+'Cover Page'!C39","v":2024},"1/2 Hourly Reference Periods",null,null,"Daily Reference Periods"]
["mg/Nm3","1/2 hourly SO2 ELV","Monthly mean of half-hourly averages","Highest half- hourly average","Daily SO2 ELV","Monthly mean of  daily averages","Highest daily average",null,null,{"$f":"+A5","v":2024},"mg/Nm3","Monthly mean of half-hourly averages","Highest half- hourly average","Monthly mean of  daily averages","Highest daily average"]
["Jan",200,{"$f":"AVERAGE(L7,L22,L37,L52)","v":18.2835890387015},{"$f":"MAX(M7,M22,M37,M52)","v":136.29882799999999},40,{"$f":"AVERAGE(N7,N22,N37,N52)","v":18.349750997367885},{"$f":"MAX(O7,O22,O37,O52)","v":34.988655000000001},null,null,"A1","Jan",20.9922085482456,119.971611,20.992208578947402,29.511078000000001]
["Feb",200,{"$f":"AVERAGE(L8,L23,L38,L53)","v":22.515466762601925},{"$f":"MAX(M8,M23,M38,M53)","v":168.177109},40,{"$f":"AVERAGE(N8,N23,N38,N53)","v":22.502338407592596},{"$f":"MAX(O8,O23,O38,O53)","v":36.010834000000003},null,null,null,"Feb",22.0660756301268,168.177109,22.060116499999999,33.337592999999998]
["Mar",200,{"$f":"AVERAGE(L9,L24,L39,L54)","v":23.898321645438322},{"$f":"MAX(M9,M24,M39,M54)","v":148.82682800000001},40,{"$f":"AVERAGE(N9,N24,N39,N54)","v":23.954077669544823},35.253726999999998,null,null,null,"Mar",28.7216167348423,135.02153000000001,28.763821480000001,35.253726999999998,null,"Whole Installation table A5:G18:"]
["Apr",200,19.412450133524224,123.831581,40,{"$f":"AVERAGE(N10,N25,N40,N55)","v":19.507048983333348},30.632100999999999,null,null,null,"Apr",23.7520247237569,123.831581,24.061408277777801,30.632100999999999,null,"Mean: for 1/2 hourly and daily periods calculate mean of values across all operational combustion lines for the month"]
["May",200,14.812794224907073,201.487381,40,14.757914146609176,26.682735000000001,null,null,null,"May",18.430991698994202,201.487381,18.430991793103399,23.188057000000001]
["Jun",200,17.323252158475057,110.431129,40,17.309409091666652,32.694572000000001,null,null,null,"Jun",19.007445426388902,103.97365600000001,19.007445433333299,27.244668999999998]
["Jul",200,18.972731336190215,58.683472000000002,40,21.326038618663603,29.155259999999998,null,null,null,"Jul",28.419645731343302,58.683472000000002,33.234260999999996,29.047201399999999,null,"Maximum: for 1/2 hourly and daily periods use the highest value across all operational combustion lines for the month"]
["Aug",200,23.120309117070377,148.32830799999999,40,22.331434456250001,34.836520999999998,null,null,null,"Aug",28.773934285237701,123.624161,28.776006200000001,34.836520999999998]
["Sep",200,18.65470535488425,80.115807000000004,40,20.136294632053573,27.769644,null,null,null,"Sep",18.8202338426883,45.888668000000003,18.810970285714301,27.769644]
["Oct",200,{"$f":"AVERAGE(L16,L31,L46,L61)","v":18.2425},{"$f":"MAX(M16,M31,M46,M61)","v":119},40,{"$f":"AVERAGE(N16,N31,N46,N61)","v":18.8825},{"$f":"MAX(O16,O31,O46,O61)","v":33.119999999999997},null,null,null,"Oct",21.83,44.59,22.01,27.74]
["Nov",200,{"$f":"AVERAGE(L17,L32,L47,L62)","v":20.407499999999999},{"$f":"MAX(M17,M32,M47,M62)","v":236.88},40,{"$f":"AVERAGE(N17,N32,N47,N62)","v":20.657499999999999},{"$f":"MAX(O17,O32,O47,O62)","v":33.04},null,null,null,"Nov",27.93,52.15,28.54,30.96]
["Dec",200,{"$f":"AVERAGE(L18,L33,L48,L63)","v":13.469999999999999},{"$f":"MAX(M18,M33,M48,M63)","v":103.98},40,{"$f":"AVERAGE(N18,N33,N48,N63)","v":13.434999999999999},28.71,null,null,null,"Dec",15.38,55.08,15.95,27.66]
[null,null,null,null,null,null,null,null,null,null,"Annual",{"$f":"AVERAGE(L7:L18)","v":22.843681385135337},{"$f":"MAX(M7:M18)","v":201.487381},{"$f":"AVERAGE(N7:N18)","v":23.386435795739683},{"$f":"MAX(O7:O18)","v":35.253726999999998}]
[]
[null,null,null,null,null,null,null,null,null,{"$f":"+A5","v":2024},"mg/Nm3","Monthly mean of half-hourly averages","Highest half- hourly average","Monthly mean of  daily averages","Highest daily average"]
[null,null,null,null,null,null,null,null,null,"A2","Jan",9.7952681382693907,136.29882799999999,9.8956889565217399,17.004716999999999]
[null,null,null,null,null,null,null,null,null,null,"Feb",16.269675235339498,168.05845600000001,16.2696753703704,26.514765000000001]
[null,null,null,null,null,null,null,null,null,null,"Mar",17.1184606071429,142.92378199999999,17.1184606071429,26.072506000000001]
[null,null,null,null,null,null,null,null,null,null,"Apr",10.605101603627,62.244408,10.6132185,16.839677999999999]
[null,null,null,null,null,null,null,null,null,null,"May",4.6989712006578896,33.537433999999998,4.7691962800000001,10.186143]
[null,null,null,null,null,null,null,null,null,null,"Jun",4.7780515347222297,92.759628000000006,4.7646490999999997,9.6139150000000004]
[null,null,null,null,null,null,null,null,null,null,"Jul",5.6188213071236603,39.961308000000002,5.62593690322581,11.690927]
[null,null,null,null,null,null,null,null,null,null,"Aug",17.227959233043499,84.813361999999998,17.182541624999999,28.491811999999999]
[null,null,null,null,null,null,null,null,null,null,"Sep",14.011671826483999,51.009762000000002,14.386363680000001,21.066337999999998]
[null,null,null,null,null,null,null,null,null,null,"Oct",10.18,119,10.62,19.14]
[null,null,null,null,null,null,null,null,null,null,"Nov",10.65,41.07,10.87,18.399999999999999]
[null,null,null,null,null,null,null,null,null,null,"Dec",9.0299999999999994,103.98,9.0299999999999994,17]
[null,null,null,null,null,null,null,null,null,null,"Annual",{"$f":"AVERAGE(L22:L33)","v":10.831998390534173},{"$f":"MAX(M22:M33)","v":168.05845600000001},{"$f":"AVERAGE(N22:N33)","v":10.928810918521739},{"$f":"MAX(O22:O33)","v":28.491811999999999}]
[]
[null,null,null,null,null,null,null,null,null,{"$f":"+A5","v":2024},"mg/Nm3","Monthly mean of half-hourly averages","Highest half- hourly average","Monthly mean of  daily averages","Highest daily average"]
[null,null,null,null,null,null,null,null,null,"A3","Jan",24.706623846102101,114.743843,24.706623935483901,34.988655000000001]
[null,null,null,null,null,null,null,null,null,null,"Feb",28.9983543846154,131.50945999999999,29.001826999999999,36.010834000000003]
[null,null,null,null,null,null,null,null,null,null,"Mar",30.2210852189348,107.355087,30.413341352941199,34.328395999999998]
[null,null,null,null,null,null,null,null,null,null,"Apr",22.396076640046299,44.268630999999999,22.396076555555599,30.363997000000001]
[null,null,null,null,null,null,null,null,null,null,"May",19.814108930453099,40.760468000000003,19.571885833333301,26.682735000000001]
[null,null,null,null,null,null,null,null,null,null,"Jun",23.2159017645833,110.431129,23.215901833333302,32.694572000000001]
[null,null,null,null,null,null,null,null,null,null,"Jul",20.725851440298499,53.255245000000002,20.7203675714286,29.155259999999998]
[null,null,null,null,null,null,null,null,null,null,"Aug",22.7467876417352,101.750381,10.868327000000001,31.674475000000001]
[null,null,null,null,null,null,null,null,null,null,"Sep",18.044378005221901,46.842357999999997,18.024739562499999,24.255091]
[null,null,null,null,null,null,null,null,null,null,"Oct",13.57,50.5,13.61,27.73]
[null,null,null,null,null,null,null,null,null,null,"Nov",17.88,236.88,17.95,30.35]
["Comments :",null,null,null,null,null,null,null,null,null,"Dec",8.35,46.16,7.6,14.81]
[null,null,null,null,null,null,null,null,null,null,"Annual",{"$f":"AVERAGE(L37:L48)","v":20.889097322665883},{"$f":"MAX(M37:M48)","v":236.88},{"$f":"AVERAGE(N37:N48)","v":19.839924220381324},{"$f":"MAX(O37:O48)","v":36.010834000000003}]
[]
[null,null,null,null,null,null,null,null,null,{"$f":"+A5","v":2024},"mg/Nm3","Monthly mean of half-hourly averages","Highest half- hourly average","Monthly mean of  daily averages","Highest daily average"]
[null,null,null,null,null,null,null,null,null,"A4","Jan",17.640255622188899,130.22547900000001,17.804482518518501,32.695723999999998]
[null,null,null,null,null,null,null,null,null,null,"Feb",22.727761800326,143.93246500000001,22.67773476,31.812885000000001]
[null,null,null,null,null,null,null,null,null,null,"Mar",19.532124020833301,148.82682800000001,19.520687238095199,30.641698999999999]
[null,null,null,null,null,null,null,null,null,null,"Apr",20.896597566666699,49.955855999999997,20.957492599999998,27.830549000000001]
[null,null,null,null,null,null,null,null,null,null,"May",16.3071050695231,52.103175999999998,16.259582680000001,23.859213]
[null,null,null,null,null,null,null,null,null,null,"Jun",22.2916099082058,63.871921999999998,22.249639999999999,29.139675]
[null,null,null,null,null,null,null,null,null,null,"Jul",21.126606865995399,50.383254999999998,25.723589,21.231149777777802]
[null,null,null,null,null,null,null,null,null,null,"Aug",23.732555308265098,148.32830799999999,32.498863,23.729285571428601]
[null,null,null,null,null,null,null,null,null,null,"Sep",23.742537745142801,80.115807000000004,29.323105000000002,23.653634722222201]
[null,null,null,null,null,null,null,null,null,null,"Oct",27.39,54.83,29.29,33.119999999999997]
[null,null,null,null,null,null,null,null,null,null,"Nov",25.17,98.17,25.27,33.04]
[null,null,null,null,null,null,null,null,null,null,"Dec",21.12,51.25,21.16,28.71]
[null,null,null,null,null,null,null,null,null,null,"Annual",{"$f":"AVERAGE(L52:L63)","v":21.806429492262264},{"$f":"MAX(M52:M63)","v":148.82682800000001},{"$f":"AVERAGE(N52:N63)","v":23.561264733051143},{"$f":"MAX(O52:O63)","v":33.119999999999997}]
[]
[null,null,null,null,null,null,null,null,null,{"$f":"+A5","v":2024},"mg/Nm3","Monthly mean of half-hourly averages","Highest half- hourly average","Monthly mean of  daily averages","Highest daily average"]
[null,null,null,null,null,null,null,null,null,"A5","Jan"]
[null,null,null,null,null,null,null,null,null,null,"Feb"]
[null,null,null,null,null,null,null,null,null,null,"Mar"]
[null,null,null,null,null,null,null,null,null,null,"Apr"]
[null,null,null,null,null,null,null,null,null,null,"May"]
[null,null,null,null,null,null,null,null,null,null,"Jun"]
[null,null,null,null,null,null,null,null,null,null,"Jul"]
[null,null,null,null,null,null,null,null,null,null,"Aug"]
[null,null,null,null,null,null,null,null,null,null,"Sep"]
[null,null,null,null,null,null,null,null,null,null,"Oct"]
[null,null,null,null,null,null,null,null,null,null,"Nov"]
[null,null,null,null,null,null,null,null,null,null,"Dec"]
[null,null,null,null,null,null,null,null,null,null,"Annual",{"$f":"AVERAGE(L67:L78)","v":{"$error":"#DIV/0!"}},{"$f":"MAX(M67:M78)","v":0},{"$f":"AVERAGE(N67:N78)","v":{"$error":"#DIV/0!"}},{"$f":"MAX(O67:O78)","v":0}]

{"sheet":"NOx","index":17,"n_rows":79,"n_cols":17,"rows_kept":79,"cut":false,"hidden":false,"merged":[[3,16,7,18],[9,16,11,18],[12,16,15,18],[66,9,78,9],[4,1,4,3],[4,4,4,6],[4,9,4,14],[6,9,18,9],[21,9,33,9],[36,9,48,9],[47,0,47,6],[48,0,51,6],[51,9,63,9],[18,4,18,6]]}
[{"$f":"+'Cover Page'!$B$29","v":"Annual Performance Report 2024"},null,null,null,{"$f":"+'Cover Page'!$B$33","v":"Runcorn Energy From Waste Facility "}]
[]
["Monitoring of Oxides of Nitrogen emissions",null,null,"Whole Installation",null,null,"See  Notes in Cell Q3",null,null,{"$f":"+A3","v":"Monitoring of Oxides of Nitrogen emissions"},null,null,null,"Per Combustion Line",null,null,"Notes:"]
[null,null,null,null,null,null,null,null,null,null,null,null,null,null,null,null,"User to add logic to complete Whole installation, Table A5:G18. From the data in Per Combustion Line, Table J6:O79, subject to No. of lines installed"]
[{"$f":"+'Cover Page'!C39","v":2024},"1/2 Hourly Reference Periods",null,null,"Daily Reference Periods"]
["mg/Nm3","1/2 hourly NOx ELV","Monthly mean of half-hourly averages","Highest half- hourly average","Daily NOx ELV","Monthly mean of  daily averages","Highest daily average",null,null,{"$f":"+A5","v":2024},"mg/Nm3","Monthly mean of half-hourly averages","Highest half- hourly average","Monthly mean of  daily averages","Highest daily average"]
["Jan",400,{"$f":"AVERAGE(L7,L22,L37,L52)","v":168.05201310208224},{"$f":"MAX(M7,M22,M37,M52)","v":300.324341},180,{"$f":"AVERAGE(N7,N22,N37,N52)","v":168.1079371512005},{"$f":"MAX(O7,O22,O37,O52)","v":174.805115},null,null,"A1","Jan",164.75931456578999,300.324341,164.75931426315799,170.070663]
["Feb",400,{"$f":"AVERAGE(L8,L23,L38,L53)","v":166.1084782253765},{"$f":"MAX(M8,M23,M38,M53)","v":267.41516100000001},180,{"$f":"AVERAGE(N8,N23,N38,N53)","v":166.11331410903625},{"$f":"MAX(O8,O23,O38,O53)","v":174.73817399999999},null,null,null,"Feb",165.137746344519,210.60154700000001,165.135779178571,167.07435599999999]
["Mar",400,{"$f":"AVERAGE(L9,L24,L39,L54)","v":167.94748072191925},{"$f":"MAX(M9,M24,M39,M54)","v":331.55514499999998},180,{"$f":"AVERAGE(N9,N24,N39,N54)","v":167.97415455595251},181.4,null,null,null,"Mar",164.91431752061399,331.55514499999998,165.0095312,169.94232199999999,null,"Whole Installation table A5:G18:"]
["Apr",400,165.09861743988776,300.74642899999998,180,{"$f":"AVERAGE(N10,N25,N40,N55)","v":165.14880952499999},177.11862199999999,null,null,null,"Apr",162.498709690608,177.97923299999999,162.602940722222,165.20822100000001,null,"Mean: for 1/2 hourly and daily periods calculate mean of values across all operational combustion lines for the month"]
["May",400,167.56539999035675,292.723297,180,167.7413361459385,173.843582,null,null,null,"May",165.13257806896601,189.72612000000001,165.13257937930999,165.51800499999999]
["Jun",400,167.197730948188,279.85647599999999,180,167.19884172500002,174.24231,null,null,null,"Jun",163.90516479097201,176.04774499999999,163.90516513333301,165.753906]
["Jul",400,165.97083899769126,293.36203,180,166.51635184469578,174.96142599999999,null,null,null,"Jul",164.720967230165,245.09579500000001,164.89181456,167.70031700000001,null,"Maximum: for 1/2 hourly and daily periods use the highest value across all operational combustion lines for the month"]
["Aug",400,167.01286989929,242.82299800000001,180,167.73808945337299,175.973343,null,null,null,"Aug",164.76915695663001,196.264847,165.342545,164.76932796]
["Sep",400,167.35765975024725,268.82754499999999,180,169.76622424479177,173.30650299999999,null,null,null,"Sep",164.35084127400299,256.84075899999999,166.99220299999999,164.37989921428601]
["Oct",400,{"$f":"AVERAGE(L16,L31,L46,L61)","v":161.39749999999998},{"$f":"MAX(M16,M31,M46,M61)","v":227.53},180,{"$f":"AVERAGE(N16,N31,N46,N61)","v":162.4975},{"$f":"MAX(O16,O31,O46,O61)","v":172.79},null,null,null,"Oct",164.98,202.11,165.01,166]
["Nov",400,{"$f":"AVERAGE(L17,L32,L47,L62)","v":165.63000000000002},{"$f":"MAX(M17,M32,M47,M62)","v":239.86},180,{"$f":"AVERAGE(N17,N32,N47,N62)","v":166.1875},{"$f":"MAX(O17,O32,O47,O62)","v":172.38},null,null,null,"Nov",163.55000000000001,190.22,164.71,165.16]
["Dec",400,{"$f":"AVERAGE(L18,L33,L48,L63)","v":166.76999999999998},{"$f":"MAX(M18,M33,M48,M63)","v":231.42},180,{"$f":"AVERAGE(N18,N33,N48,N63)","v":167.23250000000002},171.89,null,null,null,"Dec",164.07,181.18,164.52,165.38]
[null,null,null,null,null,null,null,null,null,null,"Annual",{"$f":"AVERAGE(L7:L18)","v":164.3990663701889},{"$f":"MAX(M7:M18)","v":331.55514499999998},{"$f":"AVERAGE(N7:N18)","v":164.83432270304951},{"$f":"MAX(O7:O18)","v":170.070663}]
[]
[null,null,null,null,null,null,null,null,null,{"$f":"+A5","v":2024},"mg/Nm3","Monthly mean of half-hourly averages","Highest half- hourly average","Monthly mean of  daily averages","Highest daily average"]
[null,null,null,null,null,null,null,null,null,"A2","Jan",164.37286057894701,243.51835600000001,164.503853217391,166.83753999999999]
[null,null,null,null,null,null,null,null,null,null,"Feb",163.16224856635799,184.61999499999999,163.162247814815,163.87941000000001]
[null,null,null,null,null,null,null,null,null,null,"Mar",163.17792170238101,276.070404,163.18025750000001,168.84527600000001]
[null,null,null,null,null,null,null,null,null,null,"Apr",162.40343114637301,171.97375500000001,162.51902674999999,163.53414900000001]
[null,null,null,null,null,null,null,null,null,null,"May",162.95101131579,185.33952300000001,163.13419984000001,163.77647400000001]
[null,null,null,null,null,null,null,null,null,null,"Jun",163.172161891667,192.90226699999999,163.1752146,163.91859400000001]
[null,null,null,null,null,null,null,null,null,null,"Jul",163.30952485080601,210.87101699999999,165.361862,163.310310096774]
[null,null,null,null,null,null,null,null,null,null,"Aug",162.54104495043501,213.340698,163.513184,162.52129620833301]
[null,null,null,null,null,null,null,null,null,null,"Sep",163.36520714916301,268.82754499999999,170.05502300000001,163.53443544000001]
[null,null,null,null,null,null,null,null,null,null,"Oct",161.69999999999999,198.1,163.13999999999999,165.16]
[null,null,null,null,null,null,null,null,null,null,"Nov",162.9,186.31,163.19999999999999,164.1]
[null,null,null,null,null,null,null,null,null,null,"Dec",162.94999999999999,189.32,162.94999999999999,163.79]
[null,null,null,null,null,null,null,null,null,null,"Annual",{"$f":"AVERAGE(L22:L33)","v":163.00045101266002},{"$f":"MAX(M22:M33)","v":276.070404},{"$f":"AVERAGE(N22:N33)","v":163.99123906018383},{"$f":"MAX(O22:O33)","v":168.84527600000001}]
[]
[null,null,null,null,null,null,null,null,null,{"$f":"+A5","v":2024},"mg/Nm3","Monthly mean of half-hourly averages","Highest half- hourly average","Monthly mean of  daily averages","Highest daily average"]
[null,null,null,null,null,null,null,null,null,"A3","Jan",171.21924384005399,213.33367899999999,171.21924416128999,174.805115]
[null,null,null,null,null,null,null,null,null,null,"Feb",165.59014474694499,206.82377600000001,165.582107482759,174.73817399999999]
[null,null,null,null,null,null,null,null,null,null,"Mar",171.2,289.39999999999998,171.2,181.4]
[null,null,null,null,null,null,null,null,null,null,"Apr",162.97822884027801,256.61132800000001,162.97822827777799,173.53900100000001]
[null,null,null,null,null,null,null,null,null,null,"May",170.241958952581,210.67385899999999,170.63376444444401,172.597961]
[null,null,null,null,null,null,null,null,null,null,"Jun",171.889079829167,224.35466,171.88907976666701,174.24231]
[null,null,null,null,null,null,null,null,null,null,"Jul",165.220101335821,237.47517400000001,165.17815589285701,173.10365300000001]
[null,null,null,null,null,null,null,null,null,null,"Aug",169.46647379955101,220.18261699999999,170.862882777778,175.973343]
[null,null,null,null,null,null,null,null,null,null,"Sep",170.664781610966,188.99594099999999,170.65653431250001,171.849594]
[null,null,null,null,null,null,null,null,null,null,"Oct",159.44999999999999,225.74,159.6,172.79]
[null,null,null,null,null,null,null,null,null,null,"Nov",169.21,207.75,170.12,172.38]
["Comments :",null,null,null,null,null,null,null,null,null,"Dec",169.74,187.97,171.23,171.73]
[null,null,null,null,null,null,null,null,null,null,"Annual",{"$f":"AVERAGE(L37:L48)","v":168.0725010796136},{"$f":"MAX(M37:M48)","v":289.39999999999998},{"$f":"AVERAGE(N37:N48)","v":168.42916642633941},{"$f":"MAX(O37:O48)","v":181.4}]
[]
[null,null,null,null,null,null,null,null,null,{"$f":"+A5","v":2024},"mg/Nm3","Monthly mean of half-hourly averages","Highest half- hourly average","Monthly mean of  daily averages","Highest daily average"]
[null,null,null,null,null,null,null,null,null,"A4","Jan",171.856633423538,250.086456,171.949336962963,173.00254799999999]
[null,null,null,null,null,null,null,null,null,null,"Feb",170.543773243684,267.41516100000001,170.57312196000001,173.79632599999999]
[null,null,null,null,null,null,null,null,null,null,"Mar",172.497683664682,272.26074199999999,172.50682952381001,175.17806999999999]
[null,null,null,null,null,null,null,null,null,null,"Apr",172.514100082292,300.74642899999998,172.49504235000001,177.11862199999999]
[null,null,null,null,null,null,null,null,null,null,"May",171.93605162409,292.723297,172.06480092000001,173.843582]
[null,null,null,null,null,null,null,null,null,null,"Jun",169.824517280946,279.85647599999999,169.82590740000001,173.664886]
[null,null,null,null,null,null,null,null,null,null,"Jul",170.632762573973,293.36203,170.63357492592601,174.96142599999999]
[null,null,null,null,null,null,null,null,null,null,"Aug",171.27480389054401,242.82299800000001,171.23374603571401,172.62439000000001]
[null,null,null,null,null,null,null,null,null,null,"Sep",171.049808966857,245.98521400000001,171.36113666666699,173.30650299999999]
[null,null,null,null,null,null,null,null,null,null,"Oct",159.46,227.53,162.24,171.57]
[null,null,null,null,null,null,null,null,null,null,"Nov",166.86,239.86,166.72,171.9]
[null,null,null,null,null,null,null,null,null,null,"Dec",170.32,231.42,170.23,171.89]
[null,null,null,null,null,null,null,null,null,null,"Annual",{"$f":"AVERAGE(L52:L63)","v":169.89751122921714},{"$f":"MAX(M52:M63)","v":300.74642899999998},{"$f":"AVERAGE(N52:N63)","v":170.15279139542335},{"$f":"MAX(O52:O63)","v":177.11862199999999}]
[]
[null,null,null,null,null,null,null,null,null,{"$f":"+A5","v":2024},"mg/Nm3","Monthly mean of half-hourly averages","Highest half- hourly average","Monthly mean of  daily averages","Highest daily average"]
[null,null,null,null,null,null,null,null,null,"A5","Jan"]
[null,null,null,null,null,null,null,null,null,null,"Feb"]
[null,null,null,null,null,null,null,null,null,null,"Mar"]
[null,null,null,null,null,null,null,null,null,null,"Apr"]
[null,null,null,null,null,null,null,null,null,null,"May"]
[null,null,null,null,null,null,null,null,null,null,"Jun"]
[null,null,null,null,null,null,null,null,null,null,"Jul"]
[null,null,null,null,null,null,null,null,null,null,"Aug"]
[null,null,null,null,null,null,null,null,null,null,"Sep"]
[null,null,null,null,null,null,null,null,null,null,"Oct"]
[null,null,null,null,null,null,null,null,null,null,"Nov"]
[null,null,null,null,null,null,null,null,null,null,"Dec"]
[null,null,null,null,null,null,null,null,null,null,"Annual",{"$f":"AVERAGE(L67:L78)","v":{"$error":"#DIV/0!"}},{"$f":"MAX(M67:M78)","v":0},{"$f":"AVERAGE(N67:N78)","v":{"$error":"#DIV/0!"}},{"$f":"MAX(O67:O78)","v":0}]

{"sheet":"TOC","index":18,"n_rows":79,"n_cols":17,"rows_kept":79,"cut":false,"hidden":false,"merged":[[3,16,7,18],[9,16,11,18],[12,16,15,18],[66,9,78,9],[4,1,4,3],[4,4,4,6],[4,9,4,14],[6,9,18,9],[21,9,33,9],[36,9,48,9],[47,0,47,6],[48,0,51,6],[51,9,63,9]]}
[{"$f":"+'Cover Page'!$B$29","v":"Annual Performance Report 2024"},null,null,null,{"$f":"+'Cover Page'!$B$33","v":"Runcorn Energy From Waste Facility "}]
[]
["Monitoring of Total organic carbon emissions",null,null,"Whole Installation",null,null,"See  Notes in Cell Q3",null,null,{"$f":"+A3","v":"Monitoring of Total organic carbon emissions"},null,null,null,"Per Combustion Line",null,null,"Notes:"]
[null,null,null,null,null,null,null,null,null,null,null,null,null,null,null,null,"User to add logic to complete Whole installation, Table A5:G18. From the data in Per Combustion Line, Table J6:O79, subject to No. of lines installed"]
[{"$f":"+'Cover Page'!C39","v":2024},"1/2 Hourly Reference Periods",null,null,"Daily Reference Periods"]
["mg/Nm3","1/2 hourly TOC ELV","Monthly mean of half-hourly averages","Highest half- hourly average","Daily TOC ELV","Monthly mean of  daily averages","Highest daily average",null,null,{"$f":"+A5","v":2024},"mg/Nm3","Monthly mean of half-hourly averages","Highest half- hourly average","Monthly mean of  daily averages","Highest daily average"]
["Jan",20,{"$f":"AVERAGE(L7,L22,L37,L52)","v":7.3418156167634877E-2},{"$f":"MAX(M7,M22,M37,M52)","v":37.138751999999997},10,{"$f":"AVERAGE(N7,N22,N37,N52)","v":7.3343981918916001E-2},{"$f":"MAX(O7,O22,O37,O52)","v":0.78116200000000002},null,null,"A1","Jan",2.3394912280701799E-3,0.79768499999999998,2.33942105263158E-3,1.7373E-2]
["Feb",20,{"$f":"AVERAGE(L8,L23,L38,L53)","v":0.10609827342957032},{"$f":"MAX(M8,M23,M38,M53)","v":39.575066},10,{"$f":"AVERAGE(N8,N23,N38,N53)","v":0.10645343487365437},{"$f":"MAX(O8,O23,O38,O53)","v":4.181934},null,null,null,"Feb",3.6057247576435497E-2,22.75,3.5978535714285699E-2,0.48908600000000002]
["Mar",20,{"$f":"AVERAGE(L9,L24,L39,L54)","v":8.15625079205749E-2},23.48,10,8.111860203781518E-2,{"$f":"MAX(O9,O24,O39,O54)","v":0.46951100000000001},null,null,null,"Mar",1.25362247372676E-2,0.84798899999999999,1.282528E-2,8.9818999999999996E-2,null,"Whole Installation table A5:G18:"]
["Apr",20,9.7525540584761775E-2,{"$f":"MAX(M10,M25,M40,M55)","v":4.9882660000000003},10,9.5697739930555553E-2,0.340532,null,null,null,"Apr",2.5579914917127099E-2,3.0813739999999998,2.01867777777778E-2,0.15321199999999999,null,"Mean: for 1/2 hourly and daily periods calculate mean of values across all operational combustion lines for the month"]
["May",20,0.12265086804143069,{"$f":"MAX(M11,M26,M41,M56)","v":62.441113000000001},10,0.12066799036398466,1.337704,null,null,null,"May",5.9966266522988497E-2,62.441113000000001,5.9966310344827599E-2,1.337704]
["Jun",20,6.9234444165555742E-2,12.903892000000001,10,6.9369149999999907E-2,1.5912999999999999,null,null,null,"Jun",2.816335E-2,7.8895770000000001,2.8163333333333301E-2,0.18287500000000001]
["Jul",20,7.7467741550294178E-2,34.480857999999998,10,7.5552315304659376E-2,0.77109700000000003,null,null,null,"Jul",1.9949645718774601E-2,2.8201969999999998,1.2203719999999999E-2,7.5732999999999995E-2,null,"Maximum: for 1/2 hourly and daily periods use the highest value across all operational combustion lines for the month"]
["Aug",20,0.11595067953835432,9.7992319999999999,10,0.11334163417989418,0.58767899999999995,null,null,null,"Aug",1.8544822351959998E-2,2.2761819999999999,1.8542960000000001E-2,0.103475]
["Sep",20,8.7787276213572796E-2,9.6960119999999996,10,8.6302475882936519E-2,0.57284299999999999,null,null,null,"Sep",2.7907361152141801E-2,9.6960119999999996,2.6817607142857101E-2,0.28769499999999998]
["Oct",20,{"$f":"AVERAGE(L16,L31,L46,L61)","v":0.13500000000000001},{"$f":"MAX(M16,M31,M46,M61)","v":13.42},10,{"$f":"AVERAGE(N16,N31,N46,N61)","v":0.13500000000000001},{"$f":"MAX(O16,O31,O46,O61)","v":0.53},null,null,null,"Oct",0.01,0.83,0.01,0.04]
["Nov",20,{"$f":"AVERAGE(L17,L32,L47,L62)","v":0.13},{"$f":"MAX(M17,M32,M47,M62)","v":9.74},10,{"$f":"AVERAGE(N17,N32,N47,N62)","v":0.11749999999999999},{"$f":"MAX(O17,O32,O47,O62)","v":0.56000000000000005},null,null,null,"Nov",0.03,2.9,0.02,0.06]
["Dec",20,{"$f":"AVERAGE(L18,L33,L48,L63)","v":0.13750000000000001},4.83,10,0.13250000000000001,{"$f":"MAX(O18,O33,O48,O63)","v":0.83},null,null,null,"Dec",0.02,2.23,0.02,0.11]
[null,null,null,null,null,null,null,null,null,null,"Annual",{"$f":"AVERAGE(L7:L18)","v":2.4253693683730444E-2},{"$f":"MAX(M7:M18)","v":62.441113000000001},{"$f":"AVERAGE(N7:N18)","v":2.2251995447142753E-2},{"$f":"MAX(O7:O18)","v":1.337704}]
[]
[null,null,null,null,null,null,null,null,null,{"$f":"+A5","v":2024},"mg/Nm3","Monthly mean of half-hourly averages","Highest half- hourly average","Monthly mean of  daily averages","Highest daily average"]
[null,null,null,null,null,null,null,null,null,"A2","Jan",2.1614942016057099E-3,0.153389,2.19478260869565E-3,8.4180000000000001E-3]
[null,null,null,null,null,null,null,null,null,null,"Feb",1.41037530864198E-2,0.47551199999999999,1.41038148148148E-2,8.2682000000000005E-2]
[null,null,null,null,null,null,null,null,null,null,"Mar",1.9804709821428599E-2,2.2340439999999999,1.9805607142857101E-2,8.5569999999999993E-2]
[null,null,null,null,null,null,null,null,null,null,"Apr",4.9747761658031103E-2,1.232518,4.7074687499999997E-2,0.115894]
[null,null,null,null,null,null,null,null,null,null,"May",4.2107113486842103E-2,2.0922529999999999,3.748924E-2,0.13170599999999999]
[null,null,null,null,null,null,null,null,null,null,"Jun",2.3307586805555499E-2,2.0687340000000001,2.3294499999999999E-2,0.12076199999999999]
[null,null,null,null,null,null,null,null,null,null,"Jul",3.1447197580645098E-2,1.400274,3.1414096774193503E-2,0.12575700000000001]
[null,null,null,null,null,null,null,null,null,null,"Aug",4.8108665217391301E-2,0.78918299999999997,4.8131166666666697E-2,0.18748600000000001]
[null,null,null,null,null,null,null,null,null,null,"Sep",4.5667230593607402E-2,1.025085,4.453472E-2,0.197687]
[null,null,null,null,null,null,null,null,null,null,"Oct",0.1,13.42,0.09,0.46]
[null,null,null,null,null,null,null,null,null,null,"Nov",0.02,1.86,0.02,0.1]
[null,null,null,null,null,null,null,null,null,null,"Dec",0,0.32,0,0.01]
[null,null,null,null,null,null,null,null,null,null,"Annual",{"$f":"AVERAGE(L22:L33)","v":3.3037959370960553E-2},{"$f":"MAX(M22:M33)","v":13.42},{"$f":"AVERAGE(N22:N33)","v":3.1503551292268978E-2},{"$f":"MAX(O22:O33)","v":0.46}]
[]
[null,null,null,null,null,null,null,null,null,{"$f":"+A5","v":2024},"mg/Nm3","Monthly mean of half-hourly averages","Highest half- hourly average","Monthly mean of  daily averages","Highest daily average"]
[null,null,null,null,null,null,null,null,null,"A3","Jan",5.0526663978494597E-2,37.138751999999997,5.0526612903225798E-2,0.78116200000000002]
[null,null,null,null,null,null,null,null,null,null,"Feb",0.15610399281092699,39.575066,0.15899606896551699,4.181934]
[null,null,null,null,null,null,null,null,null,null,"Mar",1.9970416568047399E-2,23.48,1.79672352941176E-2,7.9318E-2]
[null,null,null,null,null,null,null,null,null,null,"Apr",3.2865388888888902E-2,4.9882660000000003,3.2865444444444399E-2,0.340532]
[null,null,null,null,null,null,null,null,null,null,"May",4.95096354056902E-2,1.8865099999999999,4.5426611111111098E-2,0.29481800000000002]
[null,null,null,null,null,null,null,null,null,null,"Jun",8.9655643055555498E-2,12.903892000000001,8.9655633333333304E-2,1.5912999999999999]
[null,null,null,null,null,null,null,null,null,null,"Jul",6.2206069454816999E-2,34.480857999999998,6.2290999999999999E-2,0.77109700000000003]
[null,null,null,null,null,null,null,null,null,null,"Aug",0.116940810628742,9.7992319999999999,0.105857481481481,0.35106199999999999]
[null,null,null,null,null,null,null,null,null,null,"Sep",0.108985403394256,3.042869,0.1088396875,0.57284299999999999]
[null,null,null,null,null,null,null,null,null,null,"Oct",0.06,0.62,0.06,0.19]
[null,null,null,null,null,null,null,null,null,null,"Nov",0.06,9.74,0.02,0.22]
["Comments :",null,null,null,null,null,null,null,null,null,"Dec",0.05,2.72,0.02,0.06]
[null,null,null,null,null,null,null,null,null,null,"Annual",{"$f":"AVERAGE(L37:L48)","v":7.1397002015451558E-2},{"$f":"MAX(M37:M48)","v":39.575066},{"$f":"AVERAGE(N37:N48)","v":6.436881458610251E-2},{"$f":"MAX(O37:O48)","v":4.181934}]
[]
[null,null,null,null,null,null,null,null,null,{"$f":"+A5","v":2024},"mg/Nm3","Monthly mean of half-hourly averages","Highest half- hourly average","Monthly mean of  daily averages","Highest daily average"]
[null,null,null,null,null,null,null,null,null,"A4","Jan",0.238644975262369,1.943921,0.23831511111111101,0.33437699999999998]
[null,null,null,null,null,null,null,null,null,null,"Feb",0.218128100244499,4.0757779999999997,0.21673532000000001,0.39380199999999999]
[null,null,null,null,null,null,null,null,null,null,"Mar",0.27393868055555598,11.047765999999999,0.27387628571428602,0.46951100000000001]
[null,null,null,null,null,null,null,null,null,null,"Apr",0.28190909687499999,1.1283920000000001,0.28266405,0.327513]
[null,null,null,null,null,null,null,null,null,null,"May",0.33902045675020198,8.3857990000000004,0.33978979999999998,0.57172900000000004]
[null,null,null,null,null,null,null,null,null,null,"Jun",0.13581119680111201,4.5272439999999996,0.136363133333333,0.43744899999999998]
[null,null,null,null,null,null,null,null,null,null,"Jul",0.19626805344694001,6.8202319999999999,0.196300444444444,0.46908899999999998]
[null,null,null,null,null,null,null,null,null,null,"Aug",0.28020841995532397,7.4708899999999998,0.280834928571429,0.58767899999999995]
[null,null,null,null,null,null,null,null,null,null,"Sep",0.16858910971428601,4.6276960000000003,0.16501788888888899,0.29772300000000002]
[null,null,null,null,null,null,null,null,null,null,"Oct",0.37,5.42,0.38,0.53]
[null,null,null,null,null,null,null,null,null,null,"Nov",0.41,3.9,0.41,0.56000000000000005]
[null,null,null,null,null,null,null,null,null,null,"Dec",0.48,4.83,0.49,0.83]
[null,null,null,null,null,null,null,null,null,null,"Annual",{"$f":"AVERAGE(L52:L63)","v":0.28270984080044065},{"$f":"MAX(M52:M63)","v":11.047765999999999},{"$f":"AVERAGE(N52:N63)","v":0.28415808017195765},{"$f":"MAX(O52:O63)","v":0.83}]
[]
[null,null,null,null,null,null,null,null,null,{"$f":"+A5","v":2024},"mg/Nm3","Monthly mean of half-hourly averages","Highest half- hourly average","Monthly mean of  daily averages","Highest daily average"]
[null,null,null,null,null,null,null,null,null,"A5","Jan"]
[null,null,null,null,null,null,null,null,null,null,"Feb"]
[null,null,null,null,null,null,null,null,null,null,"Mar"]
[null,null,null,null,null,null,null,null,null,null,"Apr"]
[null,null,null,null,null,null,null,null,null,null,"May"]
[null,null,null,null,null,null,null,null,null,null,"Jun"]
[null,null,null,null,null,null,null,null,null,null,"Jul"]
[null,null,null,null,null,null,null,null,null,null,"Aug"]
[null,null,null,null,null,null,null,null,null,null,"Sep"]
[null,null,null,null,null,null,null,null,null,null,"Oct"]
[null,null,null,null,null,null,null,null,null,null,"Nov"]
[null,null,null,null,null,null,null,null,null,null,"Dec"]
[null,null,null,null,null,null,null,null,null,null,"Annual",{"$f":"AVERAGE(L67:L78)","v":{"$error":"#DIV/0!"}},{"$f":"MAX(M67:M78)","v":0},{"$f":"AVERAGE(N67:N78)","v":{"$error":"#DIV/0!"}},{"$f":"MAX(O67:O78)","v":0}]

{"sheet":"Particulates","index":19,"n_rows":79,"n_cols":17,"rows_kept":79,"cut":false,"hidden":false,"merged":[[4,16,8,18],[10,16,12,18],[13,16,16,18],[66,9,78,9],[4,1,4,3],[4,4,4,6],[4,9,4,14],[6,9,18,9],[21,9,33,9],[36,9,48,9],[47,0,47,6],[48,0,51,6],[51,9,63,9],[18,4,18,6]]}
[{"$f":"+'Cover Page'!$B$29","v":"Annual Performance Report 2024"},null,null,null,{"$f":"+'Cover Page'!$B$33","v":"Runcorn Energy From Waste Facility "}]
[]
["Monitoring of Particulate matter emissions",null,null,"Whole Installation",null,null,"See  Notes in Cell Q3",null,null,{"$f":"+A3","v":"Monitoring of Particulate matter emissions"},null,null,null,"Per Combustion Line",null,null,"Notes:"]
[]
[{"$f":"+'Cover Page'!C39","v":2024},"1/2 Hourly Reference Periods",null,null,"Daily Reference Periods",null,null,null,null,null,null,null,null,null,null,null,"User to add logic to complete Whole installation, Table A5:G18. From the data in Per Combustion Line, Table J6:O79, subject to No. of lines installed"]
["mg/Nm3","1/2 hourly PM ELV","Monthly mean of half-hourly averages","Highest half- hourly average","Daily PM ELV","Monthly mean of  daily averages","Highest daily average",null,null,{"$f":"+A5","v":2024},"mg/Nm3","Monthly mean of half-hourly averages","Highest half- hourly average","Monthly mean of  daily averages","Highest daily average"]
["Jan",30,{"$f":"AVERAGE(L7,L22,L37,L52)","v":0.84241103958000374},{"$f":"MAX(M7,M22,M37,M52)","v":11.168981},5,{"$f":"AVERAGE(N7,N22,N37,N52)","v":0.84712814953016879},{"$f":"MAX(O7,O22,O37,O52)","v":3.0181580000000001},null,null,"A1","Jan",0.410020096491229,0.48467700000000002,0.41002010526315802,0.435087]
["Feb",30,{"$f":"AVERAGE(L8,L23,L38,L53)","v":0.62445139033503771},{"$f":"MAX(M8,M23,M38,M53)","v":3.664479},5,{"$f":"AVERAGE(N8,N23,N38,N53)","v":0.62306934426336458},{"$f":"MAX(O8,O23,O38,O53)","v":2.3889490000000002},null,null,null,"Feb",0.38501311260253601,0.61449500000000001,0.38497660714285697,0.45902799999999999]
["Mar",30,0.55523021211391121,{"$f":"MAX(M9,M24,M39,M54)","v":5.4223359999999996},5,0.55264330643557424,{"$f":"MAX(O9,O24,O39,O54)","v":1.6318330000000001},null,null,null,"Mar",0.46850310913500398,0.81877100000000003,0.46877812000000002,0.55422499999999997]
["Apr",30,0.70445499950927326,{"$f":"MAX(M10,M25,M40,M55)","v":4.4148139999999998},5,0.70510351180555508,{"$f":"MAX(O10,O25,O40,O55)","v":2.2126990000000002},null,null,null,"Apr",0.49838112707182303,0.77327100000000004,0.49730249999999998,0.56668600000000002,null,"Whole Installation table A5:G18:"]
["May",30,0.70531561549517297,6.2649039999999996,5,0.70614014333333319,2.0645479999999998,null,null,null,"May",0.5,0.95,0.5,0.59,null,"Mean: for 1/2 hourly and daily periods calculate mean of values across all operational combustion lines for the month"]
["Jun",30,0.60029511255794921,1.7693669999999999,5,0.60053061666666674,1.660582,null,null,null,"Jun",0.69143788055555599,1.7693669999999999,0.69143786666666696,1.660582]
["Jul",30,1.0656076980836193,4.5521979999999997,5,0.70150643448071326,2.2921740000000002,null,null,null,"Jul",0.61529972977219205,1.3303799999999999,0.60848736000000003,0.77270000000000005]
["Aug",30,0.61152487500955954,4.8635250000000001,5,0.8261107399867722,2.2363460000000002,null,null,null,"Aug",0.62289366472060004,1.1296820000000001,0.62303012000000002,0.82609900000000003,null,"Maximum: for 1/2 hourly and daily periods use the highest value across all operational combustion lines for the month"]
["Sep",30,0.73785983963465529,4.2331469999999998,5,0.72552734020833332,1.350473,null,null,null,"Sep",0.671787031757755,4.2331469999999998,0.67259824999999995,1.163157]
["Oct",30,{"$f":"AVERAGE(L16,L31,L46,L61)","v":7.3549999999999995},{"$f":"MAX(M16,M31,M46,M61)","v":28952.95},5,{"$f":"AVERAGE(N16,N31,N46,N61)","v":7.6650000000000009},{"$f":"MAX(O16,O31,O46,O61)","v":603.97},null,null,null,"Oct",0.96,8.93,0.96,1.59]
["Nov",30,{"$f":"AVERAGE(L17,L32,L47,L62)","v":0.75749999999999995},{"$f":"MAX(M17,M32,M47,M62)","v":11.2},5,{"$f":"AVERAGE(N17,N32,N47,N62)","v":0.72750000000000004},{"$f":"MAX(O17,O32,O47,O62)","v":1.67},null,null,null,"Nov",0.57999999999999996,11.2,0.47,0.6]
["Dec",30,0.57250000000000001,{"$f":"MAX(M18,M33,M48,M63)","v":2.93},5,0.55499999999999994,{"$f":"MAX(O18,O33,O48,O63)","v":1.1100000000000001},null,null,null,"Dec",0.53,1.95,0.53,1.1100000000000001]
[null,null,null,null,null,null,null,null,null,null,"Annual",{"$f":"AVERAGE(L7:L18)","v":0.57777797934222463},{"$f":"MAX(M7:M18)","v":11.2},{"$f":"AVERAGE(N7:N18)","v":0.56805257742272353},{"$f":"MAX(O7:O18)","v":1.660582}]
[]
[null,null,null,null,null,null,null,null,null,{"$f":"+A5","v":2024},"mg/Nm3","Monthly mean of half-hourly averages","Highest half- hourly average","Monthly mean of  daily averages","Highest daily average"]
[null,null,null,null,null,null,null,null,null,"A2","Jan",0.69425221855486097,2.950825,0.70151239130434795,1.2758719999999999]
[null,null,null,null,null,null,null,null,null,null,"Feb",0.55025566589506103,2.4547189999999999,0.55025570370370402,1.378722]
[null,null,null,null,null,null,null,null,null,null,"Mar",0.82211364062500003,5.4223359999999996,0.821516178571429,1.6318330000000001]
[null,null,null,null,null,null,null,null,null,null,"Apr",0.83483519689119301,3.4993020000000001,0.83856912500000003,1.4392560000000001]
[null,null,null,null,null,null,null,null,null,null,"May",1.4133787656250001,4.7247300000000001,1.40335492,2.0645479999999998]
[null,null,null,null,null,null,null,null,null,null,"Jun",1.12633536666666,1.6938839999999999,1.1272709999999999,1.487309]
[null,null,null,null,null,null,null,null,null,null,"Jul",2.4268459999999998,0.97747232862903399,0.97679822580645104,1.649627]
[null,null,null,null,null,null,null,null,null,null,"Aug",0.62306899999999998,4.8635250000000001,1.4732242499999999,2.2363460000000002]
[null,null,null,null,null,null,null,null,null,null,"Sep",0.97017591704718498,4.0485889999999998,0.92156583999999997,1.350473]
[null,null,null,null,null,null,null,null,null,null,"Oct",26.99,28952.95,28.26,603.97,"*Moisture analyser giving untrue muliplyer to low dust reading"]
[null,null,null,null,null,null,null,null,null,null,"Nov",0.89,5.34,0.91,1.66]
[null,null,null,null,null,null,null,null,null,null,"Dec",0.81,1.25,0.81,0.97]
[null,null,null,null,null,null,null,null,null,null,"Annual",{"$f":"AVERAGE(L22:L33)","v":3.1792718142754133},{"$f":"MAX(M22:M33)","v":28952.95},{"$f":"AVERAGE(N22:N33)","v":3.2328389695321609},{"$f":"MAX(O22:O33)","v":603.97}]
[]
[null,null,null,null,null,null,null,null,null,{"$f":"+A5","v":2024},"mg/Nm3","Monthly mean of half-hourly averages","Highest half- hourly average","Monthly mean of  daily averages","Highest daily average"]
[null,null,null,null,null,null,null,null,null,"A3","Jan",0.31013805241935499,3.0109650000000001,0.31013806451612902,0.53205000000000002]
[null,null,null,null,null,null,null,null,null,null,"Feb",0.33675844787922399,1.243641,0.336678586206897,0.52883400000000003]
[null,null,null,null,null,null,null,null,null,null,"Mar",0.54641058579881596,1.4901310000000001,0.53639611764705897,0.86371200000000004]
[null,null,null,null,null,null,null,null,null,null,"Apr",1.1007701261574101,4.4148139999999998,1.10077022222222,2.2126990000000002]
[null,null,null,null,null,null,null,null,null,null,"May",0.50143420969441499,6.2649039999999996,0.51505633333333301,1.3307880000000001]
[null,null,null,null,null,null,null,null,null,null,"Jun",0.17189253611111099,0.45884799999999998,0.17189246666666699,0.31836300000000001]
[null,null,null,null,null,null,null,null,null,null,"Jul",0.82582298432835899,4.5521979999999997,0.82641589285714301,2.2921740000000002]
[null,null,null,null,null,null,null,null,null,null,"Aug",0.82773983308383303,1.9337740000000001,0.83598651851851802,1.1250990000000001]
[null,null,null,null,null,null,null,null,null,null,"Sep",0.90174379373368097,1.9776720000000001,0.90226843749999996,1.2888569999999999]
[null,null,null,null,null,null,null,null,null,null,"Oct",0.86,8.0399999999999991,0.85,2.37]
[null,null,null,null,null,null,null,null,null,null,"Nov",0.99,10.07,0.95,1.67]
["Comments :",null,null,null,null,null,null,null,null,null,"Dec",0.21,2.93,0.14000000000000001,0.4]
[null,null,null,null,null,null,null,null,null,null,"Annual",{"$f":"AVERAGE(L37:L48)","v":0.63189254743385037},{"$f":"MAX(M37:M48)","v":10.07},{"$f":"AVERAGE(N37:N48)","v":0.62296688662233046},{"$f":"MAX(O37:O48)","v":2.37}]
[]
[null,null,null,null,null,null,null,null,null,{"$f":"+A5","v":2024},"mg/Nm3","Monthly mean of half-hourly averages","Highest half- hourly average","Monthly mean of  daily averages","Highest daily average"]
[null,null,null,null,null,null,null,null,null,"A4","Jan",1.9552337908545701,11.168981,1.9668420370370401,3.0181580000000001]
[null,null,null,null,null,null,null,null,null,null,"Feb",1.22577833496333,3.664479,1.22036648,2.3889490000000002]
[null,null,null,null,null,null,null,null,null,null,"Mar",0.383893512896825,0.63780599999999998,0.38388280952380899,0.45345600000000003]
[null,null,null,null,null,null,null,null,null,null,"Apr",0.38383354791666702,0.49895899999999999,0.38377220000000001,0.40922399999999998]
[null,null,null,null,null,null,null,null,null,null,"May",0.406449486661277,0.61240600000000001,0.40614931999999998,0.43838899999999997]
[null,null,null,null,null,null,null,null,null,null,"Jun",0.41151466689846999,0.69585799999999998,0.41152113333333301,0.47421600000000003]
[null,null,null,null,null,null,null,null,null,null,"Jul",0.39446207823392698,1.07186,0.39432425925925901,0.47647200000000001]
[null,null,null,null,null,null,null,null,null,null,"Aug",0.37239700223380501,0.49112699999999998,0.37220207142857098,0.40651199999999998]
[null,null,null,null,null,null,null,null,null,null,"Sep",0.40773261599999999,0.77005400000000002,0.40567683333333299,0.44820199999999999]
[null,null,null,null,null,null,null,null,null,null,"Oct",0.61,5.19,0.59,0.68]
[null,null,null,null,null,null,null,null,null,null,"Nov",0.56999999999999995,3.54,0.57999999999999996,0.79]
[null,null,null,null,null,null,null,null,null,null,"Dec",0.74,1.46,0.74,1]
[null,null,null,null,null,null,null,null,null,null,"Annual",{"$f":"AVERAGE(L52:L63)","v":0.65510791972157267},{"$f":"MAX(M52:M63)","v":11.168981},{"$f":"AVERAGE(N52:N63)","v":0.65456142865961209},{"$f":"MAX(O52:O63)","v":3.0181580000000001}]
[]
[null,null,null,null,null,null,null,null,null,{"$f":"+A5","v":2024},"mg/Nm3","Monthly mean of half-hourly averages","Highest half- hourly average","Monthly mean of  daily averages","Highest daily average"]
[null,null,null,null,null,null,null,null,null,"A5","Jan"]
[null,null,null,null,null,null,null,null,null,null,"Feb"]
[null,null,null,null,null,null,null,null,null,null,"Mar"]
[null,null,null,null,null,null,null,null,null,null,"Apr"]
[null,null,null,null,null,null,null,null,null,null,"May"]
[null,null,null,null,null,null,null,null,null,null,"Jun"]
[null,null,null,null,null,null,null,null,null,null,"Jul"]
[null,null,null,null,null,null,null,null,null,null,"Aug"]
[null,null,null,null,null,null,null,null,null,null,"Sep"]
[null,null,null,null,null,null,null,null,null,null,"Oct"]
[null,null,null,null,null,null,null,null,null,null,"Nov"]
[null,null,null,null,null,null,null,null,null,null,"Dec"]
[null,null,null,null,null,null,null,null,null,null,"Annual",{"$f":"AVERAGE(L67:L78)","v":{"$error":"#DIV/0!"}},{"$f":"MAX(M67:M78)","v":0},{"$f":"AVERAGE(N67:N78)","v":{"$error":"#DIV/0!"}},{"$f":"MAX(O67:O78)","v":0}]

{"sheet":"CO 0.5 hourly","index":20,"n_rows":82,"n_cols":17,"rows_kept":82,"cut":false,"hidden":false,"merged":[[4,0,5,6],[6,16,10,18],[12,16,14,18],[15,16,18,18],[69,9,81,9],[7,1,7,3],[7,4,7,6],[7,9,7,14],[9,9,21,9],[24,9,36,9],[39,9,51,9],[50,0,50,6],[51,0,54,6],[54,9,66,9]]}
[{"$f":"+'Cover Page'!$B$29","v":"Annual Performance Report 2024"},null,null,null,{"$f":"+'Cover Page'!$B$33","v":"Runcorn Energy From Waste Facility "}]
[]
["Monitoring of Carbon Monoxide (half hourly)",null,null,"Whole Installation",null,null,"See  Notes in Cell Q3",null,null,{"$f":"+A3","v":"Monitoring of Carbon Monoxide (half hourly)"},null,null,null,"Per Combustion Line",null,null,"Notes:"]
[]
["Please complete this tab for your plant if you have 1/2 hourly CO ELVs; otherwise, leave it blank and complete the CO 95% 10 min tab"]
[]
[null,null,null,null,null,null,null,null,null,null,null,null,null,null,null,null,"User to add logic to complete Whole installation, Table A5:G18. From the data in Per Combustion Line, Table J6:O79, subject to No. of lines installed"]
[{"$f":"+'Cover Page'!C39","v":2024},"1/2 Hourly Reference Periods",null,null,"Daily Reference Periods"]
["mg/Nm3","1/2 hourly CO ELV","Monthly mean of half-hourly averages","Highest half- hourly average","Daily CO ELV","Monthly mean of  daily averages","Highest daily average",null,null,{"$f":"+A8","v":2024},"mg/Nm3","Monthly mean of half-hourly averages","Highest half- hourly average","Monthly mean of  daily averages","Highest daily average"]
["Jan",100,null,null,50,null,null,null,null,"A1","Jan"]
["Feb",{"$f":"+B10","v":100},null,null,{"$f":"+E10","v":50},null,null,null,null,null,"Feb"]
["Mar",{"$f":"+B11","v":100},null,null,{"$f":"+E11","v":50},null,null,null,null,null,"Mar",null,null,null,null,null,"Whole Installation table A5:G18:"]
["Apr",100,null,null,50,null,null,null,null,null,"Apr",null,null,null,null,null,"Mean: for 1/2 hourly and daily periods calculate mean of values across all operational combustion lines for the month"]
["May",100,null,null,50,null,null,null,null,null,"May"]
["Jun",100,null,null,50,null,null,null,null,null,"Jun"]
["Jul",100,null,null,50,null,null,null,null,null,"Jul",null,null,null,null,null,"Maximum: for 1/2 hourly and daily periods use the highest value across all operational combustion lines for the month"]
["Aug",100,null,null,50,null,null,null,null,null,"Aug"]
["Sep",100,null,null,50,null,null,null,null,null,"Sep"]
["Oct",100,null,null,50,null,null,null,null,null,"Oct"]
["Nov",100,null,null,50,null,null,null,null,null,"Nov"]
["Dec",100,null,null,50,null,null,null,null,null,"Dec"]
[null,null,null,null,null,null,null,null,null,null,"Annual",{"$f":"AVERAGE(L10:L21)","v":{"$error":"#DIV/0!"}},{"$f":"MAX(M10:M21)","v":0},{"$f":"AVERAGE(N10:N21)","v":{"$error":"#DIV/0!"}},{"$f":"MAX(O10:O21)","v":0}]
[]
[null,null,null,null,null,null,null,null,null,{"$f":"+A8","v":2024},"mg/Nm3","Monthly mean of half-hourly averages","Highest half- hourly average","Monthly mean of  daily averages","Highest daily average"]
[null,null,null,null,null,null,null,null,null,"A2","Jan"]
[null,null,null,null,null,null,null,null,null,null,"Feb"]
[null,null,null,null,null,null,null,null,null,null,"Mar"]
[null,null,null,null,null,null,null,null,null,null,"Apr"]
[null,null,null,null,null,null,null,null,null,null,"May"]
[null,null,null,null,null,null,null,null,null,null,"Jun"]
[null,null,null,null,null,null,null,null,null,null,"Jul"]
[null,null,null,null,null,null,null,null,null,null,"Aug"]
[null,null,null,null,null,null,null,null,null,null,"Sep"]
[null,null,null,null,null,null,null,null,null,null,"Oct"]
[null,null,null,null,null,null,null,null,null,null,"Nov"]
[null,null,null,null,null,null,null,null,null,null,"Dec"]
[null,null,null,null,null,null,null,null,null,null,"Annual",{"$f":"AVERAGE(L25:L36)","v":{"$error":"#DIV/0!"}},{"$f":"MAX(M25:M36)","v":0},{"$f":"AVERAGE(N25:N36)","v":{"$error":"#DIV/0!"}},{"$f":"MAX(O25:O36)","v":0}]
[]
[null,null,null,null,null,null,null,null,null,{"$f":"+A8","v":2024},"mg/Nm3","Monthly mean of half-hourly averages","Highest half- hourly average","Monthly mean of  daily averages","Highest daily average"]
[null,null,null,null,null,null,null,null,null,"A3","Jan"]
[null,null,null,null,null,null,null,null,null,null,"Feb"]
[null,null,null,null,null,null,null,null,null,null,"Mar"]
[null,null,null,null,null,null,null,null,null,null,"Apr"]
[null,null,null,null,null,null,null,null,null,null,"May"]
[null,null,null,null,null,null,null,null,null,null,"Jun"]
[null,null,null,null,null,null,null,null,null,null,"Jul"]
[null,null,null,null,null,null,null,null,null,null,"Aug"]
[null,null,null,null,null,null,null,null,null,null,"Sep"]
[null,null,null,null,null,null,null,null,null,null,"Oct"]
[null,null,null,null,null,null,null,null,null,null,"Nov"]
["Comments :",null,null,null,null,null,null,null,null,null,"Dec"]
[null,null,null,null,null,null,null,null,null,null,"Annual",{"$f":"AVERAGE(L40:L51)","v":{"$error":"#DIV/0!"}},{"$f":"MAX(M40:M51)","v":0},{"$f":"AVERAGE(N40:N51)","v":{"$error":"#DIV/0!"}},{"$f":"MAX(O40:O51)","v":0}]
[]
[null,null,null,null,null,null,null,null,null,{"$f":"+A8","v":2024},"mg/Nm3","Monthly mean of half-hourly averages","Highest half- hourly average","Monthly mean of  daily averages","Highest daily average"]
[null,null,null,null,null,null,null,null,null,"A4","Jan"]
[null,null,null,null,null,null,null,null,null,null,"Feb"]
[null,null,null,null,null,null,null,null,null,null,"Mar"]
[null,null,null,null,null,null,null,null,null,null,"Apr"]
[null,null,null,null,null,null,null,null,null,null,"May"]
[null,null,null,null,null,null,null,null,null,null,"Jun"]
[null,null,null,null,null,null,null,null,null,null,"Jul"]
[null,null,null,null,null,null,null,null,null,null,"Aug"]
[null,null,null,null,null,null,null,null,null,null,"Sep"]
[null,null,null,null,null,null,null,null,null,null,"Oct"]
[null,null,null,null,null,null,null,null,null,null,"Nov"]
[null,null,null,null,null,null,null,null,null,null,"Dec"]
[null,null,null,null,null,null,null,null,null,null,"Annual",{"$f":"AVERAGE(L55:L66)","v":{"$error":"#DIV/0!"}},{"$f":"MAX(M55:M66)","v":0},{"$f":"AVERAGE(N55:N66)","v":{"$error":"#DIV/0!"}},{"$f":"MAX(O55:O66)","v":0}]
[]
[null,null,null,null,null,null,null,null,null,{"$f":"+A8","v":2024},"mg/Nm3","Monthly mean of half-hourly averages","Highest half- hourly average","Monthly mean of  daily averages","Highest daily average"]
[null,null,null,null,null,null,null,null,null,"A5","Jan"]
[null,null,null,null,null,null,null,null,null,null,"Feb"]
[null,null,null,null,null,null,null,null,null,null,"Mar"]
[null,null,null,null,null,null,null,null,null,null,"Apr"]
[null,null,null,null,null,null,null,null,null,null,"May"]
[null,null,null,null,null,null,null,null,null,null,"Jun"]
[null,null,null,null,null,null,null,null,null,null,"Jul"]
[null,null,null,null,null,null,null,null,null,null,"Aug"]
[null,null,null,null,null,null,null,null,null,null,"Sep"]
[null,null,null,null,null,null,null,null,null,null,"Oct"]
[null,null,null,null,null,null,null,null,null,null,"Nov"]
[null,null,null,null,null,null,null,null,null,null,"Dec"]
[null,null,null,null,null,null,null,null,null,null,"Annual",{"$f":"AVERAGE(L70:L81)","v":{"$error":"#DIV/0!"}},{"$f":"MAX(M70:M81)","v":0},{"$f":"AVERAGE(N70:N81)","v":{"$error":"#DIV/0!"}},{"$f":"MAX(O70:O81)","v":0}]

{"sheet":"CO 95% 10 min","index":21,"n_rows":82,"n_cols":19,"rows_kept":82,"cut":false,"hidden":false,"merged":[[4,0,5,7],[6,18,10,20],[12,18,14,20],[15,18,18,20],[69,10,81,10],[7,1,7,4],[7,5,7,7],[7,10,7,16],[9,10,21,10],[24,10,36,10],[39,10,51,10],[50,0,50,7],[51,0,54,7],[54,10,66,10]]}
[{"$f":"+'Cover Page'!$B$29","v":"Annual Performance Report 2024"},null,null,null,{"$f":"+'Cover Page'!$B$33","v":"Runcorn Energy From Waste Facility "}]
[]
["Monitoring of Carbon Monoxide (10-minute avg)",null,null,null,"Whole Installation",null,null,"See  Notes in Cell S3",null,{"$f":"+A3","v":"Monitoring of Carbon Monoxide (10-minute avg)"},null,null,null,null,"Per Combustion Line",null,"Notes:",null,"Notes:"]
[]
["Please complete this tab for your plant if you have 10-minute average CO ELVs; otherwise, leave it blank and complete the CO 0.5 hourly tab"]
[]
[null,null,null,null,null,null,null,null,null,null,null,null,null,null,null,null,null,null,"User to add logic to complete Whole installation, Table A5:H18. From the data in Per Combustion Line, Table K6:Q79, subject to No. of lines installed"]
[{"$f":"+'Cover Page'!C39","v":2024},"10-minute Reference Periods",null,null,null,"Daily Reference Periods"]
["mg/Nm3","95%ile 10-min avg CO ELV","Highest daily 95%ile 10-min average","Monthly mean of 10-min averages","Highest 10-min average","Daily CO ELV","Monthly mean of  daily averages","Highest daily average",null,null,{"$f":"+A8","v":2024},"mg/Nm3","Highest daily 95%ile 10-min average","Monthly mean of 10-min averages","Highest 10-min average","Monthly mean of  daily averages","Highest daily average"]
["Jan",150,{"$f":"MAX(M10,M25,M40,M55)","v":665.86953700000004},{"$f":"AVERAGE(N10,N25,N40,N55)","v":4.824025123311694},{"$f":"MAX(O10,O25,O40,O55)","v":141.94446701388901},50,{"$f":"AVERAGE(P10,P25,P40,P55)","v":2.8097491912023349},{"$f":"MAX(Q10,Q25,Q40,Q55)","v":27.637487},null,null,"A1","Jan",9.6005675000000004,3.2018105612373735,5.1074845,3.213349684210526,5.1025320000000001]
["Feb",{"$f":"+B10","v":150},{"$f":"MAX(M11,N26,M41,M56)","v":253.401871},{"$f":"AVERAGE(N11,N26,N41,N56)","v":3.9508143426427988},{"$f":"MAX(O11,O26,O41,O56)","v":253.401871},{"$f":"+F10","v":50},{"$f":"AVERAGE(P11,P26,P41,P56)","v":3.2177648895616677},{"$f":"MAX(Q11,Q26,Q41,Q56)","v":28.307600000000001},null,null,null,"Feb",9.8709284999999998,4.5057075094246057,9.8709284999999998,4.3657568928571422,28.307600000000001]
["Mar",{"$f":"+B11","v":150},{"$f":"MAX(M12,M27,M42,M57)","v":1112.097473},{"$f":"AVERAGE(N12,N27,N42,N57)","v":5.8921333122807349},{"$f":"MAX(O12,O27,O42,O57)","v":1112.097473},{"$f":"+F11","v":50},{"$f":"AVERAGE(P12,P27,P42,P57)","v":2.9433483240914793},16.124493000000001,null,null,null,"Mar",1112.097473,12.681997356916387,1112.097473,2.827446607142857,6.197641,null,"Whole Installation table A5:H18:"]
["Apr",150,32.711651000000003,{"$f":"AVERAGE(N13,N28,N43,N58)","v":3.6430231139858473},{"$f":"MAX(O13,O28,O43,O58)","v":69.049522499999995},50,{"$f":"AVERAGE(P13,P28,P43,P58)","v":2.2336707323830409},7.9461339999999998,null,null,null,"Apr",13.199964,2.127094790935673,3.6671244166666699,2.0917323684210527,3.3690669999999998,null,"Mean: for 10-min and daily periods use average of all operational combustion lines."]
["May",150,1597.0454709999999,13.926578610420092,1597.0454709999999,50,2.9593492072403977,47.988579000000001,null,null,null,"May",11.26821,2.4406523884099602,11.26821,2.4245926551724137,12.45055]
["Jun",150,79.608020999999994,2.8722125752314804,79.608020999999994,50,2.5529505583333334,35.997050999999999,null,null,null,"Jun",37.104253499999999,4.9538996337962944,37.104253499999999,4.9538996000000006,35.997050999999999]
["Jul",150,860.71340950000001,4.18879219447608,201.89219791666699,50,2.813801177995392,60.822623999999998,null,null,null,"Jul",860.71340950000001,11.078963877464172,201.89219791666699,5.1926315806451617,60.822623999999998,null,"Maximum: for 10-min and daily periods use the highest of all operational combustion lines in any month."]
["Aug",150,43.5792675,2.2481096224395527,43.5792675,50,2.2832083163690475,54.864738000000003,null,null,null,"Aug",11.874057499999999,1.7627825925000007,11.874057499999999,1.7629722000000003,3.8166890000000002]
["Sep",150,970.05117800000005,10.061948426947129,970.05117800000005,50,3.1619844349856319,71.517432999999997,null,null,null,"Sep",970.05117800000005,22.932103645370354,970.05117800000005,5.487537333333333,71.192284000000001]
["Oct",150,{"$f":"MAX(M19,M34,M49,M64)","v":1329.95},{"$f":"AVERAGE(N19,N34,N49,N64)","v":9.5549999999999997},{"$f":"MAX(O19,O34,O49,O64)","v":1668.75},50,{"$f":"AVERAGE(P19,P34,P49,P64)","v":2.95},{"$f":"MAX(Q19,Q34,Q49,Q64)","v":57.26},null,null,null,"Oct",1329.95,18.399999999999999,1531.81,2.27,5.5]
["Nov",150,{"$f":"MAX(M20,N35,M50,M65)","v":1244.8399999999999},{"$f":"AVERAGE(N20,N35,N50,N65)","v":7.7974999999999994},{"$f":"MAX(O20,O35,O50,O65)","v":1653.69},50,{"$f":"AVERAGE(P20,P35,P50,P65)","v":2.5274999999999999},{"$f":"MAX(Q20,Q35,Q50,Q65)","v":60.54},null,null,null,"Nov",1244.8399999999999,14.25,1653.69,2.93,20.170000000000002]
["Dec",150,{"$f":"MAX(M21,M36,M51,M66)","v":941.68},{"$f":"AVERAGE(N21,N36,N51,N66)","v":5.6875},{"$f":"MAX(O21,O36,O51,O66)","v":1805.92},50,{"$f":"AVERAGE(P21,P36,P51,P66)","v":1.3225000000000002},5.13,null,null,null,"Dec",12.35,2.7,83.03,2.7,4.8099999999999996]
[null,null,null,null,null,null,null,null,null,null,null,"Annual",{"$f":"MAX(M10:M21)","v":1329.95},{"$f":"AVERAGE(N10:N21)","v":8.419584363004569},{"$f":"MAX(O10:O21)","v":1653.69},{"$f":"AVERAGE(P10:P21)","v":3.3516599101485411},{"$f":"MAX(Q10:Q21)","v":71.192284000000001}]
[]
[null,null,null,null,null,null,null,null,null,null,{"$f":"+A8","v":2024},"mg/Nm3","Highest daily 95%ile 10-min average","Monthly mean of 10-min averages","Highest 10-min average","Monthly mean of  daily averages","Highest daily average"]
[null,null,null,null,null,null,null,null,null,null,"A2","Jan",396.87062100000003,3.4429304742476834,76.093334756944401,0.31624504166666667,1.0685169999999999]
[null,null,null,null,null,null,null,null,null,null,null,"Feb",8.6793899999999997,0.87750409079218072,8.6793899999999997,0.87750414814814826,3.3233410000000001]
[null,null,null,null,null,null,null,null,null,null,null,"Mar",8.1543489999999998,1.8104962309027781,8.1543489999999998,1.8091307142857147,3.276786]
[null,null,null,null,null,null,null,null,null,null,null,"Apr",2.509163,6.3979226388888888,69.049522499999995,0.79202094444444449,2.509163]
[null,null,null,null,null,null,null,null,null,null,null,"May",1.1079870000000001,29.943279814814815,1.1079870000000001,0.35206003703703709,1.1079870000000001]
[null,null,null,null,null,null,null,null,null,null,null,"Jun",4.1281939999999997,1.8159486166666667,4.1281939999999997,0.54489369999999993,4.1281939999999997]
[null,null,null,null,null,null,null,null,null,null,null,"Jul",6.2721109999999998,0.50397465770609295,1.58720597222222,0.50071377419354846,1.532111]
[null,null,null,null,null,null,null,null,null,null,null,"Aug",8.1880354999999998,0.89675603530092618,8.1880354999999998,0.86003045833333347,3.530948]
[null,null,null,null,null,null,null,null,null,null,null,"Sep",318.83334350000001,3.124659117337163,318.83334350000001,1.2537444482758622,21.421471]
[null,null,null,null,null,null,null,null,null,null,null,"Oct",475.29,6.9,798.31,1.02,6.81]
[null,null,null,null,null,null,null,null,null,null,null,"Nov",363.86,9.1199999999999992,813.02,3.78,60.54]
[null,null,null,null,null,null,null,null,null,null,null,"Dec",6.2,0.75,33.39,0.75,1.56]
[null,null,null,null,null,null,null,null,null,null,null,"Annual",{"$f":"MAX(M25:M36)","v":475.29},{"$f":"AVERAGE(N25:N36)","v":5.4652893063881001},{"$f":"MAX(O25:O36)","v":813.02},{"$f":"AVERAGE(P25:P36)","v":1.0713619388653963},{"$f":"MAX(Q25:Q36)","v":60.54}]
[]
[null,null,null,null,null,null,null,null,null,null,{"$f":"+A8","v":2024},"mg/Nm3","Highest daily 95%ile 10-min average","Monthly mean of 10-min averages","Highest 10-min average","Monthly mean of  daily averages","Highest daily average"]
[null,null,null,null,null,null,null,null,null,null,"A3","Jan",27.452706500000001,3.3267665013440864,25.1999876527778,3.4054329354838706,27.637487]
[null,null,null,null,null,null,null,null,null,null,null,"Feb",26.366512499999999,2.7601757090517234,26.366512499999999,2.6915003103448276,7.4920949999999999]
[null,null,null,null,null,null,null,null,null,null,null,"Mar",249.562119,5.004495045893723,249.562119,3.068358736842105,16.124493000000001]
[null,null,null,null,null,null,null,null,null,null,null,"Apr",32.711651000000003,2.9961167924382717,7.9461337013888897,2.9960991666666668,7.9461339999999998]
[null,null,null,null,null,null,null,null,null,null,null,"May",1597.0454709999999,19.144244855709871,1597.0454709999999,6.1061884444444461,47.988579000000001]
[null,null,null,null,null,null,null,null,null,null,null,"Jun",79.608020999999994,2.2018836412037031,79.608020999999994,2.2017752666666666,10.965916]
[null,null,null,null,null,null,null,null,null,null,null,"Jul",9.9720604999999995,3.9947174461805544,45.098833701388898,4.366634357142857,57.113258000000002]
[null,null,null,null,null,null,null,null,null,null,null,"Aug",43.5792675,4.2085443870068895,43.5792675,4.3854374642857143,54.864738000000003]
[null,null,null,null,null,null,null,null,null,null,null,"Sep",18.416510500000001,1.180743569733796,18.416510500000001,1.1765847083333332,4.6302409999999998]
[null,null,null,null,null,null,null,null,null,null,null,"Oct",185.61,5.08,668.32,3.94,16.87]
[null,null,null,null,null,null,null,null,null,null,null,"Nov",286.89999999999998,6.32,436.52,2.11,6.54]
["Comments :",null,null,null,null,null,null,null,null,null,null,"Dec",251.97,5.84,354.1,1.1000000000000001,5.13]
["Environment Agency explanatory note: The 10-minute average ELV is based on the “95th percentile”. In this case this means that 95% of the 10 minute averages in the relevant 24-hour period (i.e. 137) must be below 150 mg/Nm3, and 5% (i.e. 7) are allowed to be any value above 150 mg/Nm3. Whilst we expect operators to minimise CO emissions at all times, it is perfectly acceptable for the value of the maximum 10-minute average to be above 150 mg/Nm3, provided the 95th percentile ELV has been met for that period. ",null,null,null,null,null,null,null,null,null,null,"Annual",{"$f":"MAX(M40:M51)","v":1597.0454709999999},{"$f":"AVERAGE(N40:N51)","v":5.1714739957135514},{"$f":"MAX(O40:O51)","v":1597.0454709999999},{"$f":"AVERAGE(P40:P51)","v":3.1290009491842077},{"$f":"MAX(Q40:Q51)","v":57.113258000000002}]
[]
[null,null,null,null,null,null,null,null,null,null,{"$f":"+A8","v":2024},"mg/Nm3","Highest daily 95%ile 10-min average","Monthly mean of 10-min averages","Highest 10-min average","Monthly mean of  daily averages","Highest daily average"]
[null,null,null,null,null,null,null,null,null,null,"A4","Jan",665.86953700000004,9.3245929564176304,141.94446701388901,4.3039691034482761,13.72017]
[null,null,null,null,null,null,null,null,null,null,null,"Feb",253.401871,7.6598700613026844,253.401871,4.9362982068965531,12.216054]
[null,null,null,null,null,null,null,null,null,null,null,"Mar",47.340202499999997,4.0715446154100521,47.340202499999997,4.0684572380952391,12.707670999999999]
[null,null,null,null,null,null,null,null,null,null,null,"Apr",19.1690185,3.0509582336805554,6.5356147222222303,3.0548304499999994,6.5907730000000004]
[null,null,null,null,null,null,null,null,null,null,null,"May",181.19525100000001,4.1781373827457253,181.19525100000001,2.9545556923076925,9.1534200000000006]
[null,null,null,null,null,null,null,null,null,null,null,"Jun",70.537399500000006,2.5171184092592584,70.537399500000006,2.5112336666666666,13.460907000000001]
[null,null,null,null,null,null,null,null,null,null,null,"Jul",12.619054,1.1775127965534991,7.2315255138888901,1.1952250000000002,7.5344220000000002]
[null,null,null,null,null,null,null,null,null,null,null,"Aug",35.782222500000003,2.1243554749503959,35.782222500000003,2.1243931428571421,8.4439250000000001]
[null,null,null,null,null,null,null,null,null,null,null,"Sep",529.93090800000004,13.0102873753472,529.93090800000004,4.7300712499999999,71.517432999999997]
[null,null,null,null,null,null,null,null,null,null,null,"Oct",1114.1300000000001,7.84,1668.75,4.57,57.26]
[null,null,null,null,null,null,null,null,null,null,null,"Nov",19.079999999999998,1.5,311,1.29,4.43]
[null,null,null,null,null,null,null,null,null,null,null,"Dec",941.68,13.46,1805.92,0.74,1.35]
[null,null,null,null,null,null,null,null,null,null,null,"Annual",{"$f":"MAX(M55:M66)","v":1114.1300000000001},{"$f":"AVERAGE(N55:N66)","v":5.8261981088055848},{"$f":"MAX(O55:O66)","v":1805.92},{"$f":"AVERAGE(P55:P66)","v":3.0399194791892974},{"$f":"MAX(Q55:Q66)","v":71.517432999999997}]
[]
[null,null,null,null,null,null,null,null,null,null,{"$f":"+A8","v":2024},"mg/Nm3","95%ile 10-min avg maximum","Monthly CO 10-min avg mean","10-min avg maximum","Monthly daily mean","Monthly daily maximum"]
[null,null,null,null,null,null,null,null,null,null,"A5","Jan"]
[null,null,null,null,null,null,null,null,null,null,null,"Feb"]
[null,null,null,null,null,null,null,null,null,null,null,"Mar"]
[null,null,null,null,null,null,null,null,null,null,null,"Apr"]
[null,null,null,null,null,null,null,null,null,null,null,"May"]
[null,null,null,null,null,null,null,null,null,null,null,"Jun"]
[null,null,null,null,null,null,null,null,null,null,null,"Jul"]
[null,null,null,null,null,null,null,null,null,null,null,"Aug"]
[null,null,null,null,null,null,null,null,null,null,null,"Sep"]
[null,null,null,null,null,null,null,null,null,null,null,"Oct"]
[null,null,null,null,null,null,null,null,null,null,null,"Nov"]
[null,null,null,null,null,null,null,null,null,null,null,"Dec"]
[null,null,null,null,null,null,null,null,null,null,null,"Annual",{"$f":"AVERAGE(M70:M81)","v":{"$error":"#DIV/0!"}},null,{"$f":"MAX(O70:O81)","v":0},{"$f":"AVERAGE(P70:P81)","v":{"$error":"#DIV/0!"}},{"$f":"MAX(Q70:Q81)","v":0}]

{"sheet":"NH3","index":22,"n_rows":79,"n_cols":17,"rows_kept":79,"cut":false,"hidden":false,"merged":[[3,16,7,18],[9,16,11,18],[12,16,15,18],[66,9,78,9],[4,1,4,3],[4,4,4,6],[4,9,4,14],[6,9,18,9],[21,9,33,9],[36,9,48,9],[47,0,47,6],[48,0,51,6],[51,9,63,9],[18,4,18,6]]}
[{"$f":"+'Cover Page'!$B$29","v":"Annual Performance Report 2024"},null,null,null,{"$f":"+'Cover Page'!$B$33","v":"Runcorn Energy From Waste Facility "}]
[]
["Monitoring of Ammnonia emissions ",null,null,"Whole Installation",null,null,"See  Notes in Cell Q3",null,null,{"$f":"+A3","v":"Monitoring of Ammnonia emissions "},null,null,null,"Per Combustion Line",null,null,"Notes:"]
[null,null,null,null,null,null,null,null,null,null,null,null,null,null,null,null,"User to add logic to complete Whole installation, Table A5:G18. From the data in Per Combustion Line, Table J6:O79, subject to No. of lines installed"]
[{"$f":"+'Cover Page'!C39","v":2024},"1/2 Hourly Reference Periods",null,null,"Daily Reference Periods"]
["mg/Nm3","1/2 hourly NH3 ELV","Monthly mean of half-hourly averages","Highest half- hourly average","Daily NH3 ELV","Monthly mean of  daily averages","Highest daily average",null,null,{"$f":"+A5","v":2024},"mg/Nm3","Monthly mean of half-hourly averages","Highest half- hourly average","Monthly mean of  daily averages","Highest daily average"]
["Jan","None",{"$f":"AVERAGE(L7,L22,L37,L52)","v":0.26377588062394608},{"$f":"MAX(M7,M22,M37,M52)","v":12.548048},15,{"$f":"AVERAGE(N7,N22,N37,N52)","v":0.26339894700001898},{"$f":"MAX(O7,O22,O37,O52)","v":1.0900479999999999},null,null,"A1","Jan",0.27032382565789498,1.9031119999999999,0.27032394736842102,0.79371599999999998]
["Feb",{"$f":"+B7","v":"None"},{"$f":"AVERAGE(L8,L23,L38,L53)","v":0.30010162321340705},{"$f":"MAX(M8,M23,M38,M53)","v":13.572877999999999},15,{"$f":"AVERAGE(N8,N23,N38,N53)","v":0.29810169813264009},{"$f":"MAX(O8,O23,O38,O53)","v":1.8576680000000001},null,null,null,"Feb",0.413241434004474,4.3304410000000004,0.41373292857142902,1.2142949999999999]
["Mar",{"$f":"+B8","v":"None"},{"$f":"AVERAGE(L9,L24,L39,L54)","v":0.19704704045382543},14.942271,15,0.1907235411274511,0.72575400000000001,null,null,null,"Mar",0.303389044462409,2.5351080000000001,0.30572564000000002,0.72575400000000001,null,"Whole Installation table A5:G18:"]
["Apr","None",{"$f":"AVERAGE(L10,L25,L40,L55)","v":0.22957971621974624},19.946365,15,0.22466035937500001,1.098641,null,null,null,"Apr",0.148768539226519,14.391336000000001,0.13343477777777801,0.57673200000000002,null,"Mean: for 1/2 hourly and daily periods calculate mean of values across all operational combustion lines for the month"]
["May","None",0.54666550479278186,9.2541480000000007,15,0.54061405277777774,2.279245,null,null,null,"May",2.3684969109195399E-2,1.3637349999999999,2.3685000000000001E-2,0.13966300000000001]
["Jun","None",0.27619203563905304,3.171135,15,0.27667181666666674,2.2875260000000002,null,null,null,"Jun",0.26874444444444401,3.171135,0.26874456666666702,2.0950250000000001]
["Jul","None",{"$f":"AVERAGE(L13,L28,L43,L58)","v":0.19499797478118713},{"$f":"MAX(M13,M28,M43,M58)","v":3.3443000000000001},15,{"$f":"AVERAGE(N13,N28,N43,N58)","v":0.17838144159711539},{"$f":"MAX(O13,O28,O43,O58)","v":1.165913},null,null,null,"Jul",0.102256408483896,3.2560630000000002,3.6921280000000001E-2,0.30136800000000002,null,"Maximum: for 1/2 hourly and daily periods use the highest value across all operational combustion lines for the month"]
["Aug","None",{"$f":"AVERAGE(L14,L29,L44,L59)","v":0.11025768917795094},{"$f":"MAX(M14,M29,M44,M59)","v":4.4146239999999999},15,{"$f":"AVERAGE(N14,N29,N44,N59)","v":0.10762770113756612},{"$f":"MAX(O14,O29,O44,O59)","v":0.66902300000000003},null,null,null,"Aug",7.1098932443703104E-3,0.25057299999999999,7.1080400000000004E-3,5.6440999999999998E-2]
["Sep","None",{"$f":"AVERAGE(L15,L30,L45,L60)","v":0.20229812526707949},{"$f":"MAX(M15,M30,M45,M60)","v":2.548543},15,{"$f":"AVERAGE(N15,N30,N45,N60)","v":0.19398523780753968},{"$f":"MAX(O15,O30,O45,O60)","v":0.93563799999999997},null,null,null,"Sep",4.5474524372230402E-2,2.548543,4.5814964285714299E-2,0.35367100000000001]
["Oct","None",{"$f":"AVERAGE(L16,L31,L46,L61)","v":0.19500000000000001},{"$f":"MAX(M16,M31,M46,M61)","v":2.72},15,{"$f":"AVERAGE(N16,N31,N46,N61)","v":0.19750000000000001},{"$f":"MAX(O16,O31,O46,O61)","v":1.1200000000000001},null,null,null,"Oct",0.04,0.74,0.04,0.16]
["Nov","None",{"$f":"AVERAGE(L17,L32,L47,L62)","v":0.12},{"$f":"MAX(M17,M32,M47,M62)","v":18.239999999999998},15,{"$f":"AVERAGE(N17,N32,N47,N62)","v":9.2499999999999999E-2},{"$f":"MAX(O17,O32,O47,O62)","v":0.48},null,null,null,"Nov",7.0000000000000007E-2,3.11,0.04,0.13]
["Dec","None",{"$f":"AVERAGE(L18,L33,L48,L63)","v":0.17250000000000001},5.74,15,0.16500000000000001,1.01,null,null,null,"Dec",0.09,2.62,0.08,0.38]
[null,null,null,null,null,null,null,null,null,null,"Annual",{"$f":"AVERAGE(L7:L18)","v":0.14858275691711942},{"$f":"MAX(M7:M18)","v":14.391336000000001},{"$f":"AVERAGE(N7:N18)","v":0.13879092872250079},{"$f":"MAX(O7:O18)","v":2.0950250000000001}]
[]
[null,null,null,null,null,null,null,null,null,{"$f":"+A5","v":2024},"mg/Nm3","Monthly mean of half-hourly averages","Highest half- hourly average","Monthly mean of  daily averages","Highest daily average"]
[null,null,null,null,null,null,null,null,null,"A2","Jan",0.47031548617306002,12.548048,0.469598956521739,1.0900479999999999]
[null,null,null,null,null,null,null,null,null,null,"Feb",3.25143572530864E-2,1.2906120000000001,3.2514407407407402E-2,0.148895]
[null,null,null,null,null,null,null,null,null,null,"Mar",1.81857098214286E-2,0.64364500000000002,1.8204678571428601E-2,6.9435999999999998E-2]
[null,null,null,null,null,null,null,null,null,null,"Apr",0.34957136917098403,1.4261349999999999,0.34728043749999998,1.098641]
[null,null,null,null,null,null,null,null,null,null,"May",1.91426522697368,9.2541480000000007,1.8908256000000001,2.279245]
[null,null,null,null,null,null,null,null,null,null,"Jun",0.34196250347222201,2.5710869999999999,0.34512379999999998,2.2875260000000002]
[null,null,null,null,null,null,null,null,null,null,"Jul",2.31337231182796E-2,0.75758599999999998,2.3146225806451599E-2,0.15471299999999999]
[null,null,null,null,null,null,null,null,null,null,"Aug",9.8856130434782606E-3,1.2664070000000001,9.8973333333333292E-3,5.3022E-2]
[null,null,null,null,null,null,null,null,null,null,"Sep",6.0014105022830999E-2,1.9935849999999999,2.5881479999999998E-2,0.15401500000000001]
[null,null,null,null,null,null,null,null,null,null,"Oct",0.06,2.72,0.05,0.24]
[null,null,null,null,null,null,null,null,null,null,"Nov",0.03,2.77,0.03,0.18]
[null,null,null,null,null,null,null,null,null,null,"Dec",0.02,1.07,0.02,0.13]
[null,null,null,null,null,null,null,null,null,null,"Annual",{"$f":"AVERAGE(L22:L33)","v":0.27748734117075413},{"$f":"MAX(M22:M33)","v":12.548048},{"$f":"AVERAGE(N22:N33)","v":0.27187274326169658},{"$f":"MAX(O22:O33)","v":2.2875260000000002}]
[]
[null,null,null,null,null,null,null,null,null,{"$f":"+A5","v":2024},"mg/Nm3","Monthly mean of half-hourly averages","Highest half- hourly average","Monthly mean of  daily averages","Highest daily average"]
[null,null,null,null,null,null,null,null,null,"A3","Jan",0.28815111021505402,0.96515499999999999,0.28815103225806399,0.45663999999999999]
[null,null,null,null,null,null,null,null,null,null,"Feb",0.39904956793673602,2.252456,0.39894589655172402,0.89426099999999997]
[null,null,null,null,null,null,null,null,null,null,"Mar",0.37814296804733699,14.942271,0.35056294117647102,0.52827900000000005]
[null,null,null,null,null,null,null,null,null,null,"Apr",0.28769721064814802,19.946365,0.28769722222222199,0.602406]
[null,null,null,null,null,null,null,null,null,null,"May",0.21007780611169599,3.9170400000000001,0.21311261111111099,0.53731899999999999]
[null,null,null,null,null,null,null,null,null,null,"Jun",0.19054755416666699,1.159224,0.19054763333333299,0.294213]
[null,null,null,null,null,null,null,null,null,null,"Jul",0.20408773731343299,3.3443000000000001,0.20385296428571401,0.40107300000000001]
[null,null,null,null,null,null,null,null,null,null,"Aug",0.40669421989528798,4.4146239999999999,0.39642107407407401,0.66902300000000003]
[null,null,null,null,null,null,null,null,null,null,"Sep",0.69373466710182796,2.3498060000000001,0.69411806249999997,0.93563799999999997]
[null,null,null,null,null,null,null,null,null,null,"Oct",0.4,2.68,0.4,0.56000000000000005]
[null,null,null,null,null,null,null,null,null,null,"Nov",0.38,18.239999999999998,0.3,0.48]
["Comments :",null,null,null,null,null,null,null,null,null,"Dec",0.55000000000000004,5.74,0.53,1.01]
["An indicated ELV value of zero in the table above means that no ammonia limit is/was set in the permit.  ",null,null,null,null,null,null,null,null,null,"Annual",{"$f":"AVERAGE(L37:L48)","v":0.3656819034530156},{"$f":"MAX(M37:M48)","v":19.946365},{"$f":"AVERAGE(N37:N48)","v":0.35445078645939271},{"$f":"MAX(O37:O48)","v":1.01}]
[]
[null,null,null,null,null,null,null,null,null,{"$f":"+A5","v":2024},"mg/Nm3","Monthly mean of half-hourly averages","Highest half- hourly average","Monthly mean of  daily averages","Highest daily average"]
[null,null,null,null,null,null,null,null,null,"A4","Jan",2.6313100449775102E-2,0.38716499999999998,2.55218518518519E-2,9.2894000000000004E-2]
[null,null,null,null,null,null,null,null,null,null,"Feb",0.35560113365933199,13.572877999999999,0.34721355999999998,1.8576680000000001]
[null,null,null,null,null,null,null,null,null,null,"Mar",8.8470439484127097E-2,1.484251,8.8400904761904806E-2,0.63925200000000004]
[null,null,null,null,null,null,null,null,null,null,"Apr",0.13228174583333399,4.5431559999999998,0.13022900000000001,0.34864699999999998]
[null,null,null,null,null,null,null,null,null,null,"May",3.8634016976556197E-2,4.3564639999999999,3.4833000000000003E-2,0.20566599999999999]
[null,null,null,null,null,null,null,null,null,null,"Jun",0.30351364047287899,2.638906,0.30227126666666698,0.83873200000000003]
[null,null,null,null,null,null,null,null,null,null,"Jul",0.45051403020913999,2.9450249999999998,0.44960529629629598,1.165913]
[null,null,null,null,null,null,null,null,null,null,"Aug",1.7341030528667201E-2,0.84994400000000003,1.7084357142857099E-2,6.8937999999999999E-2]
[null,null,null,null,null,null,null,null,null,null,"Sep",9.96920457142857E-3,1.088911,1.01264444444444E-2,4.3597999999999998E-2]
[null,null,null,null,null,null,null,null,null,null,"Oct",0.28000000000000003,2.5,0.3,1.1200000000000001]
[null,null,null,null,null,null,null,null,null,null,"Nov",0,0.8,0,0.1]
[null,null,null,null,null,null,null,null,null,null,"Dec",0.03,2.78,0.03,0.32]
[null,null,null,null,null,null,null,null,null,null,"Annual",{"$f":"AVERAGE(L52:L63)","v":0.1443865285154366},{"$f":"MAX(M52:M63)","v":13.572877999999999},{"$f":"AVERAGE(N52:N63)","v":0.14460714009700179},{"$f":"MAX(O52:O63)","v":1.8576680000000001}]
[]
[null,null,null,null,null,null,null,null,null,{"$f":"+A5","v":2024},"mg/Nm3","Monthly mean of half-hourly averages","Highest half- hourly average","Monthly mean of  daily averages","Highest daily average"]
[null,null,null,null,null,null,null,null,null,"A5","Jan"]
[null,null,null,null,null,null,null,null,null,null,"Feb"]
[null,null,null,null,null,null,null,null,null,null,"Mar"]
[null,null,null,null,null,null,null,null,null,null,"Apr"]
[null,null,null,null,null,null,null,null,null,null,"May"]
[null,null,null,null,null,null,null,null,null,null,"Jun"]
[null,null,null,null,null,null,null,null,null,null,"Jul"]
[null,null,null,null,null,null,null,null,null,null,"Aug"]
[null,null,null,null,null,null,null,null,null,null,"Sep"]
[null,null,null,null,null,null,null,null,null,null,"Oct"]
[null,null,null,null,null,null,null,null,null,null,"Nov"]
[null,null,null,null,null,null,null,null,null,null,"Dec"]
[null,null,null,null,null,null,null,null,null,null,"Annual",{"$f":"AVERAGE(L67:L78)","v":{"$error":"#DIV/0!"}},{"$f":"MAX(M67:M78)","v":0},{"$f":"AVERAGE(N67:N78)","v":{"$error":"#DIV/0!"}},{"$f":"MAX(O67:O78)","v":0}]

{"sheet":"Template changes log","index":23,"n_rows":18,"n_cols":3,"rows_kept":18,"cut":false,"hidden":false,"merged":[]}
["Log of changes to template (Environment Agency use only)"]
[]
["Date","Description of change","New version number and date"]
["2024-01-16","Air (periodic) tab: corrected default O2 reference from 6 to 11% ","Version 23.5a (for incinerators) - 16/01/2024"]
["2024-09-23","Air (periodic) tab: corrected symbol for Thallium to Tl"]
["2024-09-23","Air (periodic) tab: removed last year's references to different emission limit values applying from 03/12/23 and updated all relevant ELVs"]
["2024-09-23","Tabs for continuously monitored pollutants (HCl, SO2 etc.): changed terminology in table headings to improve clarity"]
["2024-09-23","Tabs for continuously monitored pollutants (HCl, SO2 etc.): removed last year's references to different emission limit values applying from 03/12/23 and updated all relevant ELVs"]
["2024-09-23","Perf 1 tab: updated formula for water usage to report m3 rather than litres and corrected error with formula copying operator name"]
["2024-09-23","Operational Summary tab: table added on start-ups and shut-downs"]
["2024-09-23","Operational Summary tab: table added on dioxins and mercury protocols"]
["2024-09-23","Operational Summary tab: table added on AST, QAL 2 and calibration functions"]
["2024-09-23","CO2 N2O tab: various changes made to notes to reflect the fact that most plants should now have calibrated CEMS and flow meters + some have C14 samplers and more up to date industry data","Version 24a (for incinerators) - 23/09/24"]
["2024-11-08","CO2 N2O tab: Changed the N2O CO2 equivalence factor from 298 to 265 in line with recently updated government greenhouse gas figures: https://www.gov.uk/government/publications/greenhouse-gas-reporting-conversion-factors-2024"]
["2024-11-08","CO2 N2O tab: Added an additional requirement for municipal EfW plants to state the yearly average biogenic percentage of the waste by mass, and reference to a document which sets out a methodology for calculating NCV of waste from the results of C14 sampling."]
["2024-11-08","Permit Compliance tab: Two additional columns added + explanatory notes to the table entitled \"Summary of non-compliances under the permit\" to allow CCS scores to be stated where relevant. "]
["2024-11-08","Residue Quality tab: Note added explaining application of TOC and LOI limits and asking operators to report both metrics where measured. ","Version 24.1a (for incinerators) - 08/11/24"]
["2024-11-27","Operational Summary tab: Tables on mercury & dioxins protocols and ASTs removed (covered instead by new tables added to updated Air 9 periodic monitoring form)","Version 24.2a (for incinerators) - 27/11/24"]