{"text_format":"1","workbook":"xlsx","n_sheets":24,"sheets":["Cover Page","Contents","Facility Info","Operational Data","Operational Summary","Perf. Form 1","Energy Form 1","Residue Quality ","Improvements","Permit Compliance","Public Liaison","Water","Air (periodic)","Air (CEMS)","HCl","SO2","NOx","TOC","NH3","Particulates","CO 95% 10 min","IBA","APC","Invalid Readings Log"],"not_rendered":{"charts":7,"images":3,"macros":1,"external_links":0,"defined_names":21,"comments":2,"pivot_tables":0},"unopened":[],"bounds":{"document_bytes":16777216,"sheet_cells":100000,"rows_first":2000,"rows_last":500,"rows_between":2000,"halvings":0,"cell_chars":16384,"cell_head_chars":4096},"cells_cut":0,"cells_raw":0,"read":"whole","date_system":"1900"}

{"sheet":"Cover Page","index":0,"n_rows":53,"n_cols":14,"rows_kept":53,"cut":false,"hidden":false,"merged":[[13,13,18,15],[34,1,34,8],[0,3,5,6],[7,1,23,8],[28,1,28,8],[30,1,30,8],[32,1,32,8],[48,2,48,3],[48,6,48,8],[52,2,52,3],[36,1,36,8],[40,2,40,8],[42,2,42,4],[44,2,44,4],[46,2,46,3],[46,6,46,8]]}
[null,null,null,"Add company logo"]
[null,null,null,null,null,null,null,null,null,null,null,null,null,"Version 20.1 "]
[]
[]
[]
[]
[]
[null,"Add photo"]
[]
[]
[]
[]
[null,null,null,null,null,null,null,null,null,null,null,null,null,"Notes:"]
[null,null,null,null,null,null,null,null,null,null,null,null,null,"This template may require adjustments by individual operators to meet specific reporting requirements as defined in the site Permit(s)"]
[]
[]
[]
[]
[]
[]
[]
[]
[]
[]
[]
[]
[]
[]
[null,"Annual Performance Report 2022"]
[]
[null,"Permit EPR/XP3005LB"]
[]
[null,"Runcorn Energy From Waste Facility "]
[]
[null,"Runcorn EfW"]
[]
[null,"Viridor Energy Limited"]
[]
[null,"Year:",2022]
[]
[null,"Address:","Barlow Way, Runcorn WA7 4HG"]
[]
[null,"Tel: ","01928 502278"]
[]
[null,"Email: ","GPowell@viridor.co.uk "]
[]
[null,"Prepared by:","Glenn Powell",null,null,"Position:","EHS Manager"]
[]
[null,"Approved by:","Darren Bolton",null,null,"Position:","Plant Manager"]
[]
[null,"Version:",1]
[]
[null,"Issue Date:","2023-01-20"]

{"sheet":"Contents","index":1,"n_rows":46,"n_cols":11,"rows_kept":46,"cut":false,"hidden":false,"merged":[[4,10,7,14],[8,1,8,6],[3,1,3,6],[4,1,4,6],[5,1,5,6],[6,1,6,6],[7,1,7,6],[20,1,20,6],[9,1,9,6],[10,1,10,6],[11,1,11,6],[12,1,12,6],[13,1,13,6],[14,1,14,6],[15,1,15,6],[16,1,16,6],[17,1,17,6],[18,1,18,6],[19,1,19,6],[37,1,37,6],[21,1,21,6],[22,1,22,6],[28,1,28,6],[29,1,29,6],[30,1,30,6],[31,1,31,6],[32,1,32,6],[33,1,33,6],[36,1,36,6],[25,1,25,6],[24,1,24,6],[23,1,23,6],[45,0,48,9],[38,1,38,6],[39,1,39,6],[40,1,40,6],[41,1,41,6],[42,1,42,6],[43,1,43,6]]}
[{"$f":"+'Cover Page'!$B$29","v":"Annual Performance Report 2022"},null,null,null,{"$f":"+'Cover Page'!$B$33","v":"Runcorn Energy From Waste Facility "}]
[]
["Contents",null,null,null,null,null,null,null,null,null,"Notes:"]
["Section","Subject",null,null,null,null,null,"Page ",null,null,"Section references and Page nos. to be inserted"]
[null,"Facility Information",null,null,null,null,null,3,null,null,"Sections and Subjects may require adjustment by individual operators to meet specific reporting requirements as defined in the sites Permit(s)"]
[null,"Operational Summary",null,null,null,null,null,4]
[null,"Operational Data",null,null,null,null,null,5]
[null,"Performance Form 1",null,null,null,null,null,6]
[null,"Energy Form 1",null,null,null,null,null,7]
[null,"Permit Compliance",null,null,null,null,null,8]
[null,"Improvements",null,null,null,null,null,9]
[null,"Public Liasion",null,null,null,null,null,10]
[null,"Residue Quality - Optional",null,null,null,null,null,11]
[null,"Emissions to Water",null,null,null,null,null,12]
[null,"Emissions to Air (periodically monitored)",null,null,null,null,null,13]
[null,"Emissions to Air (continuously monitored)",null,null,null,null,null,14]
[null,"Hydrogen Chloride emissions",null,null,null,null,null,15]
[null,"Sulphur Dioxdie emsissions",null,null,null,null,null,16]
[null,"Oxides of Notrigen emissions",null,null,null,null,null,17]
[null,"Total Organic Carbon emissions",null,null,null,null,null,18]
[null,"Particulate Matter emissions",null,null,null,null,null,19]
[null,"Carbon Monoxide emissions",null,null,null,null,null,20]
[null,"Ammonia emissions",null,null,null,null,null,21]
[null,"Incinerator Bottom Ash (IBA)",null,null,null,null,null,22]
[null,"Air Pollution Control Residues (APCR)",null,null,null,null,null,23]
[null,"Invalid Readings Log",null,null,null,null,null,24]
[]
["Version Control"]
["Section","Information",null,null,null,null,null,"Date"]
[]
[]
[]
[]
[]
[]
["Distribution"]
["Copy","Name, Role",null,null,null,null,null,"No."]
[]
[]
[]
[]
[]
[]
[]
[]
["This report is required under the Industrial Emissions Directive’s Article 55(2) requirements on reporting and public information on waste incineration plants and co-incineration plants, which require the operator to produce an annual report on the functioning and monitoring of the plant and make it available to the public. "]

{"sheet":"Facility Info","index":2,"n_rows":22,"n_cols":11,"rows_kept":22,"cut":false,"hidden":false,"merged":[[4,0,17,8],[21,0,53,8],[4,10,13,13],[21,10,30,13]]}
[{"$f":"+'Cover Page'!$B$29","v":"Annual Performance Report 2022"},null,null,null,{"$f":"+'Cover Page'!$B$33","v":"Runcorn Energy From Waste Facility "}]
[]
["Plant Description and Design",null,null,null,null,null,null,null,null,null,"Notes:"]
[]
["Runcorn Energy from Waste (EfW) facility is located to the north of the Runcorn site known as Weston Point. The EfW facility has a total capacity of approximately 350MW (thermal input) and is capable of generating up to approximately 86MW of electrical power and 110 tonnes per hour steam. The plant comprises of two parts: Phase 1 and Phase 2. Phase 1 consists of two lines 1 and 2. Phase 2 consists of two further lines; 3 and 4. The capacity of the facility is 1,100,000 tonnes per calendar year.",null,null,null,null,null,null,null,null,null,"Include summary of plant design, design capacity, no. of combustion lines, electrical and heat capacity and any other general information that descibes the facility, its location and purpose "]
[]
[]
[]
[]
[]
[]
[]
[]
[]
[]
[]
[]
[]
[]
["Summary of Operational Processes and Procedures"]
[]
["Incoming refuse vehicles and bulk transport enter the site and proceed to the incoming weighbridge. After weighing in, the vehicles continue to the enclosed reception hall where they will discharge their load into the waste storage bunker.\n\nVehicle loads are inspected randomly in the tipping hall to confirm the nature of incoming waste.\nOnce vehicles have deposited their waste they leave the site via a second weighbridge.\nPotential emissions of odour and dust from the tipping hall and refuse bunkers are controlled\nby forced draught fans located above the refuse bunkers. These draw air from the bunker hall\nand reception area into the furnace to feed the combustion process, creating a slight negative\npressure.\n\nThe waste combustion takes place on a Keppel Seghers grate, the heat generated being used to create superheated steam which is used to drive the steam turbine and generate electricity. Heat from turbine bleeds can be used for combined heat and power systems and is also used for pre-heating of combustion air and operation of the deaerator to maximise efficiency.\n\nCondensing of the steam takes place via cooling towers and the condensate cycles back around in a closed system (other than necessary top up).\n\nEmission control is via injection of ammonia into the furnace for NOx control via SNCR technology while at the end of the boiler and gas path lime and activated carbon are added to remove acidic gases, dioxins, furans and heavy metals before this is all filtered by a bag filter system to remove the lime, carbon and particulates from the flue gases producing APCr.\n\nEmissions are measured continuously in stack and by extractive stack measurements as required by the environmental permit.\n\nResidues from the process, IBA and APCr are both sent to specialist reprocessing sites. IBA has metals removed for recyling and is reprocessed into IBAA (Incinerator Bottom Ash Aggregate). The APCr is sent to OCO Technology (formally Carbon8) who use accelerated carbonation technology to produce a carbon negative aggregate material which encapsulates the absorbed substances from the APCr.\n\nMaintenance is controlled by a CMMS system and consists of planned preventative maintenance (ppm), derived from both experience of the plant and OEM requirements, and reactive maintenance. The site has two annual shutdown periods (one per Phase) during which maintenance and statutory inspections are carried out.\nThe plant operates a document control system meeting the requirements of the Viridor document management system and ISO 9001, 14001, 45001 and 50001. On December 18th 2020 the sites Environmental Permit was transfered from Viridor Waste Management to Viridor Energy and a new permit number issued (EPR/XP3005LB) ",null,null,null,null,null,null,null,null,null,"Include summary of key processes and procedures such as (but not limited to); waste reception, control rooms, grate, bed and bolier, energy & heat  generation, cooling systems, residue management, emission controls, health and safety systems, maintenance"]

{"sheet":"Operational Data","index":3,"n_rows":61,"n_cols":11,"rows_kept":61,"cut":false,"hidden":false,"merged":[[3,1,3,2],[7,1,16,1],[19,1,22,1],[24,1,25,1],[48,0,52,0],[5,10,6,10],[7,10,15,10],[29,1,34,1],[26,2,26,5],[26,6,26,7]]}
[{"$f":"+'Cover Page'!$B$29","v":"Annual Performance Report 2022"},null,null,null,{"$f":"+'Cover Page'!$B$33","v":"Runcorn Energy From Waste Facility "}]
[]
["Operational Data",null,null,null,null,null,null,null,null,null,"Notes:"]
["Plant Size",1100000,null,"tonnes pa",38,"MWth",51,"MWe",null,null,"* - RDF to include SRF "]
["No. of combustion lines",4,null,"No. of Turbines:",null,2,null,null,null,null,"** - CHP plants only"]
[null,null,null,null,null,null,null,null,null,null,"2020 updates include;  heat in MWh, water in Litres, NCV in MJ/kg"]
["Waste types received","Unit","Q1","Q2","Q3","Q4","Year Total","%"]
["Household / Local Authority","tonnes",244130.92,183789.78000000006,228547.07,273246.71999999997,{"$f":"SUM(C8:F8)","v":929714.49},{"$f":"IF(G8>0,G8/$G$15,\"-\")","v":1},null,null,"Availabiity Definition: 'the availability of a line is to be calculated by the number of hours the line reported Continuously Monitored emission levels to the Regulator through the calendar year divided by the total number of hours in that year. \nThe overall plant availability is calculated as the Mean of all lines in the plant. For clarity this includes periods of Other Than Normal Operating Conditions (OTNOC) and abnormal operation.'  \n\nRationale: The primary function of an Energy from Waste facility is the disposal of waste. It follows therefore that the availability of a plant is determined by the period of time a facility spends undertaking this activity."]
["Commercial & Industrial ",null,null,null,null,null,{"$f":"SUM(C9:F9)","v":0},"-"]
["Hazardous ",null,null,null,null,null,0,"-"]
["Clinical",null,null,null,null,null,0,"-"]
["Waste wood (biomass) ",null,null,null,null,null,0,"-"]
["Refuse Derived Fuel * - H'hold/LA",null,null,null,null,null,{"$f":"SUM(C13:F13)","v":0},"-"]
["Refuse Derived Fuel *  - C&I",null,null,null,null,null,0,"-"]
["Total waste combusted",null,{"$f":"SUM(C8:C14)","v":244130.92},{"$f":"SUM(D8:D14)","v":183789.78000000006},{"$f":"SUM(E8:E14)","v":228547.07},{"$f":"SUM(F8:F14)","v":273246.71999999997},{"$f":"SUM(G8:G14)","v":929714.49},1]
["Rejected Waste ",null,null,null,null,null,{"$f":"SUM(C16:F16)","v":0},{"$f":"IF(G16>0,G16/$G$15,\"-\")","v":"-"}]
["Unprocessed waste transferred out",null,null,null,null,null,{"$f":"SUM(C17:F17)","v":0},{"$f":"IF(G17>0,G17/$G$15,\"-\")","v":"-"}]
[]
["Energy Useage / Export","Unit","Q1","Q2","Q3","Q4","Year Total","KWh/te"]
["Power Generated","MWh",162986.39000000001,122939.29,173718.81,182605.25,{"$f":"SUM(C20:F20)","v":642249.74},{"$f":"IF(G20>0,G20*1000/G15,\"-\")","v":690.80319486039207}]
["Power Exported",null,142367.51,106702.64,152935.32,160296.93,{"$f":"SUM(C21:F21)","v":562302.4},{"$f":"IF(G21>0,G21*1000/G15,\"-\")","v":604.81191381668157}]
["Power Used on site",null,20788.542000000001,17836.431,21486.982,22308.471000000001,{"$f":"SUM(C22:F22)","v":82420.426000000007},{"$f":"IF(G22>0,G22*1000/G15,\"-\")","v":88.651329936785217}]
["Power Imported",null,169.66200000000001,1599.7809999999999,703.5,0.151,2473.0940000000001,{"$f":"IF(G23>0,G23*1000/G15,\"-\")","v":2.6600574978668989}]
["Parasitic Load","%",{"$f":"IF(C20>0,1-C21/(C20+C23),\"-\")","v":0.12741508356674391},0.14321956039000805,0.12318945896313371,0.12216764059459562,{"$f":"IF(G20>0,1-G21/(G20+G23),\"-\")","v":0.12783855271364564}]
["Thermal Energy Produced **","MWh",151039.46,107007.27,106497.26,137097.35999999999,{"$f":"SUM(C25:F25)","v":501641.35},{"$f":"IF(G25>0,G25*1000/G15,\"-\")","v":539.56494751415562}]
["Thermal Energy Exported **",null,151039.46,107007.27,106497.26,137097.35999999999,501641.35,{"$f":"IF(G26>0,G26*1000/G15,\"-\")","v":539.56494751415562}]
["R1 value",null,null,null,null,null,"Design / Operational / n/a"]
[]
["Waste Disposal & Recovery","Unit","Q1","Q2","Q3","Q4","Year Total","% inputs"]
["APC Residues - produced","tonnes",7909.8600000000006,5764.44,7357,7970.3600200000019,{"$f":"SUM(C30:F30)","v":29001.660020000003},{"$f":"IF(G30>0,G30/G15,\"-\")","v":3.1194157272949465E-2}]
["IBA - produced",null,50108.684561718248,41549.26,50000,53563.874516989265,195221.81907870754,{"$f":"IF(G31>0,G31/G15,\"-\")","v":0.20998039847556593}]
["Metals recycling",null,null,null,null,null,{"$f":"SUM(C32:F32)","v":0},{"$f":"IF(G32>0,G32/$G$15,\"-\")","v":"-"}]
["Other",null,0,0,0,0,{"$f":"SUM(C33:F33)","v":0},{"$f":"IF(G33>0,G33/$G$15,\"-\")","v":"-"}]
["Other",null,0,0,0,0,0,{"$f":"IF(G34>0,G34/$G$15,\"-\")","v":"-"}]
["Other",null,0,0,0,0,0,{"$f":"IF(G35>0,G35/$G$15,\"-\")","v":"-"}]
[]
["Raw Material Usage","Unit","Q1","Q2","Q3","Q4","Year Total","kg or Ltr /te"]
["Mains Water","ltrs",null,null,null,null,{"$f":"SUM(C38:F38)","v":0},{"$f":"IF(G38>0,G38/$G$15,\"-\")","v":"-"}]
["Other Water","ltrs",621210.59749999992,176037.7,175001.51800000001,208559.08999999997,1180808.9054999999,{"$f":"IF(G39>0,G39/G15,\"-\")","v":1.2700769087722832}]
["Ammonia","kgs",615200,390349.99999999994,549000,448604.87820000004,2003154.8782000002,{"$f":"IF(G40>0,G40/G15,\"-\")","v":2.154591436130032}]
["Urea","kgs",0,null,null,null,{"$f":"SUM(C41:F41)","v":0},{"$f":"IF(G41>0,G41/$G$15,\"-\")","v":"-"}]
["Activated Carbon","kgs",53728.88,46190.000000000007,66000,64810.869999999995,230729.75,{"$f":"IF(G42>0,G42/G15,\"-\")","v":0.24817269439352291}]
["Lime / hydrated lime","kgs",4341959.9999999991,2990129.9999999991,4036000,4053099.9999999995,15421189.999999998,{"$f":"IF(G43>0,G43/G15,\"-\")","v":16.587016945385027}]
["Fuel oil","ltrs",null,null,null,null,0,{"$f":"IF(G44>0,G44/$G$15,\"-\")","v":"-"}]
["Gas","kgs",75352.77382645804,136480.79658605976,108684.2105263158,21042.67425320057,341560.45519203419]
["Other",null,0,0,0,0,0]
[]
["Summary ","Line/Unit","Q1","Q2","Q3","Q4","Year Total",null,null,"Hrs in year "]
["Availability of waste combustion by line, hrs",1,2079,1453,1982,2208,{"$f":"SUM(C49:F49)","v":7722},{"$f":"G49/$J$49","v":0.88150684931506851},null,8760]
[null,2,2156,1935,1958,2208,8257,{"$f":"G50/$J$49","v":0.94257990867579911},null,"Hrs in Q4"]
[null,3,1962,1358,2164,2208,7692,{"$f":"G51/$J$49","v":0.87808219178082192},null,2208]
[null,4,2082,1655,2179.5,2108,8024.5,{"$f":"G52/$J$49","v":0.91603881278538812}]
[null,5,0,null,null,null,{"$f":"SUM(C53:F53)","v":0}]
["Overall Availability, mean avg. of all lines, hrs",null,{"$f":"SUM(C49:C52)/4","v":2069.75},{"$f":"SUM(D49:D52)/4","v":1600.25},{"$f":"SUM(E49:E52)/4","v":2070.875},{"$f":"SUM(F49:F52)/4","v":2183},{"$f":"AVERAGE(G49:G52)","v":7923.875},{"$f":"G54/$J$49","v":0.90455194063926936}]
["Hours of turbine operations, hrs",1,2128,1883,1980,2208,8199,{"$f":"G55/$J$49","v":0.93595890410958904}]
["Hours of turbine operations, hrs",2,2150,1699,2175,2208,8232,{"$f":"G56/$J$49","v":0.9397260273972603}]
["Hours of heat / steam export",null,2160,1968,2016,2208,8352,{"$f":"IF(B57>0,G56/J49,\"n/a\")","v":"n/a"}]
["Net Calorific Value of waste","MJ/kg",10.845000000000001,11,11.4,10.945,{"$f":"AVERAGE(C58:F58)","v":11.047499999999999},"-"]
["Abnormal Events","qty.",null,null,null,null,0,{"$f":"IF(G59>0,\"yes\",\"no\")","v":"no"}]
["Abnormal operation","hours",null,null,null,null,0,{"$f":"+(G60)/J49","v":0}]
["Permit Breaches","qty.",2,2,0,null,4,{"$f":"IF(G61>0,\"yes\",\"no\")","v":"yes"}]

{"sheet":"Operational Summary","index":4,"n_rows":31,"n_cols":11,"rows_kept":31,"cut":false,"hidden":false,"merged":[[4,0,26,8],[4,10,13,13],[30,10,39,13],[30,0,51,8]]}
[{"$f":"+'Cover Page'!$B$29","v":"Annual Performance Report 2022"},null,null,null,{"$f":"+'Cover Page'!$B$33","v":"Runcorn Energy From Waste Facility "}]
[]
["Summary of Plant Operations and Maintenance during the period.",null,null,null,null,null,null,null,null,null,"Notes:"]
[]
["During the whole of 2022 the site facility accepted 929,714 tonnes of waste from municipal sources. The facility generated 642,250 MW of electricity, exporting 562,302 MW while generating 501,641 in the form of steam for use within the connected Inovyn works.\n\nOverall availability for the whole of 2022 was 90.5% acorss the 4 lines. ",null,null,null,null,null,null,null,null,null,"Include summary of key operational and/or mainteanance activity undertaken in the year, such as any major component upgrades and/or replacements "]
[]
[]
[]
[]
[]
[]
[]
[]
[]
[]
[]
[]
[]
[]
[]
[]
[]
[]
[]
[]
[]
[]
[]
["Summary of Residue Handling for the reporting period."]
[]
["All IBA has been assessed as non hazardous.",null,null,null,null,null,null,null,null,null,"Include in here a summary of residue handling regimes and destinations "]

{"sheet":"Perf. Form 1","index":5,"n_rows":55,"n_cols":10,"rows_kept":55,"cut":false,"hidden":false,"merged":[[9,0,9,9],[10,0,10,1],[10,2,10,3],[10,4,10,5],[10,6,10,7],[10,8,10,9],[2,0,2,4],[2,6,2,8],[3,1,3,4],[5,3,5,4],[5,6,5,7],[8,0,8,1],[8,2,8,3],[8,4,8,5],[8,6,8,7],[8,8,8,9],[11,0,11,1],[11,2,11,3],[11,4,11,5],[11,6,11,7],[11,8,11,9],[12,0,12,1],[12,2,12,3],[12,4,12,5],[12,6,12,7],[12,8,12,9],[15,0,15,1],[15,2,15,3],[15,4,15,5],[15,6,15,7],[15,8,15,9],[16,0,16,9],[13,0,13,1],[13,2,13,3],[13,4,13,5],[13,6,13,7],[13,8,13,9],[14,0,14,3],[14,4,14,5],[14,6,14,7],[14,8,14,9],[17,0,17,1],[17,2,17,3],[17,4,17,5],[17,6,17,7],[17,8,17,9],[18,0,18,1],[18,2,18,3],[18,4,18,5],[18,6,18,7],[18,8,18,9],[19,0,19,1],[19,2,19,3],[19,4,19,5],[19,6,19,7],[19,8,19,9],[20,0,20,1],[20,2,20,3],[20,4,20,5],[20,6,20,7],[20,8,20,9],[21,0,21,1],[21,2,21,3],[21,4,21,5],[21,6,21,7],[21,8,21,9],[22,0,22,3],[22,4,22,5],[22,6,22,7],[22,8,22,9],[31,0,31,3],[31,7,31,8],[32,0,32,3],[32,4,32,5],[32,7,32,8],[33,0,33,3],[33,4,33,5],[33,7,33,8],[23,0,23,3],[23,4,23,5],[23,6,23,7],[23,8,23,9],[25,0,25,9],[26,0,28,9],[36,0,36,3],[36,4,36,5],[36,7,36,8],[37,0,37,3],[37,4,37,5],[37,7,37,8],[34,0,34,3],[34,4,34,5],[34,7,34,8],[35,0,35,3],[35,4,35,5],[35,7,35,8],[47,0,47,1],[49,0,49,9],[50,0,51,9],[38,0,38,9],[39,0,40,9],[43,0,43,1],[43,2,43,9],[45,0,45,1],[46,0,46,1]]}
[{"$f":"+'Cover Page'!C39","v":2022},"Q4 Annual Performance Form 1"]
[]
[{"$f":"+'Cover Page'!B31","v":"Permit EPR/XP3005LB"},null,null,null,null,"Operator: ",{"$f":"+_xlfn.SINGLE('Cover Page'!B37)","v":"Viridor Energy Limited"}]
["Facility:",{"$f":"+'Cover Page'!B33:I33","v":"Runcorn Energy From Waste Facility "},null,null,null,"Form:","Performance 1"]
[]
["Reporting  Period from: ",null,null,"2022-01-01",null,"to:","2022-12-31"]
[]
[{"$f":"+A1","v":2022},"Period Reporting of Waste Disposal and Recovery"]
["Waste Description",null,"Disposal Route(s)",null,"Disposal Tonnes",null,"Recovery Tonnes",null,"% / tonne of waste incinerated"]
["1) Hazardous Wastes"]
["APC Residues",null,"R1",null,null,null,{"$f":"'Operational Data'!G30","v":29001.660020000003},null,{"$f":"'Operational Data'!G30/'Operational Data'!G8","v":3.1194157272949465E-2}]
["IBA",null,null,null,null,null,null,null,{"$f":"IF((E12+G12)>0,(E12+G12)/'Operational Data'!$G$15, \"-\")","v":"-"}]
[null,null,null,null,null,null,null,null,{"$f":"IF((E13+G13)>0,(E13+G13)/'Operational Data'!$G$15, \"-\")","v":"-"}]
[null,null,null,null,null,null,null,null,{"$f":"IF((E14+G14)>0,(E14+G14)/'Operational Data'!$G$15, \"-\")","v":"-"}]
["Total Hazardous Waste",null,null,null,{"$f":"SUM(E11:F14)","v":0},null,{"$f":"SUM(G11:H14)","v":29001.660020000003},null,{"$f":"IF(G15>0,G15/'Operational Data'!G15, \"-\")","v":3.1194157272949465E-2}]
[]
["2) Non-Hazardous Wastes"]
["IBA",null,"R1",null,null,null,{"$f":"'Operational Data'!G31","v":195221.81907870754},null,{"$f":"'Operational Data'!G31/'Operational Data'!G8","v":0.20998039847556593}]
["Ferrous Metal",null,null,null,null,null,null,null,{"$f":"IF((E19+G19)>0,(E19+G19)/'Operational Data'!$G$15, \"-\")","v":"-"}]
["Process Water",null,null,null,null,null,null,null,{"$f":"IF((E20+G20)>0,(E20+G20)/'Operational Data'!$G$15, \"-\")","v":"-"}]
[null,null,null,null,null,null,null,null,{"$f":"IF((E21+G21)>0,(E21+G21)/'Operational Data'!$G$15, \"-\")","v":"-"}]
[null,null,null,null,null,null,null,null,{"$f":"IF((E22+G22)>0,(E22+G22)/'Operational Data'!$G$15, \"-\")","v":"-"}]
["Total Non-Hazardous Waste",null,null,null,{"$f":"SUM(E18:F22)","v":0},null,{"$f":"SUM(G18:H22)","v":195221.81907870754},null,{"$f":"IF(G23>0,G23/'Operational Data'!G15, \"-\")","v":0.20998039847556593}]
["TOTAL WASTE",null,null,null,{"$f":"+E23+E15","v":0},null,{"$f":"+G23+G15","v":224223.47909870755},null,{"$f":"IF(G24>0,G24/'Operational Data'!G15, \"-\")","v":0.2411745557485154}]
[]
["Operator’s comments :"]
[]
[]
[]
[]
[{"$f":"+A1","v":2022},"Period Reporting of Water and Other Raw Material Usage"]
["Raw Material",null,null,null,"Usage",null,"Unit","Specific Useage",null,"Unit"]
["Mains Water",null,null,null,{"$f":"+'Operational Data'!G38","v":0},null,"m3",{"$f":"IF(E33>0,E33/'Operational Data'!E15,\"-\")","v":"-"},null,"m3/te"]
["Total Water",null,null,null,{"$f":"'Operational Data'!G39","v":1180808.9054999999},null,"m3",{"$f":"IF(E34>0,E34/'Operational Data'!G15,\"-\")","v":1.2700769087722832},null,"m3/te"]
["Urea / Ammonia",null,null,null,{"$f":"'Operational Data'!G40","v":2003154.8782000002},null,"kg",{"$f":"IF(E35>0,E35/'Operational Data'!G15,\"-\")","v":2.154591436130032},null,"kg/te"]
["Activated Carbon",null,null,null,{"$f":"'Operational Data'!G42","v":230729.75},null,"kg",{"$f":"IF(E36>0,E36/'Operational Data'!G15,\"-\")","v":0.24817269439352291},null,"kg/te"]
["Lime / hydrated lime",null,null,null,{"$f":"'Operational Data'!G43","v":15421189.999999998},null,"kg",{"$f":"IF(E37>0,E37/'Operational Data'!G15,\"-\")","v":16.587016945385027},null,"kg/te"]
[]
["Operator’s comments :"]
[]
[]
[]
[{"$f":"+A31","v":2022},"Period Reporting of other performance indicators "]
["Parameter",null,"Results by Line"]
[null,null,"A1","A2","A3","A4",null,null,"Turbine 1","Turbine 2"]
["Operating hours for the year, hours",null,{"$f":"'Operational Data'!G49","v":7722},{"$f":"'Operational Data'!G50","v":8257},{"$f":"'Operational Data'!G51","v":7692},{"$f":"'Operational Data'!G52","v":8024.5},null,null,{"$f":"'Operational Data'!G55","v":8199},{"$f":"'Operational Data'!G56","v":8232}]
["Number of periods of abnormal operation, qty.",null,0,0,0,0]
["Cumulative hours of abnormal operation for this year, hours",null,0,0,0,0]
[]
["Operator’s comments :"]
[]
[]
[]
[]
["Signed: ",null,null,null,null,null,"Date:","2023-01-20"]

{"sheet":"Energy Form 1","index":6,"n_rows":29,"n_cols":8,"rows_kept":29,"cut":false,"hidden":false,"merged":[[2,6,2,8],[4,1,4,4],[6,3,6,4],[6,6,6,7],[8,0,8,2],[8,3,8,4],[8,6,8,8],[9,0,9,2],[9,3,9,4],[9,6,9,8],[10,0,10,2],[10,3,10,4],[10,6,10,8],[11,0,11,2],[11,3,11,4],[11,6,11,8],[12,0,12,2],[12,3,12,4],[12,6,12,8],[13,0,13,2],[13,3,13,4],[13,6,13,8],[14,0,14,2],[14,3,14,4],[14,6,14,8],[15,0,15,2],[15,3,15,4],[15,6,15,8],[17,0,17,8],[18,0,24,8]]}
[{"$f":"+'Cover Page'!C39","v":2022}," Reporting of Energy Usage/Export"]
[]
[{"$f":"+'Cover Page'!B31","v":"Permit EPR/XP3005LB"},null,null,null,null,"Operator: ","Viridor Energy Limited"]
[]
["Facility:",{"$f":"+'Cover Page'!B33:I33","v":"Runcorn Energy From Waste Facility "},null,null,null,"Form:","Energy 1"]
[]
["Reporting  Period from: ",null,null,{"$f":"+'Perf. Form 1'!D6:E6","v":"2022-01-01"},null,"to:",{"$f":"+'Perf. Form 1'!G6:H6","v":"2022-12-31"}]
[]
["Energy Source",null,null,"Energy Usage",null,"Unit","Specific Useage (KWh/tonne incinerated"]
["Electricity Produced",null,null,{"$f":"+'Operational Data'!G20","v":642249.74},null,"MWh",{"$f":"D10*1000/'Operational Data'!G15","v":690.80319486039207}]
["Electricity Imported   ",null,null,{"$f":"+'Operational Data'!G23","v":2473.0940000000001},null,"MWh",{"$f":"D11*1000/'Operational Data'!G15","v":2.6600574978668989}]
["Electricity Exported",null,null,{"$f":"+'Operational Data'!G21","v":562302.4},null,"MWh",{"$f":"D12*1000/'Operational Data'!G15","v":604.81191381668157}]
["Gas Oil",null,null,0,null,"litres"]
["Steam/hot water exported",null,null,{"$f":"+'Operational Data'!G26","v":501641.35},null,"GWh",{"$f":"D14*1000/'Operational Data'!G15","v":539.56494751415562}]
[]
[]
[]
["Operator’s comments :"]
[]
[]
[]
[]
[]
[]
[]
[]
[]
[]
["Signed: ",null,null,null,null,null,"Date:","2023-01-20"]

{"sheet":"Residue Quality ","index":7,"n_rows":32,"n_cols":6,"rows_kept":32,"cut":false,"hidden":false,"merged":[[24,3,24,4],[24,5,24,6],[23,3,23,6],[22,0,22,6],[5,0,6,6],[7,0,8,6],[9,0,10,6],[14,0,15,1],[14,2,15,6],[16,0,17,1],[16,2,17,6],[18,0,19,1],[18,2,19,6],[12,0,12,6],[13,0,13,1],[13,2,13,6],[31,0,36,6],[28,3,28,4],[30,0,30,6],[23,0,24,1],[25,0,25,1],[26,0,26,1],[27,0,27,1],[28,0,28,1],[25,3,25,4],[26,3,26,4],[25,5,25,6],[26,5,26,6],[27,5,27,6],[28,5,28,6],[27,3,27,4],[23,2,24,2]]}
[{"$f":"+'Cover Page'!$B$29","v":"Annual Performance Report 2022"},null,null,null,{"$f":"+'Cover Page'!$B$33","v":"Runcorn Energy From Waste Facility "}]
[]
["Residue Quality Monitoring Requirements"]
[]
["Summary of monitoring undertaken and compliance"]
["IBA undergoes 2 monthly samplings as required by permit conditon 3.5.1c and table 3.4"]
[]
["APCr is sampled quareterly as per permit condition 3.5.1c and table 3.4"]
[]
[]
[]
[]
["Commentary on any specific events"]
["Date & Event",null,"Description"]
[]
[]
[]
[]
[]
[]
[]
[]
["Residue Quality Monitoring Results"]
["Parameter (unit) ",null,"Limit","Normal Operation "]
[null,null,null,"Bottom ash  ",null,"APC Residues"]
["Loss on Ignition (average %)",null,"<5%",{"$f":"(1.23+3.75+2.35+2.45)/4","v":2.4450000000000003}]
["Total Organic Carbon (average %)",null,"<3%"]
["No. of Assessments Undertaken",null,"---",24,null,4]
["No. of Hazardous Results",null,"---",0]
[]
["Comments :"]
[" All IBA remained non-hazardous as per the ESA protocol within Q4 2022.\n\n6 samples are taken for each phase of the facility and 1 sample per phase for APCr."]

{"sheet":"Improvements","index":8,"n_rows":39,"n_cols":5,"rows_kept":39,"cut":false,"hidden":false,"merged":[[37,0,37,9],[38,0,47,9],[4,0,4,9],[5,0,13,9],[15,0,15,9],[16,0,24,9],[26,0,26,9],[27,0,35,9]]}
[{"$f":"+'Cover Page'!$B$29","v":"Annual Performance Report 2022"},null,null,null,{"$f":"+'Cover Page'!$B$33","v":"Runcorn Energy From Waste Facility "}]
[]
["Summary of Plant Improvements"]
[]
["Summary of any efficiency improvements that have been completed within this quarter."]
["Steam losses\n•\tA comprehensive study was completed at the Runcorn EFW plant across all four lines utilising steam, water, and condensate flows to identify potential losses.  These losses were addressed in the 2022 outages and a subsequential study has indicated a recovery of approximately 4t/hr of steam per Phase (two lines).\n\nTurbine efficiency \n•\tMajor overhaul of P1 turbine has provided an efficiency improvement of 0.5Mwe/hr.\n\nSteam cycle efficiency \n•\tA review of the steam cycle identified an opportunity to optimise the Deaerator steam pressure.  This adjustment is providing an approximate power improvement of 80-100kWe/hr per line.\n\nCooling towers\n•\tControl philosophy change to target turbine back pressure rather than a set cooling tower water temperature.  Initial calculations estimate an average annual improvement of 180-200kWe/hr per Phase.  The most significant improvements will be observed when the ambient temperature is low and at times of high steam exports from Phase 1.  Data is currently being collected following the control change to demonstrate the improvement.  However, a full year of data is required to accurately calculate this.\n\nLED lighting\n•\tRuncorn EFW is currently installing LED lighting in the boiler house.  The quality of light emitted from these LED fittings is significantly better creating and safer and happier place to work.  There is an additional benefit of achieving over a 20% reduction in energy consumption.  Further lighting projects are being planned throughput the boiler house, as well as reviewing the flood lighting for external areas and the tipping hall."]
[]
[]
[]
[]
[]
[]
[]
[]
[]
["Summary of any permit improvement conditions that have been completed within this quarter and the resulting environmental benefits."]
["N/A"]
[]
[]
[]
[]
[]
[]
[]
[]
[]
["Summary of any changes to the plant or operating techniques which required a variation to the permit and a summary of the resulting environmental impact."]
["N/A"]
[]
[]
[]
[]
[]
[]
[]
[]
[]
["Summary of any other improvements made to the plant or planned to be made and a summary of the resulting environmental benefits."]
["Noise - Railhead operations had been time restricted due to substantiated noise impacts.  Several measures to reduce noise have been enacted, including the use of chain socks on the crane, reducing crane speed and the use of foam pads when placing rail boxes on the ground.  Following a re-assessment of noise after measures adopted, time restrictions were lifted.                                                                                                                                                                 Noise control Audit carried out to ascertain dominant noise sources on site.  Engineering solutions found and will be implemented in H1.  Following these improvements a further BS4142 assessment will be carried out to ensure no adverse impact on nearby receptors.                                                                                                                                      Cooling tower plume - Due to some complaints of cooling tower plume drifting across to Clarks Terrace on occassion, a 'plume abatement' technique has been adopted to reduce the likelyhood of the plume grounding on the properties at Clarks Terrace."]

{"sheet":"Permit Compliance","index":9,"n_rows":35,"n_cols":12,"rows_kept":35,"cut":false,"hidden":false,"merged":[[8,11,16,14],[34,4,34,8],[9,0,9,1],[9,2,9,4],[9,5,9,8],[10,0,10,1],[10,2,10,4],[10,5,10,8],[11,0,11,1],[11,2,11,4],[11,5,11,8],[12,0,12,1],[12,2,12,4],[12,5,12,8],[13,0,13,1],[13,2,13,4],[7,0,7,1],[7,2,7,8],[8,0,8,1],[8,2,8,4],[8,5,8,8],[15,2,15,4],[15,5,15,8],[15,0,15,1],[13,5,13,8],[14,0,14,1],[14,2,14,4],[14,5,14,8],[27,0,27,10],[24,1,24,3],[24,4,24,6],[24,7,24,8],[20,1,20,3],[20,4,20,6],[20,7,20,9],[21,1,21,3],[21,4,21,6],[21,7,21,9],[22,7,22,9],[25,1,25,3],[25,4,25,6],[25,7,25,8],[33,1,33,3],[33,4,33,6],[33,7,33,9],[30,1,30,3],[30,4,30,6],[30,7,30,9],[31,1,31,3],[31,4,31,6],[31,7,31,9],[32,1,32,3],[32,4,32,6],[32,7,32,9],[28,1,28,3],[28,4,28,6],[28,7,28,9],[29,1,29,3],[29,4,29,6],[29,7,29,9],[17,0,17,10],[23,1,23,3],[23,4,23,6],[23,7,23,9],[22,1,22,3],[22,4,22,6],[18,1,18,3],[18,4,18,6],[18,7,18,9],[19,1,19,3],[19,4,19,6],[19,7,19,9]]}
[{"$f":"+'Cover Page'!$B$29","v":"Annual Performance Report 2022"},null,null,null,{"$f":"+'Cover Page'!$B$33","v":"Runcorn Energy From Waste Facility "}]
[]
["Summary of Permit Compliance"]
[]
["Compliance with permit limits for continuously monitored pollutants"]
[]
["The plant met its emission limits as shown in the table below: 2022"]
["Substance",null,"Percentage time compliant during operation",null,null,null,null,null,null,null,null,"Notes:"]
[null,null,"Half-hourly limit",null,null,"Daily limit",null,null,null,null,null,"Report to 2 decimal places, i.e. xx.xx%\n\nPlease provide a brief summary of each notification or non-compliance in the table (rather than just referring to notifications that were sent to the Regulator).  \n\n"]
["Particulates",null,1,null,null,1]
["Oxides of nitrogen",null,1,null,null,1]
["Sulphur dioxide",null,0.99990000000000001,null,null,1]
["Carbon monoxide",null,"100% -  95% of 10-min averages",null,null,1]
["Total organic carbon",null,1,null,null,1]
["Hydrogen chloride",null,1,null,null,1]
[]
[]
["Summary of any notifications or non-compliances under the permit"]
["Date","Summary of notification or non-compliance [including Line/Reference]",null,null,"Reason ",null,null,"Measures taken to prevent reoccurrence"]
["2022-02-15","1 x Suspended solids reading of 215mg/litre against limit of 150",null,null,"Combination of rainfall and pumping from site water tanks",null,null,"Better coordination of tank pumping"]
["2022-03-31","1 x SO2 half hourly value of 237mg/m3 against limit of 200.",null,null,"High Sulphur content of waste feed",null,null,"Waste inspections and customer liaison"]
["2022-06-06","16 X individual 10 min CO exceedances (88.9%ile compliance for the day)",null,null,"Boiler tube leak caused poor combustion within furnace.",null,null,"Study into failure mode of tube leaks may help reduce further occurrence."]
["2022-06-28","Schedule 5 Notification for plant trip causing smoke to enter boiler house.",null,null,"Reason for trip currently being investigated",null,null,"Outcome of investigation will ensure appropriate measures put in place."]
[]
[]
[]
[]
["Summary of any complaints received and actions to taken to resolve them."]
["Date","Summary of complaint [including Line/Reference]",null,null,"Reason *",null,null,"Measures taken to prevent reoccurrence"]
[null,"Note: All complaints are currently under legal privilege due to threat of legal action "]
[]
[]
[]
[]
[null,null,null,null,"* including whether substantiated by the operator or the EA"]

{"sheet":"Public Liaison","index":10,"n_rows":18,"n_cols":5,"rows_kept":18,"cut":false,"hidden":false,"merged":[[16,0,16,1],[16,2,16,9],[5,0,5,1],[5,2,5,9],[6,0,7,1],[6,2,7,9],[8,0,9,1],[8,2,9,9],[10,0,11,1],[10,2,11,9],[12,0,13,1],[12,2,13,9],[15,0,15,9],[17,0,18,1],[17,2,18,9],[19,0,20,1],[19,2,20,9],[21,0,22,1],[21,2,22,9],[23,0,24,1],[23,2,24,9],[25,0,26,1],[25,2,26,9],[28,0,28,9]]}
[{"$f":"+'Cover Page'!$B$29","v":"Annual Performance Report 2022"},null,null,null,{"$f":"+'Cover Page'!$B$33","v":"Runcorn Energy From Waste Facility "}]
[]
["Details of Public & Stakeholder Liasion"]
[]
["Summary of events held during the reporting period."]
["Date",null,"Description"]
["2022-02-24",null,"Quarterly public liaison meeting"]
[]
["2022-04-25",null,"Quarterly public liaison meeting"]
[]
["2022-07-18",null,"Quarterly public liaison meeting"]
[]
["2023-10-17",null,"Quarterly public liaison meeting"]
[]
[]
["List of events planned for next year"]
["Date",null,"Description"]
["2023-01-16",null,"Quarterly public liaison meeting"]

{"sheet":"Water","index":11,"n_rows":28,"n_cols":10,"rows_kept":28,"cut":false,"hidden":false,"merged":[[5,0,6,9],[7,0,8,9],[9,0,10,9],[12,0,12,9],[13,0,13,1],[13,2,13,9],[21,0,21,9],[22,0,22,2],[22,3,22,5],[14,0,15,1],[14,2,15,9],[16,0,17,1],[16,2,17,9],[18,0,19,1],[18,2,19,9],[26,0,26,2],[26,3,26,5],[27,0,27,2],[27,3,27,5],[23,0,23,2],[23,3,23,5],[24,0,24,2],[24,3,24,5],[25,0,25,2],[25,3,25,5]]}
[{"$f":"+'Cover Page'!$B$29","v":"Annual Performance Report 2022"},null,null,null,{"$f":"+'Cover Page'!$B$33","v":"Runcorn Energy From Waste Facility "}]
[]
["Emissions to Water"]
[]
["Summary of monitoring undertaken and compliance"]
["Monitoring and compliance as per section 3.5 and table 3.2 of the Enviornmental Permit (EPR/RP3638CG/V005)"]
[]
[]
[]
[]
[]
[]
["Commentary on any specific events"]
["Date & Event",null,"Description"]
["2022-02-15",null,"Suspended solid value of 215mg/litre against limit if 150."]
[]
[]
[]
[]
[]
[]
["Emissions to Water / Sewer"]
["Parameter",null,null,"Monitoring Frequency",null,null,"Limit","Target","Max.","Average"]
["Suspended Solids ",null,null,"Weekly, Spot (when flow present)",null,null,"150 mg/l","100 mg/l",215,18.8]
["pH",null,null,"Weekly, Spot (when flow present)",null,null,"4 - 11","5 – 9 ",10.5,8.1999999999999993]
["Temperature ",null,null,"Weekly, Spot (when flow present)",null,null,"40 oC",null,36,25.9]
["Available Chlorine ",null,null,"Weekly, Spot (when flow present)",null,null,"20 mg/l","5 mg/l",0.3,0.09]
["Oil&grease ",null,null,"Weekly, Spot (when flow present)",null,null,"None visible","None visible","None visible","None visible"]

{"sheet":"Air (periodic)","index":12,"n_rows":39,"n_cols":12,"rows_kept":39,"cut":false,"hidden":false,"merged":[[5,11,8,14],[9,11,11,14],[8,0,8,8],[5,0,6,8],[11,0,11,1],[12,0,12,1],[11,3,11,4],[12,3,12,4],[9,0,10,1],[9,5,9,8],[9,3,10,4],[9,2,10,2],[16,0,16,1],[17,0,17,1],[18,0,18,1],[13,0,13,1],[14,0,14,1],[15,0,15,1],[39,0,40,8],[25,0,25,1],[26,0,26,1],[22,0,22,1],[23,0,23,1],[37,0,37,1],[27,0,27,1],[28,0,28,1],[29,0,29,1],[30,0,30,1],[31,0,31,1],[32,0,32,1],[37,3,37,4],[29,3,29,4],[30,3,30,4],[36,3,36,4],[38,0,38,8],[19,0,19,1],[20,0,20,1],[21,0,21,1],[34,3,34,4],[35,3,35,4],[33,0,33,1],[34,0,34,1],[35,0,35,1],[36,0,36,1],[24,0,24,1],[32,3,32,4],[13,3,13,4],[14,3,14,4],[15,3,15,4],[16,3,16,4],[17,3,17,4],[18,3,18,4],[27,3,27,4],[33,3,33,4],[19,3,19,4],[20,3,20,4],[21,3,21,4],[22,3,22,4],[23,3,23,4],[24,3,24,4],[31,3,31,4],[25,3,25,4],[26,3,26,4],[28,3,28,4]]}
[{"$f":"+'Cover Page'!$B$29","v":"Annual Performance Report 2022"},null,null,null,{"$f":"+'Cover Page'!$B$33","v":"Runcorn Energy From Waste Facility "}]
[]
["Emissions to Air (periodically monitored)"]
[]
["Summary of monitoring undertaken, standards used and compliance",null,null,null,null,null,null,null,null,null,null,"Notes:"]
["Bi-annual spot sampling was completed in Q3 between the 5th - 9th October.",null,null,null,null,null,null,null,null,null,null,"Template may require adjustment for any bespoke monitoring requirements of permit. "]
[]
[]
["Results of emissions to air that are periodically monitored"]
["Substance",null,"Ref. Period","Emission Limit Value",null,"Biannual 2",null,null,null,null,null,"User to add additional tables as necessary, depending on whether quarterly or bi-annual reporting is required for the compliance year"]
[null,null,null,null,null,"A1","A2","A3","A4"]
["Hydrogen fluoride",null,"1 hr","2 mg/m3",null,0.62,0.53,0.2,0.18]
["Cd and Th and their compounds",null,"6-8hrs","0.05 mg/m3",null,1E-3,1.6000000000000001E-3,1.4E-3,1E-3]
["Hg and its compounds",null,"6-8hrs","0.05 mg/m3",null,5.1999999999999998E-3,3.0999999999999999E-3,3.3E-3,2E-3]
["Sb, As, Pb, Cr, Co, Cu, Mn, Ni, V and their compounds",null,"6-8hrs","0.5 mg/m3",null,3.7010000000000001E-2,0.21720999999999999,4.4470000000000003E-2,1.7649999999999999E-2]
["Dioxins & Furans (I-TEQ)",null,"6-8hrs","0.1 ng/m3",null,1.6199999999999999E-2,2.8E-3,4.1000000000000003E-3,6.4000000000000003E-3]
["PCBs (WHO-TEQ Humans / Mammals)",null,"6-8hrs","None set ng/m3",null,1.6999999999999999E-3,2.5000000000000001E-4,4.0000000000000002E-4,1.1000000000000001E-3]
["PCBs (WHO-TEQ Fish)",null,"6-8hrs","None set ng/m3",null,1E-4,1.2999999999999999E-5,2.0000000000000002E-5,4.8999999999999998E-5]
["PCBs (WHO-TEQ Birds)",null,"6-8hrs","None set ng/m3",null,4.4999999999999997E-3,5.9999999999999995E-4,1.1000000000000001E-3,2.5000000000000001E-3]
["Dioxins & Furans (WHO-TEQ Humans / Mammals)",null,"6-8hrs","None set ng/m3",null,1.46E-2,2.3E-3,3.5999999999999999E-3,5.7999999999999996E-3]
["Dioxins & Furans (WHO-TEQ Fish)",null,"6-8hrs","None set ng/m3",null,1.6899999999999998E-2,2.8E-3,4.1000000000000003E-3,6.3E-3]
["Dioxins & Furans (WHO-TEQ Birds)",null,"6-8hrs","None set ng/m3",null,2.6100000000000002E-2,4.8999999999999998E-3,7.4000000000000003E-3,9.4999999999999998E-3]
["Anthanthrene",null,"6-8hrs","None set µg/m3",null,"<0.0015","<0.0014","<0.0014","<0.0014"]
["Benzo(a)anthracene",null,"6-8hrs","None set µg/m3",null,"<0.01","<0.01","<0.01","<0.01"]
["Benzo(a)pyrene",null,"6-8hrs","None set µg/m3",null,"<0.0015","<0.01","<0.01","<0.01"]
["Benzo(b)fluoranthene",null,"6-8hrs","None set µg/m3",null,"<0.01","<0.01","<0.01","<0.01"]
["Benzo(b)naptho(2,1-d) thiophene",null,"6-8hrs","None set µg/m3",null,"<0.0015","<0.0014","<0.01","<0.0014"]
["Benzo(c)phenanthrene",null,"6-8hrs","None set µg/m3",null,"<0.0015","<0.0014","<0.0014","<0.0014"]
["Benzo(ghi)perylene",null,"6-8hrs","None set µg/m3",null,"<0.01",0.01,0.01,0.01]
["Benzo(k)fluoranthene",null,"6-8hrs","None set µg/m3",null,"<0.0015","<0.01","<0.01","<0.01"]
["Cholanthrene",null,"6-8hrs","None set µg/m3",null,"<0.0015","<0.0014","<0.0014","<0.0014"]
["Chrysene",null,"6-8hrs","None set µg/m3",null,"<0.02",0.01,0.01,0.01]
["Cyclopenta(cd)pyrene",null,"6-8hrs","None set µg/m3",null,"<0.0015","<0.01",0.01,"<0.01"]
["Dibenzo(ai)pyrene",null,"6-8hrs","None set µg/m3",null,"<0.0015","<0.0014","<0.0014","<0.0014"]
["Dibenzo(ah)anthracene",null,"6-8hrs","None set µg/m3",null,"<0.0015","<0.0014","<0.0014","<0.0014"]
["Fluoranthene",null,"6-8hrs","None set µg/m3",null,7.0000000000000007E-2,0.06,0.12,7.0000000000000007E-2]
["Indeno(123-cd) pyrene",null,"6-8hrs","None set µg/m3",null,"<0.0015","<0.01",0.01,3.3999999999999998E-3]
["Naphthalene",null,"6-8hrs","None set µg/m3",null,1.28,0.06,12.23,0.21]
["Comments :"]

{"sheet":"Air (CEMS)","index":13,"n_rows":29,"n_cols":14,"rows_kept":29,"cut":false,"hidden":false,"merged":[[26,0,26,10],[28,0,29,10],[13,0,14,0],[5,0,6,10],[7,0,8,10],[10,0,10,10],[11,0,12,0],[11,2,12,2],[11,1,12,1],[11,3,11,4],[11,5,11,6],[11,7,11,8],[11,9,11,10]]}
[{"$f":"+'Cover Page'!$B$29","v":"Annual Performance Report 2022"},null,null,null,null,null,null,null,{"$f":"+'Cover Page'!$B$33","v":"Runcorn Energy From Waste Facility "}]
[]
["Emissions to Air (continously monitored)"]
[null,null,null,null,null,null,null,null,null,null,null,null,null,"Notes:"]
["Summary of monitoring undertaken, standards used and compliance",null,null,null,null,null,null,null,null,null,null,null,null,"Template may require adjustment for any bespoke monitoring requirements of permit"]
["All results below monitored by CEMS.",null,null,null,null,null,null,null,null,null,null,null,null,"Report to 2 decimal places, i.e. xx.xx%"]
[]
[]
[]
[]
["Results of emissions to air that are continuously monitored (maximum and average values for each line)"]
["Substance","Reference Period","Emission Limit Value","A1",null,"A2",null,"A3",null,"A4"]
[null,null,null,"Max.","Avg.","Max.","Avg.","Max.","Avg.","Max.","Avg."]
["Oxides of nitrogen","Daily mean","200 mg/m3 ",{"$f":"NOx!O19","v":194.44},{"$f":"NOx!N19","v":182.70500000000001},{"$f":"NOx!O34","v":199.31},{"$f":"NOx!N34","v":181.12416666666664},{"$f":"NOx!O49","v":198.65},{"$f":"NOx!N49","v":188.28333333333333},{"$f":"NOx!O64","v":196.82},{"$f":"NOx!N64","v":187.61}]
[null,"½ hourly mean","400 mg/m3 ",{"$f":"NOx!M19","v":347.55},{"$f":"NOx!L19","v":182.56500000000003},{"$f":"NOx!M34","v":380.44},{"$f":"NOx!L34","v":180.92083333333332},{"$f":"NOx!M49","v":349.3},{"$f":"NOx!L49","v":187.95000000000005},{"$f":"NOx!M64","v":378.52},{"$f":"NOx!L64","v":187.34083333333334}]
["Particulates","Daily mean","10 mg/m3",{"$f":"Particulates!O19","v":0.7},{"$f":"Particulates!N19","v":0.33083333333333337},{"$f":"Particulates!O34","v":4.2699999999999996},{"$f":"Particulates!N34","v":0.38500000000000001},{"$f":"Particulates!O49","v":9.49},{"$f":"Particulates!N49","v":1.2075000000000002},{"$f":"Particulates!O64","v":6.33},{"$f":"Particulates!N64","v":1.1033333333333333}]
[null,"½ hourly mean","30 mg/m3 ",{"$f":"Particulates!M19","v":1.38},{"$f":"Particulates!L19","v":0.33249999999999996},{"$f":"Particulates!M34","v":8.27},{"$f":"Particulates!L34","v":0.38416666666666671},{"$f":"Particulates!M49","v":29.33},{"$f":"Particulates!L49","v":1.22},{"$f":"Particulates!M64","v":19.670000000000002},{"$f":"Particulates!L64","v":1.1100000000000001}]
["Total Organic Carbon ","Daily mean","10 mg/m3 ",{"$f":"TOC!O19","v":0.47},{"$f":"TOC!N19","v":6.9504833333333326E-3},{"$f":"TOC!O34","v":0.35},{"$f":"TOC!N34","v":5.8774596774193557E-3},{"$f":"TOC!O49","v":1.1100000000000001},{"$f":"TOC!N49","v":1.1212872956989249E-2},{"$f":"TOC!O64","v":0.26},{"$f":"TOC!N64","v":5.1752534722222234E-3}]
[null,"½ hourly mean","20 mg/m3 ",{"$f":"TOC!M19","v":10.45},{"$f":"TOC!L19","v":1.6950483449074075E-2},{"$f":"TOC!M34","v":14.06},{"$f":"TOC!L34","v":7.5441268481182796E-3},{"$f":"TOC!M49","v":6.3},{"$f":"TOC!L49","v":1.2046386712582522E-2},{"$f":"TOC!M64","v":10.1},{"$f":"TOC!L64","v":5.1746166744444048E-3}]
["Hydrogen chloride ","Daily mean","10 mg/m3 ",{"$f":"HCl!O19","v":9.11},{"$f":"HCl!N19","v":3.0783333333333336},{"$f":"HCl!O34","v":6.84},{"$f":"HCl!N34","v":0.22916666666666666},{"$f":"HCl!O49","v":8.01},{"$f":"HCl!N49","v":2.8466666666666662},{"$f":"HCl!O64","v":7.83},{"$f":"HCl!N64","v":2.3774999999999999}]
[null,"½ hourly mean","60 mg/m3 ",{"$f":"HCl!M19","v":39.520000000000003},{"$f":"HCl!L19","v":3.0958333333333337},{"$f":"HCl!M34","v":16.14},{"$f":"HCl!L34","v":0.23666666666666666},{"$f":"HCl!M49","v":32.42},{"$f":"HCl!L49","v":2.8333333333333335},{"$f":"HCl!M64","v":43.15},{"$f":"HCl!L64","v":2.375833333333333}]
["Sulphur dioxide","Daily mean","50 mg/m3 ",{"$f":"'SO2'!O19","v":32.799999999999997},{"$f":"'SO2'!N19","v":14.589999999999998},{"$f":"'SO2'!O34","v":29.56},{"$f":"'SO2'!N34","v":4.4741666666666671},{"$f":"'SO2'!O49","v":46.02},{"$f":"'SO2'!N49","v":23.425833333333333},{"$f":"'SO2'!O64","v":39.93},{"$f":"'SO2'!N64","v":24.031666666666666}]
[null,"½ hourly mean","200 mg/m3 ",{"$f":"'SO2'!M19","v":236.97},{"$f":"'SO2'!L19","v":14.550833333333335},{"$f":"'SO2'!M34","v":88.41},{"$f":"'SO2'!L34","v":4.5558333333333332},{"$f":"'SO2'!M49","v":137.25},{"$f":"'SO2'!L49","v":23.501666666666665},{"$f":"'SO2'!M64","v":131.62},{"$f":"'SO2'!L64","v":23.939166666666665}]
["Carbon monoxide ","Daily mean","50 mg/m3 ",{"$f":"'CO 95% 10 min'!Q19","v":6.41},{"$f":"'CO 95% 10 min'!P19","v":1.5991666666666664},{"$f":"'CO 95% 10 min'!Q34","v":12.54},{"$f":"'CO 95% 10 min'!P34","v":1.3525},{"$f":"'CO 95% 10 min'!Q49","v":12.49},{"$f":"'CO 95% 10 min'!P49","v":1.0783333333333334},{"$f":"'CO 95% 10 min'!Q64","v":23.25},{"$f":"'CO 95% 10 min'!P64","v":1.9075000000000004}]
[null,"95%ile 10-min avg *","150 mg/m3 *",{"$f":"'CO 95% 10 min'!M19","v":30.297812374999996},{"$f":"'CO 95% 10 min'!N19","v":1.3333333333333333},{"$f":"'CO 95% 10 min'!M34","v":18.804408458333334},{"$f":"'CO 95% 10 min'!N34","v":1.344642102126959},{"$f":"'CO 95% 10 min'!M49","v":24.577590333333333},{"$f":"'CO 95% 10 min'!N49","v":1},{"$f":"'CO 95% 10 min'!M64","v":89.81366433333335},{"$f":"'CO 95% 10 min'!N64","v":1.6666666666666667}]
[" Ammonia","Daily mean","No limit set",{"$f":"'NH3'!O19","v":3.29},{"$f":"'NH3'!N19","v":1.4233333333333331},{"$f":"'NH3'!O34","v":1.6},{"$f":"'NH3'!N34","v":0.73833333333333329},{"$f":"'NH3'!O49","v":1.27},{"$f":"'NH3'!N49","v":0.65166666666666673},{"$f":"'NH3'!O64","v":6.16},{"$f":"'NH3'!N64","v":0.75916666666666677}]
["* = delete or amend as appropriate"]
["Comments :"]
["The 237mg/m3 SO2 half hourly exceedance on emission point A1 is detailed on the 'Permit compliance' tab.  31/03/2022"]

{"sheet":"HCl","index":14,"n_rows":64,"n_cols":17,"rows_kept":64,"cut":false,"hidden":false,"merged":[[12,16,15,18],[51,9,63,9],[66,9,78,9],[4,9,4,14],[4,1,4,3],[4,4,4,6],[48,0,51,6],[47,0,47,6],[6,9,18,9],[21,9,33,9],[36,9,48,9],[3,16,7,18],[9,16,11,18]]}
[{"$f":"+'Cover Page'!$B$29","v":"Annual Performance Report 2022"},null,null,null,{"$f":"+'Cover Page'!$B$33","v":"Runcorn Energy From Waste Facility "}]
[]
["Monitoring of Hydrogen Chloride emissions",null,null,"Whole Installation",null,null,"See  Notes in Cell Q3",null,null,{"$f":"+A3","v":"Monitoring of Hydrogen Chloride emissions"},null,null,null,"Per Combustion Line",null,null,"Notes:"]
[null,null,null,null,null,null,null,null,null,null,null,null,null,null,null,null,"User to add logic to complete Whole installation, Table A5:G18. From the data in Per Combustion Line, Table J6:O64, subject to No. of lines installed"]
["mg/Nm3","1/2 Hourly Reference Periods",null,null,"Daily Reference Periods"]
[{"$f":"+'Cover Page'!C39","v":2022},"1/2 hourly HCl ELV","Monthly 1/2 hourly mean","Highest 1/2 hourly maximum","Daily HCl ELV","Monthly daily mean","Highest daily maximum",null,null,{"$f":"+A6","v":2022},"mg/Nm3","Monthly 1/2 hourly mean","Monthly 1/2 hourly maximum","Monthly daily mean","Monthly daily maximum"]
["Jan",60,{"$f":"AVERAGE(L7,L22,L37,L52)","v":0.49},{"$f":"MAX(M7,M22,M37,M52)","v":9.36},10,{"$f":"AVERAGE(N7,N22,N37,N52)","v":0.49250000000000005},{"$f":"MAX(O7,O22,O37,O52)","v":3.23},null,null,"A1","Jan",0.38,8.82,0.37,1.38]
["Feb",60,{"$f":"AVERAGE(L8,L23,L38,L53)","v":0.27750000000000002},9.23,10,{"$f":"AVERAGE(N8,N23,N38,N53)","v":0.245},{"$f":"MAX(O8,O23,O38,O53)","v":3.43},null,null,null,"Feb",0.49,6.92,0.5,1.17]
["Mar",60,{"$f":"AVERAGE(L9,L24,L39,L54)","v":0.2475},11.09,10,{"$f":"AVERAGE(N9,N24,N39,N54)","v":0.25},1.44,null,null,null,"Mar",0.38,3.59,0.39,0.8,null,"Whole Installation table A5:G18:"]
["Apr",60,{"$f":"AVERAGE(L10,L25,L40,L55)","v":0.83250000000000002},32.42,10,{"$f":"AVERAGE(N10,N25,N40,N55)","v":0.83999999999999986},{"$f":"MAX(O10,O25,O40,O55)","v":8.01},null,null,null,"Apr",1.1499999999999999,6.13,1.1499999999999999,2.88,null,"Mean: for 1/2 hourly and daily periods calculate mean of values across all operational combustion lines for the month"]
["May",60,0.60750000000000004,9.6999999999999993,10,0.60250000000000004,5.14,null,null,null,"May",1.1100000000000001,7.28,1.06,3.93]
["Jun",60,1.8149999999999999,11.58,10,1.7799999999999998,6.85,null,null,null,"Jun",0.7,4.42,0.5,0.66]
["Jul",60,{"$f":"AVERAGE(L13,L28,L43,L58)","v":4.3900000000000006},{"$f":"MAX(M13,M28,M43,M58)","v":39.520000000000003},10,{"$f":"AVERAGE(N13,N28,N43,N58)","v":4.3774999999999995},{"$f":"MAX(O13,O28,O43,O58)","v":9.11},null,null,null,"Jul",5.69,39.520000000000003,5.74,9.11,null,"Maximum: for 1/2 hourly and daily periods use the highest value across all operational combustion lines for the month"]
["Aug",60,4.1074999999999999,21.86,10,4.1225000000000005,7.12,null,null,null,"Aug",6.16,21.86,6.15,6.73]
["Sep",60,4.09,21.91,10,4.1025,7.83,null,null,null,"Sep",6.27,21.91,6.27,7.03]
["Oct",60,{"$f":"AVERAGE(L16,L31,L46,L61)","v":2.7925},16.14,10,{"$f":"AVERAGE(N16,N31,N46,N61)","v":2.8125},{"$f":"MAX(O16,O31,O46,O61)","v":6.96},null,null,null,"Oct",3.92,9.56,3.92,6.72]
["Nov",60,{"$f":"AVERAGE(L17,L32,L47,L62)","v":2.96},15.38,10,{"$f":"AVERAGE(N17,N32,N47,N62)","v":2.96},{"$f":"MAX(O17,O32,O47,O62)","v":6.84},null,null,null,"Nov",5.67,11.25,5.66,6.48]
["Dec",60,{"$f":"AVERAGE(L18,L33,L48,L63)","v":3.0150000000000001},43.15,10,{"$f":"AVERAGE(N18,N33,N48,N63)","v":3.0100000000000002},7.57,null,null,null,"Dec",5.23,12.01,5.23,6.69]
[null,null,null,null,null,null,null,null,null,null,"Annual",{"$f":"AVERAGE(L7:L18)","v":3.0958333333333337},{"$f":"MAX(M7:M18)","v":39.520000000000003},{"$f":"AVERAGE(N7:N18)","v":3.0783333333333336},{"$f":"MAX(O7:O18)","v":9.11}]
[]
[null,null,null,null,null,null,null,null,null,{"$f":"+A6","v":2022},"mg/Nm3","Monthly 1/2 hourly mean","Monthly 1/2 hourly maximum","Monthly daily mean","Monthly daily maximum"]
[null,null,null,null,null,null,null,null,null,"A2","Jan",0.01,0.67,0.01,0.04]
[null,null,null,null,null,null,null,null,null,null,"Feb",0,0.11,0,0.02]
[null,null,null,null,null,null,null,null,null,null,"Mar",0.03,3.6,0.03,0.3]
[null,null,null,null,null,null,null,null,null,null,"Apr",0.17,5.3,0.17,1.9]
[null,null,null,null,null,null,null,null,null,null,"May",7.0000000000000007E-2,3.96,7.0000000000000007E-2,0.85]
[null,null,null,null,null,null,null,null,null,null,"Jun",0.15,4.6100000000000003,0.14000000000000001,1.21]
[null,null,null,null,null,null,null,null,null,null,"Jul",0.1,7.98,0.01,0.04]
[null,null,null,null,null,null,null,null,null,null,"Aug",0,0.68,0,0.09]
[null,null,null,null,null,null,null,null,null,null,"Sep",0.09,8.18,0.09,1.55]
[null,null,null,null,null,null,null,null,null,null,"Oct",0.25,16.14,0.25,1.82]
[null,null,null,null,null,null,null,null,null,null,"Nov",0.88,10.72,0.89,6.84]
[null,null,null,null,null,null,null,null,null,null,"Dec",1.0900000000000001,11.96,1.0900000000000001,6.07]
[null,null,null,null,null,null,null,null,null,null,"Annual",{"$f":"AVERAGE(L22:L33)","v":0.23666666666666666},{"$f":"MAX(M22:M33)","v":16.14},{"$f":"AVERAGE(N22:N33)","v":0.22916666666666666},{"$f":"MAX(O22:O33)","v":6.84}]
[]
[null,null,null,null,null,null,null,null,null,{"$f":"+A6","v":2022},"mg/Nm3","Monthly 1/2 hourly mean","Monthly 1/2 hourly maximum","Monthly daily mean","Monthly daily maximum"]
[null,null,null,null,null,null,null,null,null,"A3","Jan",1.34,9.36,1.36,3.23]
[null,null,null,null,null,null,null,null,null,null,"Feb",7.0000000000000007E-2,1.19,0.06,0.23]
[null,null,null,null,null,null,null,null,null,null,"Mar",0.35,9.58,0.34,1.44]
[null,null,null,null,null,null,null,null,null,null,"Apr",1.46,32.42,1.49,8.01]
[null,null,null,null,null,null,null,null,null,null,"May",1.1100000000000001,9.6999999999999993,1.1399999999999999,5.14]
[null,null,null,null,null,null,null,null,null,null,"Jun",4.3099999999999996,11.39,4.3899999999999997,6.78]
[null,null,null,null,null,null,null,null,null,null,"Jul",5.99,23.52,5.99,7.11]
[null,null,null,null,null,null,null,null,null,null,"Aug",5.56,13.08,5.56,6.98]
[null,null,null,null,null,null,null,null,null,null,"Sep",4.78,15.22,4.8,6.98]
[null,null,null,null,null,null,null,null,null,null,"Oct",3.02,12.72,3.02,6.67]
[null,null,null,null,null,null,null,null,null,null,"Nov",2.19,15.38,2.19,5.07]
["Comments :",null,null,null,null,null,null,null,null,null,"Dec",3.82,13.19,3.82,6.34]
[null,null,null,null,null,null,null,null,null,null,"Annual",{"$f":"AVERAGE(L37:L48)","v":2.8333333333333335},{"$f":"MAX(M37:M48)","v":32.42},{"$f":"AVERAGE(N37:N48)","v":2.8466666666666662},{"$f":"MAX(O37:O48)","v":8.01}]
[]
[null,null,null,null,null,null,null,null,null,{"$f":"+A6","v":2022},"mg/Nm3","Monthly 1/2 hourly mean","Monthly 1/2 hourly maximum","Monthly daily mean","Monthly daily maximum"]
[null,null,null,null,null,null,null,null,null,"A4","Jan",0.23,6.31,0.23,2.0499999999999998]
[null,null,null,null,null,null,null,null,null,null,"Feb",0.55000000000000004,9.23,0.42,3.43]
[null,null,null,null,null,null,null,null,null,null,"Mar",0.23,11.09,0.24,1.1000000000000001]
[null,null,null,null,null,null,null,null,null,null,"Apr",0.55000000000000004,8.24,0.55000000000000004,3.44]
[null,null,null,null,null,null,null,null,null,null,"May",0.14000000000000001,5.67,0.14000000000000001,0.84]
[null,null,null,null,null,null,null,null,null,null,"Jun",2.1,11.58,2.09,6.85]
[null,null,null,null,null,null,null,null,null,null,"Jul",5.78,15.61,5.77,7.24]
[null,null,null,null,null,null,null,null,null,null,"Aug",4.71,13.58,4.78,7.12]
[null,null,null,null,null,null,null,null,null,null,"Sep",5.22,15.19,5.25,7.83]
[null,null,null,null,null,null,null,null,null,null,"Oct",3.98,13,4.0599999999999996,6.96]
[null,null,null,null,null,null,null,null,null,null,"Nov",3.1,13.02,3.1,6.24]
[null,null,null,null,null,null,null,null,null,null,"Dec",1.92,43.15,1.9,7.57]
[null,null,null,null,null,null,null,null,null,null,"Annual",{"$f":"AVERAGE(L52:L63)","v":2.375833333333333},{"$f":"MAX(M52:M63)","v":43.15},{"$f":"AVERAGE(N52:N63)","v":2.3774999999999999},{"$f":"MAX(O52:O63)","v":7.83}]

{"sheet":"SO2","index":15,"n_rows":64,"n_cols":17,"rows_kept":64,"cut":false,"hidden":false,"merged":[[3,16,7,18],[9,16,11,18],[12,16,15,18],[66,9,78,9],[4,1,4,3],[4,4,4,6],[4,9,4,14],[6,9,18,9],[21,9,33,9],[36,9,48,9],[47,0,47,6],[48,0,51,6],[51,9,63,9]]}
[{"$f":"+'Cover Page'!$B$29","v":"Annual Performance Report 2022"},null,null,null,{"$f":"+'Cover Page'!$B$33","v":"Runcorn Energy From Waste Facility "}]
[]
["Monitoring of Sulphur dioxide emissions",null,null,"Whole Installation",null,null,"See  Notes in Cell Q3",null,null,{"$f":"+A3","v":"Monitoring of Sulphur dioxide emissions"},null,null,null,"Per Combustion Line",null,null,"Notes:"]
[null,null,null,null,null,null,null,null,null,null,null,null,null,null,null,null,"User to add logic to complete Whole installation, Table A5:G18. From the data in Per Combustion Line, Table J6:O64, subject to No. of lines installed"]
["mg/Nm3","1/2 Hourly Reference Periods",null,null,"Daily Reference Periods"]
[{"$f":"+'Cover Page'!C39","v":2022},"1/2 hourly SO2 ELV","Monthly 1/2 hourly mean","Highest 1/2 hourly maximum","Daily SO2 ELV","Monthly daily mean","Highest daily maximum",null,null,{"$f":"+A6","v":2022},"mg/Nm3","Monthly 1/2 hourly mean","Monthly 1/2 hourly maximum","Monthly daily mean","Monthly daily maximum"]
["Jan",200,{"$f":"AVERAGE(L7,L22,L37,L52)","v":8.1574999999999989},{"$f":"MAX(M7,M22,M37,M52)","v":63.11},50,{"$f":"AVERAGE(N7,N22,N37,N52)","v":8.1750000000000007},{"$f":"MAX(O7,O22,O37,O52)","v":20.38},null,null,"A1","Jan",4.92,50.8,4.8600000000000003,12.2]
["Feb",200,{"$f":"AVERAGE(N7,L23,L38,L53)","v":9.4375},{"$f":"MAX(O7,M23,M38,M53)","v":60.63},50,{"$f":"AVERAGE(N8,N23,N38,N53)","v":10.8475},{"$f":"MAX(O8,O23,O38,O53)","v":22.23},null,null,null,"Feb",10.43,79.47,10.53,15.54]
["Mar",200,{"$f":"AVERAGE(L9,L24,L39,L54)","v":13.3575},{"$f":"MAX(M9,M24,M39,M54)","v":236.97},50,{"$f":"AVERAGE(N9,N24,N39,N54)","v":12.887499999999999},24.4,null,null,null,"Mar",13.05,236.97,13.05,17.2,null,"Whole Installation table A5:G18:"]
["Apr",200,{"$f":"AVERAGE(L10,L25,L40,L55)","v":13.885},{"$f":"MAX(M10,M25,M40,M55)","v":137.25},50,{"$f":"AVERAGE(N10,N25,N40,N55)","v":14.072500000000002},{"$f":"MAX(O10,O25,O40,O55)","v":46.02},null,null,null,"Apr",14.88,48.93,14.88,18.03,null,"Mean: for 1/2 hourly and daily periods calculate mean of values across all operational combustion lines for the month"]
["May",200,13.225,81.180000000000007,50,13.322499999999998,37.590000000000003,null,null,null,"May",12.91,61.1,13.28,22.26]
["Jun",200,17.265000000000001,66.569999999999993,50,17.164999999999999,39.340000000000003,null,null,null,"Jun",2.35,10.59,2.14,3.01]
["Jul",200,{"$f":"AVERAGE(L13,L28,L43,L58)","v":17.759999999999998},{"$f":"MAX(M13,M28,M43,M58)","v":94.99},50,{"$f":"AVERAGE(N13,N28,N43,N58)","v":17.5975},{"$f":"MAX(O13,O28,O43,O58)","v":36.909999999999997},null,null,null,"Jul",10.7,94.99,10.57,16.39,null,"Maximum: for 1/2 hourly and daily periods use the highest value across all operational combustion lines for the month"]
["Aug",200,22.150000000000002,111.87,50,22.317499999999999,38.86,null,null,null,"Aug",25.03,63.84,25.36,31.07]
["Sep",200,23.28,74.17,50,23.354999999999997,39.93,null,null,null,"Sep",24.08,56.9,24.08,32.799999999999997]
["Oct",200,{"$f":"AVERAGE(L16,L31,L46,L61)","v":20.984999999999999},{"$f":"MAX(M16,M31,M46,M61)","v":54.49},50,{"$f":"AVERAGE(N16,N31,N46,N61)","v":21.074999999999999},{"$f":"MAX(O16,O31,O46,O61)","v":37.35},null,null,null,"Oct",21.14,42.02,21.14,30.1]
["Nov",200,{"$f":"AVERAGE(N16,L32,L47,L62)","v":20.38},{"$f":"MAX(O16,M32,M47,M62)","v":65.08},50,{"$f":"AVERAGE(N17,N32,N47,N62)","v":19.650000000000002},{"$f":"MAX(O17,O32,O47,O62)","v":37.57},null,null,null,"Nov",18.21,40.83,18.28,24.59]
["Dec",200,{"$f":"AVERAGE(L18,L33,L48,L63)","v":19.100000000000001},{"$f":"MAX(M18,M33,M48,M63)","v":101.34},50,{"$f":"AVERAGE(N18,N33,N48,N63)","v":19.100000000000001},36.99,null,null,null,"Dec",16.91,78.739999999999995,16.91,22.76]
[null,null,null,null,null,null,null,null,null,null,"Annual",{"$f":"AVERAGE(L7:L18)","v":14.550833333333335},{"$f":"MAX(M7:M18)","v":236.97},{"$f":"AVERAGE(N7:N18)","v":14.589999999999998},{"$f":"MAX(O7:O18)","v":32.799999999999997}]
[]
[null,null,null,null,null,null,null,null,null,{"$f":"+A6","v":2022},"mg/Nm3","Monthly 1/2 hourly mean","Monthly 1/2 hourly maximum","Monthly daily mean","Monthly daily maximum"]
[null,null,null,null,null,null,null,null,null,"A2","Jan",1.2,63.11,1.19,4.66]
[null,null,null,null,null,null,null,null,null,null,"Feb",1.28,60.63,1.28,3.88]
[null,null,null,null,null,null,null,null,null,null,"Mar",4.71,88.41,4.7300000000000004,13.45]
[null,null,null,null,null,null,null,null,null,null,"Apr",3.97,26.01,3.95,12.78]
[null,null,null,null,null,null,null,null,null,null,"May",5.99,57.67,6.02,15.92]
[null,null,null,null,null,null,null,null,null,null,"Jun",5.74,66.37,5.32,29.56]
[null,null,null,null,null,null,null,null,null,null,"Jul",3.32,40,2.8,7.78]
[null,null,null,null,null,null,null,null,null,null,"Aug",1.8,42.79,1.8,12.29]
[null,null,null,null,null,null,null,null,null,null,"Sep",2.82,68.98,2.82,13.16]
[null,null,null,null,null,null,null,null,null,null,"Oct",9.7899999999999991,52.03,9.7899999999999991,21.05]
[null,null,null,null,null,null,null,null,null,null,"Nov",5.66,49.33,5.6,22.21]
[null,null,null,null,null,null,null,null,null,null,"Dec",8.39,58.31,8.39,23.6]
[null,null,null,null,null,null,null,null,null,null,"Annual",{"$f":"AVERAGE(L22:L33)","v":4.5558333333333332},{"$f":"MAX(M22:M33)","v":88.41},{"$f":"AVERAGE(N22:N33)","v":4.4741666666666671},{"$f":"MAX(O22:O33)","v":29.56}]
[]
[null,null,null,null,null,null,null,null,null,{"$f":"+A6","v":2022},"mg/Nm3","Monthly 1/2 hourly mean","Monthly 1/2 hourly maximum","Monthly daily mean","Monthly daily maximum"]
[null,null,null,null,null,null,null,null,null,"A3","Jan",14.19,52.25,14.33,19.95]
[null,null,null,null,null,null,null,null,null,null,"Feb",15.28,54.98,15.27,20.04]
[null,null,null,null,null,null,null,null,null,null,"Mar",19.93,109.95,18.02,23.69]
[null,null,null,null,null,null,null,null,null,null,"Apr",18.399999999999999,137.25,19.100000000000001,46.02]
[null,null,null,null,null,null,null,null,null,null,"May",17.22,81.180000000000007,17.29,37.590000000000003]
[null,null,null,null,null,null,null,null,null,null,"Jun",33.44,66.569999999999993,33.4,39.340000000000003]
[null,null,null,null,null,null,null,null,null,null,"Jul",27.38,71.78,27.38,32.36]
[null,null,null,null,null,null,null,null,null,null,"Aug",30.15,111.87,30.14,35.78]
[null,null,null,null,null,null,null,null,null,null,"Sep",30.58,72.91,30.73,36.58]
[null,null,null,null,null,null,null,null,null,null,"Oct",24.59,53.73,24.6,36.299999999999997]
[null,null,null,null,null,null,null,null,null,null,"Nov",25.16,65.08,25.16,35.14]
["Comments :",null,null,null,null,null,null,null,null,null,"Dec",25.7,76.150000000000006,25.69,34.57]
["1 x SO2 half hourly exceedance - see permit compliance section for details.",null,null,null,null,null,null,null,null,null,"Annual",{"$f":"AVERAGE(L37:L48)","v":23.501666666666665},{"$f":"MAX(M37:M48)","v":137.25},{"$f":"AVERAGE(N37:N48)","v":23.425833333333333},{"$f":"MAX(O37:O48)","v":46.02}]
[]
[null,null,null,null,null,null,null,null,null,{"$f":"+A6","v":2022},"mg/Nm3","Monthly 1/2 hourly mean","Monthly 1/2 hourly maximum","Monthly daily mean","Monthly daily maximum"]
[null,null,null,null,null,null,null,null,null,"A4","Jan",12.32,55.6,12.32,20.38]
[null,null,null,null,null,null,null,null,null,null,"Feb",16.329999999999998,56.38,16.309999999999999,22.23]
[null,null,null,null,null,null,null,null,null,null,"Mar",15.74,131.62,15.75,24.4]
[null,null,null,null,null,null,null,null,null,null,"Apr",18.29,40.86,18.36,20.350000000000001]
[null,null,null,null,null,null,null,null,null,null,"May",16.78,49.15,16.7,27]
[null,null,null,null,null,null,null,null,null,null,"Jun",27.53,48.36,27.8,35.979999999999997]
[null,null,null,null,null,null,null,null,null,null,"Jul",29.64,57.81,29.64,36.909999999999997]
[null,null,null,null,null,null,null,null,null,null,"Aug",31.62,78.2,31.97,38.86]
[null,null,null,null,null,null,null,null,null,null,"Sep",35.64,74.17,35.79,39.93]
[null,null,null,null,null,null,null,null,null,null,"Oct",28.42,54.49,28.77,37.35]
[null,null,null,null,null,null,null,null,null,null,"Nov",29.56,57.18,29.56,37.57]
[null,null,null,null,null,null,null,null,null,null,"Dec",25.4,101.34,25.41,36.99]
[null,null,null,null,null,null,null,null,null,null,"Annual",{"$f":"AVERAGE(L52:L63)","v":23.939166666666665},{"$f":"MAX(M52:M63)","v":131.62},{"$f":"AVERAGE(N52:N63)","v":24.031666666666666},{"$f":"MAX(O52:O63)","v":39.93}]

{"sheet":"NOx","index":16,"n_rows":64,"n_cols":17,"rows_kept":64,"cut":false,"hidden":false,"merged":[[3,16,7,18],[9,16,11,18],[12,16,15,18],[66,9,78,9],[4,1,4,3],[4,4,4,6],[4,9,4,14],[6,9,18,9],[21,9,33,9],[36,9,48,9],[47,0,47,6],[48,0,51,6],[51,9,63,9]]}
[{"$f":"+'Cover Page'!$B$29","v":"Annual Performance Report 2022"},null,null,null,{"$f":"+'Cover Page'!$B$33","v":"Runcorn Energy From Waste Facility "}]
[]
["Monitoring of Oxides of Nitrogen emissions",null,null,"Whole Installation",null,null,"See  Notes in Cell Q3",null,null,{"$f":"+A3","v":"Monitoring of Oxides of Nitrogen emissions"},null,null,null,"Per Combustion Line",null,null,"Notes:"]
[null,null,null,null,null,null,null,null,null,null,null,null,null,null,null,null,"User to add logic to complete Whole installation, Table A5:G18. From the data in Per Combustion Line, Table J6:O64, subject to No. of lines installed"]
["mg/Nm3","1/2 Hourly Reference Periods",null,null,"Daily Reference Periods"]
[{"$f":"+'Cover Page'!C39","v":2022},"1/2 hourly NOx ELV","Monthly 1/2 hourly mean","Highest 1/2 hourly maximum","Daily NOx ELV","Monthly daily mean","Highest daily maximum",null,null,{"$f":"+A6","v":2022},"mg/Nm3","Monthly 1/2 hourly mean","Monthly 1/2 hourly maximum","Monthly daily mean","Monthly daily maximum"]
["Jan",400,{"$f":"AVERAGE(L7,L22,L37,L52)","v":175.41250000000002},{"$f":"MAX(M7,M22,M37,M52)","v":225.4},200,{"$f":"AVERAGE(N7,N22,N37,N52)","v":175.48000000000002},{"$f":"MAX(O7,O22,O37,O52)","v":181.19},null,null,"A1","Jan",173.24,219.61,173.35,176.36]
["Feb",400,{"$f":"AVERAGE(L8,L23,L38,L53)","v":178.50750000000002},{"$f":"MAX(M8,M23,M38,M53)","v":369.82},200,{"$f":"AVERAGE(N8,N23,N38,N53)","v":178.58249999999998},{"$f":"MAX(O8,O23,O38,O53)","v":191.7},null,null,null,"Feb",175.46,330.43,175.33,186.43]
["Mar",400,187.05250000000001,345.05,200,187.19749999999999,{"$f":"MAX(O9,O24,O39,O54)","v":196.82},null,null,null,"Mar",184.18,345.05,184.36,191.49,null,"Whole Installation table A5:G18:"]
["Apr",400,{"$f":"AVERAGE(L10,L25,L40,L55)","v":183.785},{"$f":"MAX(M10,M25,M40,M55)","v":251.53},200,{"$f":"AVERAGE(N10,N25,N40,N55)","v":184.35999999999999},{"$f":"MAX(O10,O25,O40,O55)","v":192.24},null,null,null,"Apr",183.91,250.33,183.91,186.3,null,"Mean: for 1/2 hourly and daily periods calculate mean of values across all operational combustion lines for the month"]
["May",400,183.07999999999998,312.39,200,183.54250000000002,199.31,null,null,null,"May",183.17,248.25,183.82,184.61]
["Jun",400,185.125,273.54000000000002,200,185.49250000000001,192.17,null,null,null,"Jun",182.84,198.89,183.28,183.39]
["Jul",400,{"$f":"AVERAGE(L13,L28,L43,L58)","v":186.15},{"$f":"MAX(M13,M28,M43,M58)","v":314.66000000000003},200,{"$f":"AVERAGE(N13,N28,N43,N58)","v":186.76250000000002},{"$f":"MAX(O13,O28,O43,O58)","v":193.97},null,null,null,"Jul",183.19,279.72000000000003,183.32,183.96,null,"Maximum: for 1/2 hourly and daily periods use the highest value across all operational combustion lines for the month"]
["Aug",400,186.79249999999999,278.95999999999998,200,187.16750000000002,195.63,null,null,null,"Aug",183.4,249.9,183.7,185.05]
["Sep",400,187.26249999999999,347.55,200,187.34500000000003,194.78,null,null,null,"Sep",183.9,347.55,183.9,188.07]
["Oct",400,{"$f":"AVERAGE(L16,L31,L46,L61)","v":186.64999999999998},{"$f":"MAX(M16,M31,M46,M61)","v":380.44},200,{"$f":"AVERAGE(N16,N31,N46,N61)","v":186.72749999999999},{"$f":"MAX(O16,O31,O46,O61)","v":195.66},null,null,null,"Oct",184.02,325.12,184.02,190.2]
["Nov",400,{"$f":"AVERAGE(L17,L32,L47,L62)","v":187.64},{"$f":"MAX(M17,M32,M47,M62)","v":276.08999999999997},200,{"$f":"AVERAGE(N17,N32,N47,N62)","v":187.63749999999999},{"$f":"MAX(O17,O32,O47,O62)","v":194.84},null,null,null,"Nov",184.59,208.11,184.6,187.98]
["Dec",400,188.8725,349.3,200,188.8725,{"$f":"MAX(O18,O33,O48,O63)","v":198.65},null,null,null,"Dec",188.88,318.76,188.87,194.44]
[null,null,null,null,null,null,null,null,null,null,"Annual",{"$f":"AVERAGE(L7:L18)","v":182.56500000000003},{"$f":"MAX(M7:M18)","v":347.55},{"$f":"AVERAGE(N7:N18)","v":182.70500000000001},{"$f":"MAX(O7:O18)","v":194.44}]
[]
[null,null,null,null,null,null,null,null,null,{"$f":"+A6","v":2022},"mg/Nm3","Monthly 1/2 hourly mean","Monthly 1/2 hourly maximum","Monthly daily mean","Monthly daily maximum"]
[null,null,null,null,null,null,null,null,null,"A2","Jan",171.47,225.4,171.51,174.54]
[null,null,null,null,null,null,null,null,null,null,"Feb",174.43,340.02,174.43,186.46]
[null,null,null,null,null,null,null,null,null,null,"Mar",183.38,321.52999999999997,183.38,191.61]
[null,null,null,null,null,null,null,null,null,null,"Apr",182.18,213.58,182.16,183.7]
[null,null,null,null,null,null,null,null,null,null,"May",183.24,312.39,183.24,199.31]
[null,null,null,null,null,null,null,null,null,null,"Jun",182.13,194.61,182.25,183.15]
[null,null,null,null,null,null,null,null,null,null,"Jul",180.58,299.27,182.9,193.97]
[null,null,null,null,null,null,null,null,null,null,"Aug",182.89,278.95999999999998,182.89,189.69]
[null,null,null,null,null,null,null,null,null,null,"Sep",183.06,293.49,183.06,187]
[null,null,null,null,null,null,null,null,null,null,"Oct",182.13,380.44,182.13,188.48]
[null,null,null,null,null,null,null,null,null,null,"Nov",182.34,213.81,182.32,183.46]
[null,null,null,null,null,null,null,null,null,null,"Dec",183.22,291.19,183.22,186.1]
[null,null,null,null,null,null,null,null,null,null,"Annual",{"$f":"AVERAGE(L22:L33)","v":180.92083333333332},{"$f":"MAX(M22:M33)","v":380.44},{"$f":"AVERAGE(N22:N33)","v":181.12416666666664},{"$f":"MAX(O22:O33)","v":199.31}]
[]
[null,null,null,null,null,null,null,null,null,{"$f":"+A6","v":2022},"mg/Nm3","Monthly 1/2 hourly mean","Monthly 1/2 hourly maximum","Monthly daily mean","Monthly daily maximum"]
[null,null,null,null,null,null,null,null,null,"A3","Jan",178.21,213.61,178.33,181.19]
[null,null,null,null,null,null,null,null,null,null,"Feb",182.06,257.64,182.32,191.7]
[null,null,null,null,null,null,null,null,null,null,"Mar",190.71,263.95999999999998,190.88,194.09]
[null,null,null,null,null,null,null,null,null,null,"Apr",178.9,251.53,181.23,192.15]
[null,null,null,null,null,null,null,null,null,null,"May",186.87,247.37,187.42,192.75]
[null,null,null,null,null,null,null,null,null,null,"Jun",190.82,273.54000000000002,191.22,192.17]
[null,null,null,null,null,null,null,null,null,null,"Jul",190.49,262.44,190.49,191.99]
[null,null,null,null,null,null,null,null,null,null,"Aug",190.88,268.67,190.88,192.27]
[null,null,null,null,null,null,null,null,null,null,"Sep",191.16,333.69,191.34,194.78]
[null,null,null,null,null,null,null,null,null,null,"Oct",191.4,334.03,191.4,195.66]
[null,null,null,null,null,null,null,null,null,null,"Nov",191.89,276.08999999999997,191.89,193.44]
["Comments :",null,null,null,null,null,null,null,null,null,"Dec",192.01,349.3,192,198.65]
[null,null,null,null,null,null,null,null,null,null,"Annual",{"$f":"AVERAGE(L37:L48)","v":187.95000000000005},{"$f":"MAX(M37:M48)","v":349.3},{"$f":"AVERAGE(N37:N48)","v":188.28333333333333},{"$f":"MAX(O37:O48)","v":198.65}]
[]
[null,null,null,null,null,null,null,null,null,{"$f":"+A6","v":2022},"mg/Nm3","Monthly 1/2 hourly mean","Monthly 1/2 hourly maximum","Monthly daily mean","Monthly daily maximum"]
[null,null,null,null,null,null,null,null,null,"A4","Jan",178.73,181.19,178.73,181.19]
[null,null,null,null,null,null,null,null,null,null,"Feb",182.08,369.82,182.25,191.47]
[null,null,null,null,null,null,null,null,null,null,"Mar",189.94,295.24,190.17,196.82]
[null,null,null,null,null,null,null,null,null,null,"Apr",190.15,239.4,190.14,192.24]
[null,null,null,null,null,null,null,null,null,null,"May",179.04,209.43,179.69,189.46]
[null,null,null,null,null,null,null,null,null,null,"Jun",184.71,246.42,185.22,191.01]
[null,null,null,null,null,null,null,null,null,null,"Jul",190.34,314.66000000000003,190.34,192.29]
[null,null,null,null,null,null,null,null,null,null,"Aug",190,253.8,191.2,195.63]
[null,null,null,null,null,null,null,null,null,null,"Sep",190.93,234.45,191.08,192.34]
[null,null,null,null,null,null,null,null,null,null,"Oct",189.05,378.52,189.36,195.48]
[null,null,null,null,null,null,null,null,null,null,"Nov",191.74,247.95,191.74,194.84]
[null,null,null,null,null,null,null,null,null,null,"Dec",191.38,287.99,191.4,193.24]
[null,null,null,null,null,null,null,null,null,null,"Annual",{"$f":"AVERAGE(L52:L63)","v":187.34083333333334},{"$f":"MAX(M52:M63)","v":378.52},{"$f":"AVERAGE(N52:N63)","v":187.61},{"$f":"MAX(O52:O63)","v":196.82}]

{"sheet":"TOC","index":17,"n_rows":64,"n_cols":17,"rows_kept":64,"cut":false,"hidden":false,"merged":[[3,16,7,18],[9,16,11,18],[12,16,15,18],[66,9,78,9],[4,1,4,3],[4,4,4,6],[4,9,4,14],[6,9,18,9],[21,9,33,9],[36,9,48,9],[47,0,47,6],[48,0,51,6],[51,9,63,9]]}
[{"$f":"+'Cover Page'!$B$29","v":"Annual Performance Report 2022"},null,null,null,{"$f":"+'Cover Page'!$B$33","v":"Runcorn Energy From Waste Facility "}]
[]
["Monitoring of Total organic carbon emissions",null,null,"Whole Installation",null,null,"See  Notes in Cell Q3",null,null,{"$f":"+A3","v":"Monitoring of Total organic carbon emissions"},null,null,null,"Per Combustion Line",null,null,"Notes:"]
[null,null,null,null,null,null,null,null,null,null,null,null,null,null,null,null,"User to add logic to complete Whole installation, Table A5:G18. From the data in Per Combustion Line, Table J6:O64, subject to No. of lines installed"]
["mg/Nm3","1/2 Hourly Reference Periods",null,null,"Daily Reference Periods"]
[{"$f":"+'Cover Page'!C39","v":2022},"1/2 hourly TOC ELV","Monthly 1/2 hourly mean","Highest 1/2 hourly maximum","Daily TOC ELV","Monthly daily mean","Highest daily maximum",null,null,{"$f":"+A6","v":2022},"mg/Nm3","Monthly 1/2 hourly mean","Monthly 1/2 hourly maximum","Monthly daily mean","Monthly daily maximum"]
["Jan",20,{"$f":"AVERAGE(L7,L22,L37,L52)","v":2.5000000000000001E-3},{"$f":"MAX(M7,M22,M37,M52)","v":3.43},10,{"$f":"AVERAGE(N7,N22,N37,N52)","v":2.5000000000000001E-3},{"$f":"MAX(O7,O22,O37,O52)","v":7.0000000000000007E-2},null,null,"A1","Jan",0,0.57999999999999996,0,0.06]
["Feb",20,{"$f":"AVERAGE(L8,L23,L38,L53)","v":0},{"$f":"MAX(M8,M23,M38,M53)","v":1.54},10,{"$f":"AVERAGE(N8,N23,N38,N53)","v":2.5000000000000001E-3},{"$f":"MAX(O8,O23,O38,O53)","v":0.05},null,null,null,"Feb",0,1.1599999999999999,0,0.03]
["Mar",20,{"$f":"AVERAGE(L9,L24,L39,L54)","v":1.5000000000000001E-2},4.8499999999999996,10,7.4999999999999997E-3,{"$f":"MAX(O9,O24,O39,O54)","v":0.47},null,null,null,"Mar",0.05,4.8499999999999996,0.02,0.47,null,"Whole Installation table A5:G18:"]
["Apr",20,{"$f":"AVERAGE(L10,L25,L40,L55)","v":5.0000000000000001E-3},{"$f":"MAX(M10,M25,M40,M55)","v":14.06},10,{"$f":"AVERAGE(N10,N25,N40,N55)","v":5.0000000000000001E-3},{"$f":"MAX(O10,O25,O40,O55)","v":0.35},null,null,null,"Apr",0.01,1.86,0.01,0.06,null,"Mean: for 1/2 hourly and daily periods calculate mean of values across all operational combustion lines for the month"]
["May",20,3.5000000000000003E-2,10.1,10,3.5000000000000003E-2,1.1100000000000001,null,null,null,"May",0,0.66,0,0.01]
["Jun",20,2.2499999999999999E-2,10.45,10,2.5000000000000001E-3,0.1,null,null,null,"Jun",0.05,10.45,0,0]
["Jul",20,{"$f":"AVERAGE(L13,L28,L43,L58)","v":1.7500000000000002E-2},{"$f":"MAX(M13,M28,M43,M58)","v":5.18},10,{"$f":"AVERAGE(N13,N28,N43,N58)","v":7.4999999999999997E-3},{"$f":"MAX(O13,O28,O43,O58)","v":0.1},null,null,null,"Jul",0.05,5.18,0.02,0.1,null,"Maximum: for 1/2 hourly and daily periods use the highest value across all operational combustion lines for the month"]
["Aug",20,7.4999999999999997E-3,6.3,10,5.0000000000000001E-3,0.13,null,null,null,"Aug",0.02,3.1,0.01,0.11]
["Sep",20,2.5000000000000001E-3,4.12,10,2.5000000000000001E-3,0.09,null,null,null,"Sep",0,0.05,0,0.06]
["Oct",20,{"$f":"AVERAGE(L16,L31,L46,L61)","v":6.1936800179211472E-3},{"$f":"MAX(M16,M31,M46,M61)","v":6.89},10,{"$f":"AVERAGE(N16,N31,N46,N61)","v":6.1936838709677425E-3},{"$f":"MAX(O16,O31,O46,O61)","v":0.16},null,null,null,"Oct",3.4058013888888889E-3,0.59,3.4058000000000001E-3,7.0000000000000007E-2]
["Nov",20,{"$f":"AVERAGE(L17,L32,L47,L62)","v":7.7672758246527772E-3},{"$f":"MAX(M17,M32,M47,M62)","v":13.08},10,{"$f":"AVERAGE(N17,N32,N47,N62)","v":7.7672708333333326E-3},{"$f":"MAX(O17,O32,O47,O62)","v":0.27},null,null,null,"Nov",0.01,1.03,0.01,0.09]
["Dec",20,{"$f":"AVERAGE(L18,L33,L48,L63)","v":3.6858852100839145E-3},1.23,10,3.6872536155913979E-3,{"$f":"MAX(O18,O33,O48,O63)","v":0.08},null,null,null,"Dec",0.01,1.23,0.01,0.08]
[null,null,null,null,null,null,null,null,null,null,"Annual",{"$f":"AVERAGE(L7:L18)","v":1.6950483449074075E-2},{"$f":"MAX(M7:M18)","v":10.45},{"$f":"AVERAGE(N7:N18)","v":6.9504833333333326E-3},{"$f":"MAX(O7:O18)","v":0.47}]
[]
[null,null,null,null,null,null,null,null,null,{"$f":"+A6","v":2022},"mg/Nm3","Monthly 1/2 hourly mean","Monthly 1/2 hourly maximum","Monthly daily mean","Monthly daily maximum"]
[null,null,null,null,null,null,null,null,null,"A2","Jan",0,1.73,0,0.04]
[null,null,null,null,null,null,null,null,null,null,"Feb",0,0.18,0,0.01]
[null,null,null,null,null,null,null,null,null,null,"Mar",0.01,4.34,0.01,0.09]
[null,null,null,null,null,null,null,null,null,null,"Apr",0.01,14.06,0.01,0.35]
[null,null,null,null,null,null,null,null,null,null,"May",0,0.2,0,0]
[null,null,null,null,null,null,null,null,null,null,"Jun",0.02,3.63,0.01,0.1]
[null,null,null,null,null,null,null,null,null,null,"Jul",0.02,3.88,0.01,7.0000000000000007E-2]
[null,null,null,null,null,null,null,null,null,null,"Aug",0,1.38,0,0.03]
[null,null,null,null,null,null,null,null,null,null,"Sep",0,1.95,0,0.09]
[null,null,null,null,null,null,null,null,null,null,"Oct",0.01,6.89,0.01,0.16]
[null,null,null,null,null,null,null,null,null,null,"Nov",0.02,13.08,0.02,0.27]
[null,null,null,null,null,null,null,null,null,null,"Dec",5.2952217741935486E-4,0.16,5.2951612903225803E-4,0.02]
[null,null,null,null,null,null,null,null,null,null,"Annual",{"$f":"AVERAGE(L22:L33)","v":7.5441268481182796E-3},{"$f":"MAX(M22:M33)","v":14.06},{"$f":"AVERAGE(N22:N33)","v":5.8774596774193557E-3},{"$f":"MAX(O22:O33)","v":0.35}]
[]
[null,null,null,null,null,null,null,null,null,{"$f":"+A6","v":2022},"mg/Nm3","Monthly 1/2 hourly mean","Monthly 1/2 hourly maximum","Monthly daily mean","Monthly daily maximum"]
[null,null,null,null,null,null,null,null,null,"A3","Jan",0.01,3.43,0.01,7.0000000000000007E-2]
[null,null,null,null,null,null,null,null,null,null,"Feb",0,1.54,0,0.03]
[null,null,null,null,null,null,null,null,null,null,"Mar",0,2.39,0,0.05]
[null,null,null,null,null,null,null,null,null,null,"Apr",0,0.16,0,0.02]
[null,null,null,null,null,null,null,null,null,null,"May",0.11,4.4000000000000004,0.11,1.1100000000000001]
[null,null,null,null,null,null,null,null,null,null,"Jun",0.01,6.27,0,0.02]
[null,null,null,null,null,null,null,null,null,null,"Jul",0,2.3199999999999998,0,0.05]
[null,null,null,null,null,null,null,null,null,null,"Aug",0.01,6.3,0.01,0.13]
[null,null,null,null,null,null,null,null,null,null,"Sep",0,1.64,0,0.03]
[null,null,null,null,null,null,null,null,null,null,"Oct",1.3689186827956993E-3,0.27,1.3689354838709675E-3,0.02]
[null,null,null,null,null,null,null,null,null,null,"Nov",6.0552170138888884E-4,0.13,6.0549999999999992E-4,0.01]
["Comments :",null,null,null,null,null,null,null,null,null,"Dec",2.5822001668056715E-3,0.93,2.58004E-3,0.03]
[null,null,null,null,null,null,null,null,null,null,"Annual",{"$f":"AVERAGE(L37:L48)","v":1.2046386712582522E-2},{"$f":"MAX(M37:M48)","v":6.3},{"$f":"AVERAGE(N37:N48)","v":1.1212872956989249E-2},{"$f":"MAX(O37:O48)","v":1.1100000000000001}]
[]
[null,null,null,null,null,null,null,null,null,{"$f":"+A6","v":2022},"mg/Nm3","Monthly 1/2 hourly mean","Monthly 1/2 hourly maximum","Monthly daily mean","Monthly daily maximum"]
[null,null,null,null,null,null,null,null,null,"A4","Jan",0,0.32,0,0.04]
[null,null,null,null,null,null,null,null,null,null,"Feb",0,1.44,0.01,0.05]
[null,null,null,null,null,null,null,null,null,null,"Mar",0,0.37,0,0.03]
[null,null,null,null,null,null,null,null,null,null,"Apr",0,0.59,0,0.02]
[null,null,null,null,null,null,null,null,null,null,"May",0.03,10.1,0.03,0.26]
[null,null,null,null,null,null,null,null,null,null,"Jun",0.01,3.7,0,0.02]
[null,null,null,null,null,null,null,null,null,null,"Jul",0,0.56000000000000005,0,0.02]
[null,null,null,null,null,null,null,null,null,null,"Aug",0,1.08,0,0.02]
[null,null,null,null,null,null,null,null,null,null,"Sep",0.01,4.12,0.01,0.09]
[null,null,null,null,null,null,null,null,null,null,"Oct",0.01,6.45,0.01,0.16]
[null,null,null,null,null,null,null,null,null,null,"Nov",4.6358159722222222E-4,0.2,4.6358333333333337E-4,4.2199999999999998E-3]
[null,null,null,null,null,null,null,null,null,null,"Dec",1.631818496110631E-3,0.89,1.6394583333333335E-3,0.02]
[null,null,null,null,null,null,null,null,null,null,"Annual",{"$f":"AVERAGE(L52:L63)","v":5.1746166744444048E-3},{"$f":"MAX(M52:M63)","v":10.1},{"$f":"AVERAGE(N52:N63)","v":5.1752534722222234E-3},{"$f":"MAX(O52:O63)","v":0.26}]

{"sheet":"NH3","index":18,"n_rows":64,"n_cols":17,"rows_kept":64,"cut":false,"hidden":false,"merged":[[3,16,7,18],[9,16,11,18],[12,16,15,18],[66,9,78,9],[4,1,4,3],[4,4,4,6],[4,9,4,14],[6,9,18,9],[21,9,33,9],[36,9,48,9],[47,0,47,6],[48,0,51,6],[51,9,63,9]]}
[{"$f":"+'Cover Page'!$B$29","v":"Annual Performance Report 2022"},null,null,null,{"$f":"+'Cover Page'!$B$33","v":"Runcorn Energy From Waste Facility "}]
[]
["Monitoring of Ammnonia emissions ",null,null,"Whole Installation",null,null,"See  Notes in Cell Q3",null,null,{"$f":"+A3","v":"Monitoring of Ammnonia emissions "},null,null,null,"Per Combustion Line",null,null,"Notes:"]
[null,null,null,null,null,null,null,null,null,null,null,null,null,null,null,null,"User to add logic to complete Whole installation, Table A5:G18. From the data in Per Combustion Line, Table J6:O64, subject to No. of lines installed"]
["mg/Nm3","1/2 Hourly Reference Periods",null,null,"Daily Reference Periods"]
[{"$f":"+'Cover Page'!C39","v":2022},"1/2 hourly NH3 ELV","Monthly 1/2 hourly mean","Highest 1/2 hourly maximum","Daily NH3 ELV","Monthly daily mean","Highest daily maximum",null,null,{"$f":"+A6","v":2022},"mg/Nm3","Monthly 1/2 hourly mean","Monthly 1/2 hourly maximum","Monthly daily mean","Monthly daily maximum"]
["Jan",0,{"$f":"AVERAGE(L7,L22,L37,L52)","v":0.90500000000000003},{"$f":"MAX(M7,M22,M37,M52)","v":4.8099999999999996},10,{"$f":"AVERAGE(N7,N22,N37,N52)","v":0.90500000000000003},{"$f":"MAX(O7,O22,O37,O52)","v":1.76},null,null,"A1","Jan",1.21,2.84,1.21,1.76]
["Feb",{"$f":"+B7","v":0},{"$f":"AVERAGE(L8,L23,L38,L53)","v":1.0049999999999999},{"$f":"MAX(M8,M23,M38,M53)","v":5.68},{"$f":"+E7","v":10},{"$f":"AVERAGE(N8,N23,N38,N53)","v":0.97249999999999992},{"$f":"MAX(O8,O23,O38,O53)","v":2.73},null,null,null,"Feb",1.24,5.68,1.23,2.06]
["Mar",{"$f":"+B8","v":0},0.77249999999999996,4.8600000000000003,{"$f":"+E8","v":10},0.77249999999999996,1.68,null,null,null,"Mar",1.19,2.8,1.19,1.68,null,"Whole Installation table A5:G18:"]
["Apr",0,{"$f":"AVERAGE(L10,L25,L40,L55)","v":0.81500000000000006},{"$f":"MAX(M10,M25,M40,M55)","v":10.18},10,{"$f":"AVERAGE(N10,N25,N40,N55)","v":0.8125},{"$f":"MAX(O10,O25,O40,O55)","v":1.71},null,null,null,"Apr",1.36,3.03,1.36,1.71,null,"Mean: for 1/2 hourly and daily periods calculate mean of values across all operational combustion lines for the month"]
["May",0,0.87749999999999995,9.7100000000000009,10,0.84250000000000003,6.16,null,null,null,"May",1.1299999999999999,2.69,1.1100000000000001,1.45]
["Jun",0,0.88500000000000001,12.91,10,0.86499999999999999,2.0699999999999998,null,null,null,"Jun",1.86,3.42,1.84,2.0699999999999998]
["Jul",0,{"$f":"AVERAGE(L13,L28,L43,L58)","v":0.9474999999999999},{"$f":"MAX(M13,M28,M43,M58)","v":3.81},10,{"$f":"AVERAGE(N13,N28,N43,N58)","v":0.94000000000000006},{"$f":"MAX(O13,O28,O43,O58)","v":1.8},null,null,null,"Jul",1.38,3.81,1.36,1.8,null,"Maximum: for 1/2 hourly and daily periods use the highest value across all operational combustion lines for the month"]
["Aug",0,0.8849999999999999,4.95,10,0.87750000000000006,1.8,null,null,null,"Aug",1.39,4.95,1.36,1.8]
["Sep",0,0.85000000000000009,5.29,10,0.84749999999999992,2.59,null,null,null,"Sep",1.41,5.29,1.41,2.59]
["Oct",0,{"$f":"AVERAGE(L16,L31,L46,L61)","v":0.84749999999999992},{"$f":"MAX(M16,M31,M46,M61)","v":8.67},10,{"$f":"AVERAGE(N16,N31,N46,N61)","v":0.84499999999999997},{"$f":"MAX(O16,O31,O46,O61)","v":1.92},null,null,null,"Oct",1.17,1.73,1.17,1.35]
["Nov",0,{"$f":"AVERAGE(L17,L32,L47,L62)","v":0.89749999999999996},{"$f":"MAX(M17,M32,M47,M62)","v":2.38},10,{"$f":"AVERAGE(N17,N32,N47,N62)","v":0.89749999999999996},{"$f":"MAX(O17,O32,O47,O62)","v":1.91},null,null,null,"Nov",1.27,2.38,1.27,1.91]
["Dec",0,1.1399999999999999,8,10,1.1399999999999999,3.29,null,null,null,"Dec",2.57,8,2.57,3.29]
[null,null,null,null,null,null,null,null,null,null,"Annual",{"$f":"AVERAGE(L7:L18)","v":1.4316666666666666},{"$f":"MAX(M7:M18)","v":8},{"$f":"AVERAGE(N7:N18)","v":1.4233333333333331},{"$f":"MAX(O7:O18)","v":3.29}]
[]
[null,null,null,null,null,null,null,null,null,{"$f":"+A6","v":2022},"mg/Nm3","Monthly 1/2 hourly mean","Monthly 1/2 hourly maximum","Monthly daily mean","Monthly daily maximum"]
[null,null,null,null,null,null,null,null,null,"A2","Jan",1,4.8099999999999996,1,1.41]
[null,null,null,null,null,null,null,null,null,null,"Feb",0.84,3.48,0.84,1.1399999999999999]
[null,null,null,null,null,null,null,null,null,null,"Mar",0.55000000000000004,1.34,0.55000000000000004,0.69]
[null,null,null,null,null,null,null,null,null,null,"Apr",0.55000000000000004,10.18,0.55000000000000004,0.93]
[null,null,null,null,null,null,null,null,null,null,"May",0.47,0.89,0.47,0.62]
[null,null,null,null,null,null,null,null,null,null,"Jun",0.51,2.36,0.5,0.62]
[null,null,null,null,null,null,null,null,null,null,"Jul",1.22,2.54,1.21,1.6]
[null,null,null,null,null,null,null,null,null,null,"Aug",0.93,1.38,0.93,1.1599999999999999]
[null,null,null,null,null,null,null,null,null,null,"Sep",0.68,1.34,0.68,0.77]
[null,null,null,null,null,null,null,null,null,null,"Oct",0.82,1.53,0.82,1.01]
[null,null,null,null,null,null,null,null,null,null,"Nov",0.82,1.84,0.82,0.98]
[null,null,null,null,null,null,null,null,null,null,"Dec",0.49,0.87,0.49,0.66]
[null,null,null,null,null,null,null,null,null,null,"Annual",{"$f":"AVERAGE(L22:L33)","v":0.73999999999999988},{"$f":"MAX(M22:M33)","v":10.18},{"$f":"AVERAGE(N22:N33)","v":0.73833333333333329},{"$f":"MAX(O22:O33)","v":1.6}]
[]
[null,null,null,null,null,null,null,null,null,{"$f":"+A6","v":2022},"mg/Nm3","Monthly 1/2 hourly mean","Monthly 1/2 hourly maximum","Monthly daily mean","Monthly daily maximum"]
[null,null,null,null,null,null,null,null,null,"A3","Jan",0.75,2,0.75,0.87]
[null,null,null,null,null,null,null,null,null,null,"Feb",0.86,1.8,0.86,1.07]
[null,null,null,null,null,null,null,null,null,null,"Mar",0.68,1.23,0.68,0.82]
[null,null,null,null,null,null,null,null,null,null,"Apr",0.7,1.48,0.69,0.92]
[null,null,null,null,null,null,null,null,null,null,"May",0.7,4.9000000000000004,0.68,1.02]
[null,null,null,null,null,null,null,null,null,null,"Jun",0.56999999999999995,10.17,0.54,0.56999999999999995]
[null,null,null,null,null,null,null,null,null,null,"Jul",0.54,1.04,0.54,0.62]
[null,null,null,null,null,null,null,null,null,null,"Aug",0.53,0.95,0.53,0.56000000000000005]
[null,null,null,null,null,null,null,null,null,null,"Sep",0.53,1.34,0.52,0.56000000000000005]
[null,null,null,null,null,null,null,null,null,null,"Oct",0.63,2.64,0.63,1.27]
[null,null,null,null,null,null,null,null,null,null,"Nov",0.65,1.7,0.65,0.89]
["Comments :",null,null,null,null,null,null,null,null,null,"Dec",0.75,1.67,0.75,0.97]
["An indicated ELV value of zero in the table above means that no ammonia limit is set in the permit.  ",null,null,null,null,null,null,null,null,null,"Annual",{"$f":"AVERAGE(L37:L48)","v":0.65750000000000008},{"$f":"MAX(M37:M48)","v":10.17},{"$f":"AVERAGE(N37:N48)","v":0.65166666666666673},{"$f":"MAX(O37:O48)","v":1.27}]
[]
[null,null,null,null,null,null,null,null,null,{"$f":"+A6","v":2022},"mg/Nm3","Monthly 1/2 hourly mean","Monthly 1/2 hourly maximum","Monthly daily mean","Monthly daily maximum"]
[null,null,null,null,null,null,null,null,null,"A4","Jan",0.66,1.5,0.66,0.93]
[null,null,null,null,null,null,null,null,null,null,"Feb",1.08,1.58,0.96,2.73]
[null,null,null,null,null,null,null,null,null,null,"Mar",0.67,4.8600000000000003,0.67,0.87]
[null,null,null,null,null,null,null,null,null,null,"Apr",0.65,1.19,0.65,0.8]
[null,null,null,null,null,null,null,null,null,null,"May",1.21,9.7100000000000009,1.1100000000000001,6.16]
[null,null,null,null,null,null,null,null,null,null,"Jun",0.6,12.91,0.57999999999999996,0.69]
[null,null,null,null,null,null,null,null,null,null,"Jul",0.65,1.44,0.65,0.79]
[null,null,null,null,null,null,null,null,null,null,"Aug",0.69,1.4,0.69,0.8]
[null,null,null,null,null,null,null,null,null,null,"Sep",0.78,1.95,0.78,0.98]
[null,null,null,null,null,null,null,null,null,null,"Oct",0.77,8.67,0.76,1.92]
[null,null,null,null,null,null,null,null,null,null,"Nov",0.85,1.91,0.85,1.1399999999999999]
[null,null,null,null,null,null,null,null,null,null,"Dec",0.75,1.81,0.75,1.0900000000000001]
[null,null,null,null,null,null,null,null,null,null,"Annual",{"$f":"AVERAGE(L52:L63)","v":0.77999999999999992},{"$f":"MAX(M52:M63)","v":12.91},{"$f":"AVERAGE(N52:N63)","v":0.75916666666666677},{"$f":"MAX(O52:O63)","v":6.16}]

{"sheet":"Particulates","index":19,"n_rows":64,"n_cols":17,"rows_kept":64,"cut":false,"hidden":false,"merged":[[3,16,7,18],[9,16,11,18],[12,16,15,18],[66,9,78,9],[4,1,4,3],[4,4,4,6],[4,9,4,14],[6,9,18,9],[21,9,33,9],[36,9,48,9],[47,0,47,6],[48,0,51,6],[51,9,63,9]]}
[{"$f":"+'Cover Page'!$B$29","v":"Annual Performance Report 2022"},null,null,null,{"$f":"+'Cover Page'!$B$33","v":"Runcorn Energy From Waste Facility "}]
[]
["Monitoring of Particulate matter emissions",null,null,"Whole Installation",null,null,"See  Notes in Cell Q3",null,null,{"$f":"+A3","v":"Monitoring of Particulate matter emissions"},null,null,null,"Per Combustion Line",null,null,"Notes:"]
[null,null,null,null,null,null,null,null,null,null,null,null,null,null,null,null,"User to add logic to complete Whole installation, Table A5:G18. From the data in Per Combustion Line, Table J6:O64, subject to No. of lines installed"]
["mg/Nm3","1/2 Hourly Reference Periods",null,null,"Daily Reference Periods"]
[{"$f":"+'Cover Page'!C39","v":2022},"1/2 hourly PM ELV","Monthly 1/2 hourly mean","Highest 1/2 hourly maximum","Daily PM ELV","Monthly daily mean","Highest daily maximum",null,null,{"$f":"+A6","v":2022},"mg/Nm3","Monthly 1/2 hourly mean","Monthly 1/2 hourly maximum","Monthly daily mean","Monthly daily maximum"]
["Jan",30,{"$f":"AVERAGE(L7,L22,L37,L52)","v":0.16250000000000001},{"$f":"MAX(M7,M22,M37,M52)","v":1.85},10,{"$f":"AVERAGE(N7,N22,N37,N52)","v":0.16250000000000001},{"$f":"MAX(O7,O22,O37,O52)","v":0.47},null,null,"A1","Jan",0.01,0.04,0.01,0.02]
["Feb",30,{"$f":"AVERAGE(L8,L23,L38,L53)","v":0.26250000000000001},{"$f":"MAX(M8,M23,M38,M53)","v":8.77},10,{"$f":"AVERAGE(N8,N23,N38,N53)","v":0.26},{"$f":"MAX(O8,O23,O38,O53)","v":0.88},null,null,null,"Feb",7.0000000000000007E-2,0.68,0.06,0.4]
["Mar",30,0.3775,{"$f":"MAX(M9,M24,M39,M54)","v":1.72},10,0.375,{"$f":"MAX(O9,O24,O39,O54)","v":0.64},null,null,null,"Mar",0.34,0.45,0.34,0.38,null,"Whole Installation table A5:G18:"]
["Apr",30,{"$f":"AVERAGE(L10,L25,L40,L55)","v":0.38999999999999996},{"$f":"MAX(M10,M25,M40,M55)","v":1.45},10,{"$f":"AVERAGE(N10,N25,N40,N55)","v":0.38750000000000001},{"$f":"MAX(O10,O25,O40,O55)","v":0.59},null,null,null,"Apr",0.35,0.49,0.35,0.39,null,"Mean: for 1/2 hourly and daily periods calculate mean of values across all operational combustion lines for the month"]
["May",30,0.505,5.0999999999999996,10,0.50250000000000006,1.72,null,null,null,"May",0.35,0.62,0.35,0.38]
["Jun",30,0.88249999999999995,23.48,10,0.84499999999999997,3.46,null,null,null,"Jun",0.43,0.62,0.42,0.42]
["Jul",30,{"$f":"AVERAGE(L13,L28,L43,L58)","v":0.54},{"$f":"MAX(M13,M28,M43,M58)","v":2.23},10,{"$f":"AVERAGE(N13,N28,N43,N58)","v":0.54249999999999998},{"$f":"MAX(O13,O28,O43,O58)","v":1.46},null,null,null,"Jul",0.39,0.95,0.39,0.46,null,"Maximum: for 1/2 hourly and daily periods use the highest value across all operational combustion lines for the month"]
["Aug",30,0.96250000000000002,7.61,10,0.95750000000000002,3.25,null,null,null,"Aug",0.49,1.38,0.49,0.7]
["Sep",30,1.4224999999999999,19.670000000000002,10,1.4175,6.33,null,null,null,"Sep",0.42,0.56999999999999995,0.42,0.5]
["Oct",30,{"$f":"AVERAGE(L16,L31,L46,L61)","v":1.0274999999999999},{"$f":"MAX(M16,M31,M46,M61)","v":8.27},10,{"$f":"AVERAGE(N16,N31,N46,N61)","v":1.0225},{"$f":"MAX(O16,O31,O46,O61)","v":4.2699999999999996},null,null,null,"Oct",0.42,0.52,0.42,0.46]
["Nov",30,{"$f":"AVERAGE(L17,L32,L47,L62)","v":1.7475000000000001},{"$f":"MAX(M17,M32,M47,M62)","v":29.33},10,{"$f":"AVERAGE(N17,N32,N47,N62)","v":1.7475000000000001},{"$f":"MAX(O17,O32,O47,O62)","v":9.49},null,null,null,"Nov",0.39,0.49,0.39,0.44]
["Dec",30,0.85999999999999988,{"$f":"MAX(M18,M33,M48,M63)","v":4.72},10,0.85999999999999988,{"$f":"MAX(O18,O33,O48,O63)","v":2.67},null,null,null,"Dec",0.33,0.47,0.33,0.38]
[null,null,null,null,null,null,null,null,null,null,"Annual",{"$f":"AVERAGE(L7:L18)","v":0.33249999999999996},{"$f":"MAX(M7:M18)","v":1.38},{"$f":"AVERAGE(N7:N18)","v":0.33083333333333337},{"$f":"MAX(O7:O18)","v":0.7}]
[]
[null,null,null,null,null,null,null,null,null,{"$f":"+A6","v":2022},"mg/Nm3","Monthly 1/2 hourly mean","Monthly 1/2 hourly maximum","Monthly daily mean","Monthly daily maximum"]
[null,null,null,null,null,null,null,null,null,"A2","Jan",0.18,0.88,0.18,0.28999999999999998]
[null,null,null,null,null,null,null,null,null,null,"Feb",0.2,0.68,0.2,0.3]
[null,null,null,null,null,null,null,null,null,null,"Mar",0.21,0.9,0.21,0.32]
[null,null,null,null,null,null,null,null,null,null,"Apr",0.25,1.03,0.24,0.36]
[null,null,null,null,null,null,null,null,null,null,"May",0.21,0.88,0.21,0.3]
[null,null,null,null,null,null,null,null,null,null,"Jun",0.24,1.1299999999999999,0.25,0.39]
[null,null,null,null,null,null,null,null,null,null,"Jul",0.19,0.54,0.2,0.36]
[null,null,null,null,null,null,null,null,null,null,"Aug",0.52,1.25,0.52,0.76]
[null,null,null,null,null,null,null,null,null,null,"Sep",1.1000000000000001,4.47,1.1000000000000001,2.4300000000000002]
[null,null,null,null,null,null,null,null,null,null,"Oct",1.18,8.27,1.18,4.2699999999999996]
[null,null,null,null,null,null,null,null,null,null,"Nov",0.13,1.94,0.13,0.99]
[null,null,null,null,null,null,null,null,null,null,"Dec",0.2,0.91,0.2,0.5]
[null,null,null,null,null,null,null,null,null,null,"Annual",{"$f":"AVERAGE(L22:L33)","v":0.38416666666666671},{"$f":"MAX(M22:M33)","v":8.27},{"$f":"AVERAGE(N22:N33)","v":0.38500000000000001},{"$f":"MAX(O22:O33)","v":4.2699999999999996}]
[]
[null,null,null,null,null,null,null,null,null,{"$f":"+A6","v":2022},"mg/Nm3","Monthly 1/2 hourly mean","Monthly 1/2 hourly maximum","Monthly daily mean","Monthly daily maximum"]
[null,null,null,null,null,null,null,null,null,"A3","Jan",0.03,1.85,0.03,0.1]
[null,null,null,null,null,null,null,null,null,null,"Feb",0.27,8.77,0.27,0.51]
[null,null,null,null,null,null,null,null,null,null,"Mar",0.47,1.72,0.47,0.64]
[null,null,null,null,null,null,null,null,null,null,"Apr",0.47,1.45,0.47,0.59]
[null,null,null,null,null,null,null,null,null,null,"May",1.04,5.0999999999999996,1.04,1.72]
[null,null,null,null,null,null,null,null,null,null,"Jun",2.36,23.48,2.21,3.46]
[null,null,null,null,null,null,null,null,null,null,"Jul",0.56000000000000005,0.86,0.56000000000000005,0.69]
[null,null,null,null,null,null,null,null,null,null,"Aug",0.62,1.76,0.62,1.28]
[null,null,null,null,null,null,null,null,null,null,"Sep",1.74,7.27,1.74,3.33]
[null,null,null,null,null,null,null,null,null,null,"Oct",1.22,5.79,1.22,1.64]
[null,null,null,null,null,null,null,null,null,null,"Nov",4.38,29.33,4.38,9.49]
["Comments :",null,null,null,null,null,null,null,null,null,"Dec",1.48,3.53,1.48,2.35]
[null,null,null,null,null,null,null,null,null,null,"Annual",{"$f":"AVERAGE(L37:L48)","v":1.22},{"$f":"MAX(M37:M48)","v":29.33},{"$f":"AVERAGE(N37:N48)","v":1.2075000000000002},{"$f":"MAX(O37:O48)","v":9.49}]
[]
[null,null,null,null,null,null,null,null,null,{"$f":"+A6","v":2022},"mg/Nm3","Monthly 1/2 hourly mean","Monthly 1/2 hourly maximum","Monthly daily mean","Monthly daily maximum"]
[null,null,null,null,null,null,null,null,null,"A4","Jan",0.43,0.77,0.43,0.47]
[null,null,null,null,null,null,null,null,null,null,"Feb",0.51,0.88,0.51,0.88]
[null,null,null,null,null,null,null,null,null,null,"Mar",0.49,1.17,0.48,0.63]
[null,null,null,null,null,null,null,null,null,null,"Apr",0.49,0.77,0.49,0.56000000000000005]
[null,null,null,null,null,null,null,null,null,null,"May",0.42,1.38,0.41,0.54]
[null,null,null,null,null,null,null,null,null,null,"Jun",0.5,1.71,0.5,0.71]
[null,null,null,null,null,null,null,null,null,null,"Jul",1.02,2.23,1.02,1.46]
[null,null,null,null,null,null,null,null,null,null,"Aug",2.2200000000000002,7.61,2.2000000000000002,3.25]
[null,null,null,null,null,null,null,null,null,null,"Sep",2.4300000000000002,19.670000000000002,2.41,6.33]
[null,null,null,null,null,null,null,null,null,null,"Oct",1.29,6.41,1.27,1.52]
[null,null,null,null,null,null,null,null,null,null,"Nov",2.09,4.87,2.09,3.06]
[null,null,null,null,null,null,null,null,null,null,"Dec",1.43,4.72,1.43,2.67]
[null,null,null,null,null,null,null,null,null,null,"Annual",{"$f":"AVERAGE(L52:L63)","v":1.1100000000000001},{"$f":"MAX(M52:M63)","v":19.670000000000002},{"$f":"AVERAGE(N52:N63)","v":1.1033333333333333},{"$f":"MAX(O52:O63)","v":6.33}]

{"sheet":"CO 95% 10 min","index":20,"n_rows":64,"n_cols":19,"rows_kept":64,"cut":false,"hidden":false,"merged":[[3,18,7,20],[9,18,11,20],[12,18,15,20],[66,10,78,10],[4,1,4,4],[4,5,4,7],[4,10,4,16],[6,10,18,10],[21,10,33,10],[36,10,48,10],[47,0,47,7],[48,0,51,7],[51,10,63,10]]}
[{"$f":"+'Cover Page'!$B$29","v":"Annual Performance Report 2022"},null,null,null,{"$f":"+'Cover Page'!$B$33","v":"Runcorn Energy From Waste Facility "}]
[]
["Monitoring of Carbon Monoxide (10-minute avg)",null,null,null,"Whole Installation",null,null,"See  Notes in Cell S3",null,{"$f":"+A3","v":"Monitoring of Carbon Monoxide (10-minute avg)"},null,null,null,null,"Per Combustion Line",null,"Notes:",null,"Notes:"]
[null,null,null,null,null,null,null,null,null,null,null,null,null,null,null,null,null,null,"User to add logic to complete Whole installation, Table A5:H18. From the data in Per Combustion Line, Table K6:Q64, subject to No. of lines installed"]
["mg/Nm3","10-minute Reference Periods",null,null,null,"Daily Reference Periods"]
[{"$f":"+'Cover Page'!C39","v":2022},"95%ile 10-min avg CO ELV","95%ile 10-min avg maximum","Monthly CO 10-min avg mean","10-min avg maximum","Daily CO ELV","Monthly daily mean","Highest daily maximum",null,null,{"$f":"+A6","v":2022},"mg/Nm3","95%ile 10-min avg maximum","Monthly CO 10-min avg mean","10-min avg maximum","Monthly daily mean","Monthly daily maximum"]
["Jan",150,{"$f":"MAX(M7,M22,M37,M52)","v":3},{"$f":"AVERAGE(N7,N22,N37,N52)","v":1},{"$f":"MAX(O7,O22,O37,O52)","v":300},50,{"$f":"AVERAGE(P7,P22,P37,P52)","v":1},{"$f":"MAX(Q7,Q22,Q37,Q52)","v":3.1},null,null,"A1","Jan",2.9,1,247.2,1,3.1]
["Feb",{"$f":"+B7","v":150},{"$f":"MAX(M8,N23,M38,M53)","v":3.7},{"$f":"AVERAGE(N8,N23,N38,N53)","v":1.5},{"$f":"MAX(O8,O23,O38,O53)","v":208},{"$f":"+F7","v":50},{"$f":"AVERAGE(P8,P23,P38,P53)","v":1.5},{"$f":"MAX(Q8,Q23,Q38,Q53)","v":4},null,null,null,"Feb",3.7,1,51.6,1,3.2]
["Mar",{"$f":"+B8","v":150},{"$f":"MAX(M9,M24,M39,M54)","v":5.8},{"$f":"AVERAGE(N9,N24,N39,N54)","v":1.5},{"$f":"MAX(O9,O24,O39,O54)","v":1258},{"$f":"+F8","v":50},{"$f":"AVERAGE(P9,P24,P39,P54)","v":1.5},4.2,null,null,null,"Mar",5.8,2,66.599999999999994,2,4.2,null,"Whole Installation table A5:H18:"]
["Apr",150,{"$f":"MAX(M10,M25,M40,M55)","v":136.2151795},{"$f":"AVERAGE(N10,N25,N40,N55)","v":2.7190528925959003},{"$f":"MAX(O10,O25,O40,O55)","v":1258.3630370000001},50,{"$f":"AVERAGE(P10,P25,P40,P55)","v":2.2425000000000002},{"$f":"MAX(Q10,Q25,Q40,Q55)","v":10.35},null,null,null,"Apr",11.520621,2.4232492874999996,30.002700999999998,2.42,4,null,"Mean: for 10-min and daily periods use average of all operational combustion lines."]
["May",150,95.118369999999999,3.3174423424521531,311.58346599999999,50,2.7675000000000001,23.25,null,null,null,"May",20.344869500000001,1.5525264420578073,311.58346599999999,1.42,5.35]
["Jun",150,259.2659835,1.2852753363767782,1719.6022949999999,50,2.0725000000000002,7.04,null,null,null,"Jun",259.2659835,1.1562503705341558,1719.6022949999999,4.75,6.34]
["Jul",150,{"$f":"MAX(M13,M28,M43,M58)","v":144.82094549999999},{"$f":"AVERAGE(N13,N28,N43,N58)","v":1.976492028196871},{"$f":"MAX(O13,O28,O43,O58)","v":2814.3178710000002},50,{"$f":"AVERAGE(P13,P28,P43,P58)","v":1.5050000000000001},{"$f":"MAX(Q13,Q28,Q43,Q58)","v":12.41},null,null,null,"Jul",23.3431885,2.4491632802083325,177.01603700000001,2.4500000000000002,6.41,null,"Maximum: for 10-min and daily periods use the highest of all operational combustion lines in any month."]
["Aug",150,591.26129149999997,2.1883907000928033,1307.3908690000001,50,0.92999999999999994,3.57,null,null,null,"Aug",8.4577360000000006,1.3290300089285716,35.073875000000001,1.33,3.57]
["Sep",150,190.68481449999999,1.4209464018518521,382.66601600000001,50,0.85000000000000009,3.24,null,null,null,"Sep",9.2313500000000008,1.1233178131944443,83.266784999999999,1.1200000000000001,2.2400000000000002]
["Oct",150,{"$f":"MAX(M16,M31,M46,M61)","v":143.77000000000001},{"$f":"AVERAGE(N16,N31,N46,N61)","v":1.155},{"$f":"MAX(O16,O31,O46,O61)","v":329.15},50,{"$f":"AVERAGE(P16,P31,P46,P61)","v":0.95000000000000007},{"$f":"MAX(Q16,Q31,Q46,Q61)","v":14.92},null,null,null,"Oct",5.59,0.65,34.39,0.65,1.22]
["Nov",150,{"$f":"MAX(M17,N32,M47,M62)","v":9.15},{"$f":"AVERAGE(N17,N32,N47,N62)","v":1.2275},{"$f":"MAX(O17,O32,O47,O62)","v":1488.26},50,{"$f":"AVERAGE(P17,P32,P47,P62)","v":1.2275},{"$f":"MAX(Q17,Q32,Q47,Q62)","v":12.54},null,null,null,"Nov",9.15,0.93,34.090000000000003,0.93,2.85]
["Dec",150,{"$f":"MAX(M18,M33,M48,M63)","v":5.72},{"$f":"AVERAGE(N18,N33,N48,N63)","v":1.7225000000000001},{"$f":"MAX(O18,O33,O48,O63)","v":341.8},50,{"$f":"AVERAGE(P18,P33,P48,P63)","v":1.2675000000000001},3.41,null,null,null,"Dec",4.2699999999999996,0.16,145.22,0.12,0.66]
[null,null,null,null,null,null,null,null,null,null,null,"Annual",{"$f":"AVERAGE(M7:M18)","v":30.297812374999996},{"$f":"AVERAGE(N7:N9)","v":1.3333333333333333},{"$f":"MAX(O7:O18)","v":1719.6022949999999},{"$f":"AVERAGE(P7:P18)","v":1.5991666666666664},{"$f":"MAX(Q7:Q18)","v":6.41}]
[]
[null,null,null,null,null,null,null,null,null,null,{"$f":"+A6","v":2022},"mg/Nm3","95%ile 10-min avg maximum","Monthly CO 10-min avg mean","10-min avg maximum","Monthly daily mean","Monthly daily maximum"]
[null,null,null,null,null,null,null,null,null,null,"A2","Jan",3,1,287,1,3]
[null,null,null,null,null,null,null,null,null,null,null,"Feb",4,2,16,2,4]
[null,null,null,null,null,null,null,null,null,null,null,"Mar",2,1,1258,1,2]
[null,null,null,null,null,null,null,null,null,null,null,"Apr",10.509779999999999,1.3785684085078362,1258.3630370000001,1.25,7.46]
[null,null,null,null,null,null,null,null,null,null,null,"May",6.8936060000000001,0.95155274553571478,21.704834000000002,0.95,2.33]
[null,null,null,null,null,null,null,null,null,null,null,"Jun",18.696340500000002,1.1562503705341558,176.13265999999999,1,3.5]
[null,null,null,null,null,null,null,null,null,null,null,"Jul",144.82094549999999,4.3321379557870374,2814.3178710000002,2.4500000000000002,12.41]
[null,null,null,null,null,null,null,null,null,null,null,"Aug",11.516356999999999,1.0121248893369177,51.540512,1,3.17]
[null,null,null,null,null,null,null,null,null,null,null,"Sep",4.8458724999999996,0.75216455254629611,44.969971000000001,0.75,1.85]
[null,null,null,null,null,null,null,null,null,null,null,"Oct",6.61,0.51,60.13,0.51,1.67]
[null,null,null,null,null,null,null,null,null,null,null,"Nov",7.04,1.88,1488.26,1.88,12.54]
[null,null,null,null,null,null,null,null,null,null,null,"Dec",5.72,2.44,null,2.44,3.41]
[null,null,null,null,null,null,null,null,null,null,null,"Annual",{"$f":"AVERAGE(M22:M33)","v":18.804408458333334},{"$f":"AVERAGE(N22:N25)","v":1.344642102126959},{"$f":"MAX(O22:O33)","v":2814.3178710000002},{"$f":"AVERAGE(P22:P33)","v":1.3525},{"$f":"MAX(Q22:Q33)","v":12.54}]
[]
[null,null,null,null,null,null,null,null,null,null,{"$f":"+A6","v":2022},"mg/Nm3","95%ile 10-min avg maximum","Monthly CO 10-min avg mean","10-min avg maximum","Monthly daily mean","Monthly daily maximum"]
[null,null,null,null,null,null,null,null,null,null,"A3","Jan",3,1,300,1,3]
[null,null,null,null,null,null,null,null,null,null,null,"Feb",3,1,59,1,2]
[null,null,null,null,null,null,null,null,null,null,null,"Mar",2,1,99,1,2]
[null,null,null,null,null,null,null,null,null,null,null,"Apr",136.2151795,5.0003902053193938,361.919556,3.47,10.35]
[null,null,null,null,null,null,null,null,null,null,null,"May",95.118369999999999,3.6480872923609482,137.954544,2.44,12.49]
[null,null,null,null,null,null,null,null,null,null,null,"Jun",7.0521039999999999,0.58464681931313911,40.116688000000003,0.48,0.87]
[null,null,null,null,null,null,null,null,null,null,null,"Jul",5.2030880000000002,0.29454358602150549,56.793308000000003,0.28999999999999998,1.08]
[null,null,null,null,null,null,null,null,null,null,null,"Aug",27.838288500000001,0.6094736211917563,218.22186300000001,0.47,1.44]
[null,null,null,null,null,null,null,null,null,null,null,"Sep",3.044054,0.44145293055555568,44.969971000000001,0.44,0.97]
[null,null,null,null,null,null,null,null,null,null,null,"Oct",4.78,0.6,24.6,0.6,1.5]
[null,null,null,null,null,null,null,null,null,null,null,"Nov",3.6,0.68,13.96,0.68,1.1100000000000001]
["Comments :",null,null,null,null,null,null,null,null,null,null,"Dec",4.08,1.07,145.11000000000001,1.07,2.16]
["Environment Agency explanatory note: The 10-minute average ELV is based on the “95th percentile”. In this case this means that 95% of the 10 minute averages in the relevant 24-hour period (i.e. 137) must be below 150 mg/Nm3, and 5% (i.e. 7) are allowed to be any value above 150 mg/Nm3. Whilst we expect operators to minimise CO emissions at all times, it is perfectly acceptable for the value of the maximum 10-minute average to be above 150 mg/Nm3, provided the 95th percentile ELV has been met for that period. ",null,null,null,null,null,null,null,null,null,null,"Annual",{"$f":"AVERAGE(M37:M48)","v":24.577590333333333},{"$f":"AVERAGE(N37:N39)","v":1},{"$f":"MAX(O37:O48)","v":361.919556},{"$f":"AVERAGE(P37:P48)","v":1.0783333333333334},{"$f":"MAX(Q37:Q48)","v":12.49}]
[]
[null,null,null,null,null,null,null,null,null,null,{"$f":"+A6","v":2022},"mg/Nm3","95%ile 10-min avg maximum","Monthly CO 10-min avg mean","10-min avg maximum","Monthly daily mean","Monthly daily maximum"]
[null,null,null,null,null,null,null,null,null,null,"A4","Jan",3,1,62,1,2]
[null,null,null,null,null,null,null,null,null,null,null,"Feb",3,2,208,2,3]
[null,null,null,null,null,null,null,null,null,null,null,"Mar",4,2,250,2,3]
[null,null,null,null,null,null,null,null,null,null,null,"Apr",34.978897000000003,2.0740036690563728,36.912224000000002,1.83,3.24]
[null,null,null,null,null,null,null,null,null,null,null,"May",66.481159000000005,7.1176028898541421,160.760391,6.26,23.25]
[null,null,null,null,null,null,null,null,null,null,null,"Jun",24.924208499999999,2.2439537851256617,200.24917600000001,2.06,7.04]
[null,null,null,null,null,null,null,null,null,null,null,"Jul",5.4936014999999996,0.83012329077060931,112.566109,0.83,1.44]
[null,null,null,null,null,null,null,null,null,null,null,"Aug",591.26129149999997,5.802934280913969,1307.3908690000001,0.92,1.78]
[null,null,null,null,null,null,null,null,null,null,null,"Sep",190.68481449999999,3.3668503111111119,382.66601600000001,1.0900000000000001,3.24]
[null,null,null,null,null,null,null,null,null,null,null,"Oct",143.77000000000001,2.86,329.15,2.04,14.92]
[null,null,null,null,null,null,null,null,null,null,null,"Nov",4.71,1.42,27.29,1.42,2.21]
[null,null,null,null,null,null,null,null,null,null,null,"Dec",5.46,3.22,341.8,1.44,2.2799999999999998]
[null,null,null,null,null,null,null,null,null,null,null,"Annual",{"$f":"AVERAGE(M52:M63)","v":89.81366433333335},{"$f":"AVERAGE(N52:N54)","v":1.6666666666666667},{"$f":"MAX(O52:O63)","v":1307.3908690000001},{"$f":"AVERAGE(P52:P63)","v":1.9075000000000004},{"$f":"MAX(Q52:Q63)","v":23.25}]

{"sheet":"IBA","index":21,"n_rows":21,"n_cols":9,"rows_kept":21,"cut":false,"hidden":false,"merged":[]}
["Parameter ","Q1-P1","Q1-P2","Q2-P1","Q2-P2","Q3-P1","Q3-P2","Q4-P1","Q4-P2"]
["Antimony ",129.02000000000001,154.4,125,213,228.5,285.5,308.10000000000002,409.6]
["Cadmium ",13.57,14.93,18,12,23.5,25.9,26.7,35.299999999999997]
["Thallium ",1.76,2.0699999999999998,0.9,1,1.23,1.34,1.63,1.1200000000000001]
["Mercury ",1.05,1,1,1,1.05,1.01,1.02,1.28]
["Lead ",531.27,681.33,632,395,507.7,572.1,629.9,667]
["Chromium ",109.68,113.31,56,69,152.19999999999999,157.19999999999999,180.3,177]
["Copper ",2890.5,3431.53,2060,1988,2342.1999999999998,2722.2,1903.6,2234.1]
["Arsenic ",8.84,9.18,8.3000000000000007,8.9,15.85,16.559999999999999,21.7,27.3]
["Cobalt ",51.63,77.260000000000005,46,36,63.1,82.3,67.599999999999994,85.1]
["Vanadium ",41.02,42.11,18,19,27.7,25.8,54.1,1677.52]
["Zinc ",3375.67,3897.71,3012,2813,2718.9,4498.8,4506.5,5177.6000000000004]
["Manganese ",703.25,746.6,426,428,833.5,890.7,986.7,1082.3]
["Nickel ",110.23,203.12,71,72,136.30000000000001,147.9,145.80000000000001,146.9]
["Dioxins/furans ITEQ","2.38-3.1 ","3.93-4.44",15.6,6.89,11.2,9.5,"10.0-10.3",19]
["Dioxins/furans TEQ (WHO)-Mammals","1.96-2.85","3.63-4.14",14.6,6.82,10.5,9.39,"11.0-11.2",17.8]
["Dioxins/furans TEQ (WHO) Fish","2.21-3.16","3.62-4.32",15.9,7.52,11.7,10.199999999999999,10.8,17.8]
["Dioxins/furans TEQ (WHO) Birds","3.14-4.71","6.24-6.73",26.8,11.4,18.2,15.3,16.7,27.2]
["Dioxins like PCBs (WHO)-Mammals","0.0005-0.194","0.54-0.54",0.33700000000000002,0.27100000000000002,0.52400000000000002,0.35199999999999998,1.18,1.46]
["Dioxins like PCBs (WHO)-Fish","0.0002-0.0098","0.0246-0.0246",1.6799999999999999E-2,1.2999999999999999E-2,2.3400000000000001E-2,1.66E-2,5.0900000000000001E-2,6.4000000000000001E-2]
["Dioxins like PCBs (WHO)-Birds","0.0844-0.289","0.683-0.684",1.1000000000000001,0.81,1.1499999999999999,0.70799999999999996,1.62,2.35]

{"sheet":"APC","index":22,"n_rows":21,"n_cols":9,"rows_kept":21,"cut":false,"hidden":false,"merged":[]}
["Parameter ","Q1-P1","Q1-P2","Q2-P1","Q2-P2","Q3 - P1 ","Q3-P2 ","Q4 - P1","Q4-P2"]
["Antimony ",435,608,707.58,816.17,791.7,703.5,936.4,826.7]
["Cadmium ",121,170,244.97,250.26,191.8,218.9,220.1,227.5]
["Thallium ","<1",11,1.1499999999999999,1,1.43,1,1.38,1.85]
["Mercury ",3.4,3.6,4.4800000000000004,4.7,4.0999999999999996,3.6,5.13,6.49]
["Lead ",1094,1415,1401.1,1334.83,1371.3,1369.6,1365.5,1416.9]
["Chromium ",33,56,41.31,43.08,35.5,46.4,37.6,23.1]
["Cobalt",4.7,11,3.77,4.12,3.82,6.44,5.4,36.08]
["Copper ",356,528,458.39,486.37,465.5,476.7,488.1,539.70000000000005]
["Manganese ",196,297,157.24,157.30000000000001,176.3,160.30000000000001,178.3,206.9]
["Nickel ",12,29,18.510000000000002,20.55,17.600000000000001,24.6,15.7,23.8]
["Arsenic ",17,28,41.9,40.270000000000003,26.2,34.799999999999997,17.600000000000001,40.9]
["Vanadium ",10,21,10.78,11.26,4.8,1,9.6999999999999993,11.3]
["Zinc ",7449,9785,9544.67,10533,7851,8890,10586.5,10605]
["Dioxins/furans ITEQ (ng/kg)","151-151","270-270",211.33,235.33,214,247,140,140]
["Dioxins/furans TEQ (WHO)-Mammals","138-138","240-240",194.33,216,203,227,130,254]
["Dioxins/furans TEQ (WHO) Fish","158-158","281-281",218.67,248.33,234,267,151,288]
["Dioxins/furans TEQ (WHO) Birds","325-325","632-632",410.33,456.33,431,440,277,534]
["Dioxins like PCBs (WHO)-Mammals","3.7-3.7","2.47-2.47",8.77,7.1,1.32,5.95,2.7,10.7]
["Dioxins like PCBs (WHO)-Fish","0.161-0.161","0.113-0.113",0.38800000000000001,0.315,6.0100000000000001E-2,0.24,0.13,0.46]
["Dioxins like PCBs (WHO)-Birds","5.54-5.54","4.22-4.22",12.86,10.93,2.73,8.65,4.5999999999999996,15.3]

{"sheet":"Invalid Readings Log","index":23,"n_rows":21,"n_cols":7,"rows_kept":21,"cut":false,"hidden":false,"merged":[[14,1,14,3],[14,6,14,8],[15,1,15,3],[18,6,18,8],[18,1,18,3],[15,6,15,8],[19,1,19,3],[19,6,19,8],[16,1,16,3],[16,6,16,8],[17,1,17,3],[17,6,17,8],[22,1,22,3],[20,1,20,3],[20,6,20,8],[21,1,21,3],[21,6,21,8],[10,1,10,3],[10,6,10,8],[11,1,11,3],[11,6,11,8],[9,1,9,3],[9,6,9,8],[2,1,2,3],[2,6,2,8],[3,6,3,8],[3,1,3,3],[8,1,8,3],[4,6,4,8],[6,1,6,3],[5,1,5,3],[7,1,7,3],[8,6,8,8],[4,1,4,3],[5,6,5,8],[7,6,7,8],[6,6,6,8]]}
[]
["Line 1 - A1",null,null,null,null,"Line 2 - A2"]
["Date Range","Comments",null,null,null,"Date Range","Comments"]
["25-26th January","Ash extractor works",null,null,null,"31st January","Ash extractor bearing replacement"]
["27th-28th February","Compensator repiar",null,null,null,"22nd-30th June","Compromised isolation"]
["1st-2nd March","Compensator replacement",null,null,null,"1st - 10th July","Compromised isolation"]
["12th-15th May","S/Htr tube failure"]
["24th-28th May ","Ash blockage and extractor issues"]
["6th-30th June","Suspected tube leak/ Economiser warm up valve"]
["1st - 8th July","Issue with Eco warm up valve"]
["25th August","Feed table issues"]
[]
[]
["Line 3 - A3",null,null,null,null,"Line 4 - A4"]
["Date Range","Comments",null,null,null,"Date Range","Comments"]
["20th-24th January","Tube repair",null,null,null,"7th January","Hydraulic repair"]
["6th-9th February","Tube repair",null,null,null,"9th-12th March","Tube repair"]
["4th March","Boiler cleaning",null,null,null,"20th April-11th May","Outage"]
["8th April-27th April ","Outage",null,null,null,"11th - 14th October 2023","Superheater leak repair (77hrs downtime)"]
["7th-17th May","Economiser leak"]
["29th - 30th Sept","Boiler tube leak"]