{"text_format":"1","workbook":"xlsx","n_sheets":22,"sheets":["Cover Page","Contents","Facility Info","Operational Summary","Operational Data","Perf. Form 1","Energy Form 1","Permit Compliance","Improvements","Form R1 (Residues)","Residue Quality Form 1 ","Water","Air (periodic)","Air (CEMS)","HCl","HF","SO2","NOx","TOC","Particulates","CO ","NH3"],"not_rendered":{"charts":8,"images":0,"macros":1,"external_links":1,"defined_names":21,"comments":0,"pivot_tables":0},"unopened":[],"bounds":{"document_bytes":16777216,"sheet_cells":100000,"rows_first":2000,"rows_last":500,"rows_between":2000,"halvings":0,"cell_chars":16384,"cell_head_chars":4096},"cells_cut":0,"cells_raw":0,"read":"whole","date_system":"1900"}

{"sheet":"Cover Page","index":0,"n_rows":36,"n_cols":14,"rows_kept":36,"cut":false,"hidden":false,"merged":[[13,13,18,15],[10,1,10,8],[12,1,12,8],[14,1,14,8],[31,2,31,3],[31,6,31,8],[35,2,35,3],[16,1,16,8],[23,2,23,8],[25,2,25,4],[27,2,27,4],[29,2,29,3],[29,6,29,8]]}
[]
[null,null,null,null,null,null,null,null,null,null,null,null,null,"Version 2.1 11/11/19"]
[]
[]
[]
[]
[]
[]
[null,null,"BIOMASS UK NO1 LLP"]
[]
[null,"Annual Performance Report 2021"]
[]
[null,"Permit EPR/DP3932RS"]
[]
[null,"Hull Energy Production Facility"]
[]
[null,"Biomass UK No 1 LLP"]
[]
[]
[]
[]
[null,"Year:",2021]
[]
[null,"Address:","King George Dock, The Port of Hull, Marfleet, Hull, HU9 5PS"]
[]
[null,"Tel: ","01179 372 811"]
[]
[null,"Email: ","steve.butler@sol-environment.co.uk"]
[]
[null,"Prepared by:","Steve Butler ",null,null,"Position:","Consultant"]
[]
[null,"Approved by:","Randall Smith",null,null,"Position:","Technical Manager"]
[]
[null,"Version:",1]
[]
[null,"Issue Date:","2022-01-27"]

{"sheet":"Contents","index":1,"n_rows":44,"n_cols":8,"rows_kept":44,"cut":false,"hidden":false,"merged":[[8,1,8,6],[11,1,11,6],[4,10,7,14],[3,1,3,6],[4,1,4,6],[5,1,5,6],[6,1,6,6],[7,1,7,6],[21,1,21,6],[9,1,9,6],[10,1,10,6],[12,1,12,6],[13,1,13,6],[14,1,14,6],[15,1,15,6],[16,1,16,6],[18,1,18,6],[19,1,19,6],[20,1,20,6],[17,1,17,6],[35,1,35,6],[22,1,22,6],[23,1,23,6],[26,1,26,6],[27,1,27,6],[28,1,28,6],[29,1,29,6],[30,1,30,6],[31,1,31,6],[34,1,34,6],[43,0,46,9],[36,1,36,6],[37,1,37,6],[38,1,38,6],[39,1,39,6],[40,1,40,6],[41,1,41,6]]}
[{"$f":"+'Cover Page'!$B$11","v":"Annual Performance Report 2021"},null,null,null,{"$f":"+'Cover Page'!$B$15","v":"Hull Energy Production Facility"}]
[]
["Contents"]
["Section","Subject",null,null,null,null,null,"Page "]
[null,"Facility Information"]
[null,"Operational Summary"]
[null,"Operational Data"]
[null,"Performance Form 1 & WU/RM1"]
[null,"Energy Form 1"]
[null,"Permit Compliance"]
[null,"Improvements"]
[null,"Form R1"]
[null,"Permit EPR/DP3932RS"]
[null,"Emissions to Water"]
[null,"Emissions to Air (periodically monitored)"]
[null,"Emissions to Air (continuously monitored)"]
[null,"Hydrogen Chloride emissions"]
[null,"Hydrogen Fluoride emissions"]
[null,"Sulphur Dioxide emissions"]
[null,"Oxides of Nitrogen emissions"]
[null,"Total Organic Carbon emissions"]
[null,"Particulate Matter emissions"]
[null,"Carbon Monoxide emissions"]
[null,"Ammonia emissions"]
[]
["Version Control"]
["Section","Information",null,null,null,null,null,"Date"]
[]
[]
[]
[]
[]
[]
["Distribution"]
["Copy","Name, Role",null,null,null,null,null,"No."]
[]
[]
[]
[]
[]
[]
[]
[]
["This report is required under the Industrial Emissions Directive’s Article 55(2) requirements on reporting and public information on waste incineration plants and co-incineration plants, which require the operator to produce an annual report on the functioning and monitoring of the plant and make it available to the public. "]

{"sheet":"Facility Info","index":2,"n_rows":22,"n_cols":5,"rows_kept":22,"cut":false,"hidden":false,"merged":[[4,0,17,8],[21,0,53,8],[4,10,13,13],[21,10,30,13]]}
[{"$f":"+'Cover Page'!$B$11","v":"Annual Performance Report 2021"},null,null,null,{"$f":"+'Cover Page'!$B$15","v":"Hull Energy Production Facility"}]
[]
["Plant Description and Design"]
[]
["The Hull Energy Production Facility  is a renewable energy generation facility which has been designed to recover energy from pre-prepared mixed waste wood feedstocks using gasification. The gasification facility is an Advanced Thermal Treatment (ATT) process that will produce a combustible synthesis gas, which is then used to raise steam and generate electricity, through steam cycle turbine generation.\n\nThe Advanced Thermal Treatment (ATT) plant is designed to process shredded mixed waste wood feedstocks to produce heat to raise steam in a conventional tube boiler for utilisation in a steam turbine for the production of renewable electricity with an export capacity up to 10MWe.\n\nThe Installation has been designed to process approximately 86,400 tonnes of pre-processed non-hazardous mixed waste wood per annum. "]
[]
[]
[]
[]
[]
[]
[]
[]
[]
[]
[]
[]
[]
[]
["Summary of Operational Processes and Procedures"]
[]
["The principle components of the process comprise the following:\n\nWaste Acceptance and Reception: All waste wood is delivered directly into the fuel storage building via electrically operated roller shutter doors. When required, the waste is discharged onto the feedstock feed system, which delivers the waste into the gasification building. All waste is accepted in accordance to the sites waste acceptance procedures.\n\nGasification: The feedstock feed system delivers the waste into the fluidised bed gasification system where the waste is combusted to produce a synthetic gas (syngas). The syngas is then combusted to produce a high temperature flue-gas. A steam boiler then recovers the heat from the combustion gases through the conversion into superheated steam.\n\nElectricity Generation: The superheated steam then passes to a Steam Turbine and Generator, which will export 10MWe (net) of renewable electricity onto the Local Distribution Network.\n\nFlue-Gas Cleaning: Flue gas cleaning and pollution control consists of urea injection for De-NOx, lime injection for acid gas neutralisation and activated carbon powder injection for absorption and removal of heavy metals, dioxins, VOCs and other harmful substances. The stream has a baghouse system, which is designed to have the capacity to remove submicron dust particles within anticipated emission limit values (ELV’s) stipulated by Chapter IV of the Industrial Emissions Directive (IED).\n\nThe plant is operated in accordance with its Environmental Management System which is designed to meet the requirements of ISO14001:2004.  "]

{"sheet":"Operational Summary","index":3,"n_rows":5,"n_cols":5,"rows_kept":5,"cut":false,"hidden":false,"merged":[[4,0,26,8],[30,0,51,8],[4,10,13,13],[30,10,39,13]]}
[{"$f":"+'Cover Page'!$B$11","v":"Annual Performance Report 2021"},null,null,null,{"$f":"+'Cover Page'!$B$15","v":"Hull Energy Production Facility"}]
[]
["Summary of Plant Operations and Maintenance during the reporting year"]
[]
["During 2021 the facility has predominantly been shut down to enable a series of engineering modifications to the gasifier to improve operational reliability and performance. \n\nThe plant has processed approximately 10,500 tonnes during 2022 and has typically run at less the 15% capacity. \n\nThe plant is currently yet to complete performance testing which will include the final noise emission, QAL 2 and residence time confirmation tests."]

{"sheet":"Operational Data","index":4,"n_rows":38,"n_cols":8,"rows_kept":38,"cut":false,"hidden":false,"merged":[[3,1,3,2],[7,1,8,1],[11,1,14,1],[16,1,17,1],[20,1,22,1]]}
[{"$f":"+'Cover Page'!$B$11","v":"Annual Performance Report 2021"},null,null,null,{"$f":"+'Cover Page'!$B$15","v":"Hull Energy Production Facility"}]
[]
["Operational Data"]
["Plant Size",86400,null,"tonnes pa",null,"MWth",10,"MWe"]
["No. of combustion lines",1,null,"No. of Turbines:",null,1]
[]
["Total waste received","Unit","Q1","Q2","Q3","Q4","Year Total"]
["Waste wood (biomass) ","Tonnes",null,null,null,null,10485]
["Total waste wood co-incinerated",null,0,null,0,null,10485]
[]
["Energy Usage / Export","Unit","Q1","Q2","Q3","Q4","Year Total","KWh/tonne incinerated"]
["Electrical Energy Generated","KWh",0,null,0,null,9930,{"$f":"G12/G9","v":0.94706723891273248}]
["Electrical Energy Exported",null,0,null,0,null,9326,{"$f":"G13/G9","v":0.88946113495469714}]
["Electrical Energy Used on site",null,0,null,0,null,2579,{"$f":"G14/G9","v":0.24597043395326657}]
["Power Imported",null,0,null,0,null,1975,{"$f":"G15/G9","v":0.18836432999523128}]
["Parasitic Load","%",{"$f":"IF(C12>0,1-C13/(C12+C15),\"-\")","v":"-"},{"$f":"IF(D12>0,1-D13/(D12+D15),\"-\")","v":"-"},"-","-",0.21663166736665262]
["Thermal Energy Produced","KWh",0,null,0,null,0,{"$f":"IF(G17>0,G17*1000/$G$9,\"-\")","v":"-"}]
["Thermal Energy Used on site",null,0,null,0,null,{"$f":"SUM(C18:F18)","v":0},"-"]
[]
["Waste Disposal & Recovery","Unit","Q1","Q2","Q3","Q4","Year Total","kg/tonne of waste co-incinerated"]
["APC Residues - produced","tonnes",0,null,null,null,288,{"$f":"G21/G9","v":2.7467811158798282E-2}]
["Bottom Ash - produced",null,0,0,0,0,108,{"$f":"G22/G9","v":1.0300429184549357E-2}]
["Other solid wastes produced",null,0,0,0,0,{"$f":"SUM(C23:F23)","v":0},{"$f":"G23/G9","v":0}]
[]
["Raw Material Usage","Unit","Q1","Q2","Q3","Q4","Year Total","kg/tonne of waste co-incinerated"]
["Water Consumption","m3",0,null,0,null,4853,{"$f":"G26/G9","v":0.46285169289461137}]
["Urea Consumption","kg",0,0,0,0,39,{"$f":"G27/G9","v":3.7195994277539344E-3}]
["Activated Carbon Consumption","kg",0,0,0,0,0,{"$f":"G28/G9","v":0}]
["Lime Consumption","kg",0,null,0,null,121,{"$f":"G29/G9","v":1.1540295660467334E-2}]
["Fuel oil Consumption","kg",0,null,0,null,876483,{"$f":"G30/G9","v":83.593991416309009}]
[]
["Summary of Hours","Line/Unit","Q1","Q2","Q3","Q4","Year Total"]
["Hours of waste combustion, total",null,0,0,0,null,{"$f":"SUM(C33:F33)","v":0}]
["Hours of turbine operations, total",null,0,0,0,null,0]
["Hours of heat / steam export",null,0,0,0,0,0,"N/A"]
["Abnormal Events","qty.",0,0,0,0,0]
["Abnormal operation","hours",0,0,0,0,0]
["Permit Breaches","qty.",0,0,0,0,0]

{"sheet":"Perf. Form 1","index":5,"n_rows":27,"n_cols":9,"rows_kept":27,"cut":false,"hidden":false,"merged":[[2,0,2,4],[2,6,2,8],[3,1,3,4],[27,0,29,12],[5,0,5,3],[5,4,5,5],[5,7,5,8],[6,5,6,6],[8,0,8,1],[8,2,8,3],[8,4,8,5],[8,6,8,7],[8,8,8,12],[23,0,23,1],[24,0,24,1],[23,2,23,6],[24,2,24,6],[26,0,26,12],[9,0,9,1],[9,2,9,3],[9,4,9,5],[9,6,9,7],[9,8,9,12],[10,0,10,1],[10,2,10,3],[10,4,10,5],[10,6,10,7],[10,8,10,12],[11,0,11,1],[11,2,11,3],[11,4,11,5],[11,6,11,7],[11,8,11,12],[12,0,12,1],[13,2,13,3],[13,4,13,5],[13,6,13,7],[13,8,13,12],[13,0,13,1],[12,2,12,3],[12,4,12,5],[12,6,12,7],[12,8,12,12],[15,0,15,12],[16,0,18,12],[20,5,20,6],[22,0,22,1],[22,2,22,6]]}
[{"$f":"+'Cover Page'!C22","v":2021}," Annual Reporting Performance Form 1"]
[]
[{"$f":"+'Cover Page'!B13","v":"Permit EPR/DP3932RS"},null,null,null,null,"Operator: ",{"$f":"'Cover Page'!B17","v":"Biomass UK No 1 LLP"}]
["Facility:",{"$f":"+'Cover Page'!B15:I15","v":"Hull Energy Production Facility"},null,null,null,"Form:","Performance 1 & WU/RM1"]
[]
[]
["Reporting of Water and Other Raw Material Usage for the Period from: ",null,null,null,null,"2021-01-01",null,"to:","2021-12-31"]
[]
["Raw Material",null,"Usage",null,"Units",null,"Specific Usage",null,"Units"]
["Urea consumption",null,{"$f":"('Operational Data'!G27)/1000","v":3.9E-2},null,"tonnes",null,{"$f":"'Operational Data'!H27","v":3.7195994277539344E-3},null,"kg/tonne of waste co-incinerated "]
["Activated Carbon consumption",null,{"$f":"'Operational Data'!G28/1000","v":0},null,"tonnes",null,{"$f":"'Operational Data'!G28","v":0},null,"kg/tonne of waste co-incinerated "]
["Lime Consumption",null,{"$f":"'Operational Data'!G29/1000","v":0.121},null,"tonnes",null,{"$f":"'Operational Data'!H29","v":1.1540295660467334E-2},null,"kg/tonne of waste co-incinerated "]
["Mains Water ",null,{"$f":"'Operational Data'!G26","v":4853},null,"m3",null,{"$f":"'Operational Data'!H26","v":0.46285169289461137},null,"m3/tonne of waste co-incinerated "]
["Total Water usage",null,{"$f":"C13","v":4853},null,"m3",null,{"$f":"G13","v":0.46285169289461137},null,"m3/tonne of waste co-incinerated "]
[]
["Operator’s comments :"]
[]
[]
[]
[]
["Reporting of other performance indicators for the period: ",null,null,null,null,"2021-01-01",null,"to:","2021-12-31"]
[]
["Parameter",null,"Result"]
["Number of periods of abnormal operation",null,{"$f":"'Operational Data'!G36","v":0}]
["Cumulative hours of abnormal operation for this calendar year",null,{"$f":"'Operational Data'!G37","v":0}]
[]
["Operator’s comments :"]

{"sheet":"Energy Form 1","index":6,"n_rows":27,"n_cols":7,"rows_kept":27,"cut":false,"hidden":false,"merged":[[2,6,2,8],[4,1,4,4],[6,3,6,4],[6,6,6,7],[8,0,8,2],[8,3,8,4],[8,6,8,8],[9,0,9,2],[9,3,9,4],[9,6,9,8],[10,0,10,2],[10,3,10,4],[10,6,10,8],[11,0,11,2],[11,3,11,4],[11,6,11,8],[12,0,12,2],[12,3,12,4],[12,6,12,8],[15,0,15,8],[16,0,22,8],[13,0,13,2],[13,3,13,4],[13,6,13,8]]}
[{"$f":"'Cover Page'!C22","v":2021}," Annual Reporting of Energy Usage/Export"]
[]
[{"$f":"'Cover Page'!B13","v":"Permit EPR/DP3932RS"},null,null,null,null,"Operator: ",{"$f":"'Cover Page'!B17","v":"Biomass UK No 1 LLP"}]
[]
["Facility:",{"$f":"'Cover Page'!B15","v":"Hull Energy Production Facility"},null,null,null,"Form:","Energy 1"]
[]
["Reporting  Period from: ",null,null,"2021-01-01",null,"to:","2021-12-31"]
[]
["Energy Source",null,null,"Primary Energy ",null,"Unit","Specific Usage (MWh/unit output)"]
["Electricity Produced",null,null,{"$f":"('Operational Data'!G12)/1000","v":9.93},null,"MWh"]
["Electricity Imported   ",null,null,{"$f":"('Operational Data'!G15)/1000","v":1.9750000000000001},null,"MWh"]
["Electricity Exported",null,null,{"$f":"('Operational Data'!G13)/1000","v":9.3260000000000005},null,"MWh"]
["Auxiliary fuel used",null,null,{"$f":"('Operational Data'!G30)/1000","v":876.48299999999995},null,"tonnes or m3"]
["Steam/hot water produced",null,null,{"$f":"('Operational Data'!G17)/1000","v":0},null,"MWh"]
[]
["Operator’s comments :"]
[]
[]
[]
[]
[]
[]
[]
[]
[]
[]
["Signed: ",null,null,null,null,null,"Date:"]

{"sheet":"Permit Compliance","index":7,"n_rows":34,"n_cols":8,"rows_kept":34,"cut":false,"hidden":false,"merged":[[33,4,33,8],[9,0,9,1],[9,2,9,4],[9,5,9,8],[7,0,7,1],[7,2,7,8],[8,0,8,1],[8,2,8,4],[8,5,8,8],[10,0,10,1],[10,2,10,4],[10,5,10,8],[11,0,11,1],[11,2,11,4],[11,5,11,8],[12,0,12,1],[12,2,12,4],[12,5,12,8],[13,0,13,1],[13,2,13,4],[13,5,13,8],[14,0,14,1],[14,2,14,4],[14,5,14,8],[15,0,15,1],[16,2,16,4],[16,5,16,8],[15,2,15,4],[15,5,15,8],[16,0,16,1],[19,1,19,3],[19,4,19,6],[19,7,19,9],[20,1,20,3],[20,4,20,6],[20,7,20,9],[24,7,24,9],[21,1,21,3],[21,4,21,6],[21,7,21,9],[22,1,22,3],[22,4,22,6],[22,7,22,9],[32,1,32,3],[32,4,32,6],[32,7,32,9],[29,1,29,3],[29,4,29,6],[29,7,29,9],[30,1,30,3],[30,4,30,6],[30,7,30,9],[26,0,26,10],[18,0,18,10],[31,1,31,3],[31,4,31,6],[31,7,31,9],[27,1,27,3],[27,4,27,6],[27,7,27,9],[28,1,28,3],[28,4,28,6],[28,7,28,9],[23,1,23,3],[23,4,23,6],[23,7,23,9],[24,1,24,3],[24,4,24,6]]}
[{"$f":"+'Cover Page'!$B$11","v":"Annual Performance Report 2021"},null,null,null,{"$f":"+'Cover Page'!$B$15","v":"Hull Energy Production Facility"}]
[]
["Summary of Permit Compliance"]
[]
["Compliance with permit limits for continuously monitored pollutants"]
[]
["The plant met its emission limits as shown in the table below:"]
["Substance",null,"Percentage time compliant during operation"]
[null,null,"Half-hourly limit",null,null,"Daily limit"]
["Particulates",null,1,null,null,1]
["Oxides of nitrogen",null,1,null,null,1]
["Sulphur dioxide",null,1,null,null,1]
["Carbon monoxide",null,1,null,null,1]
["Total organic carbon",null,1,null,null,1]
["Hydrogen chloride",null,1,null,null,10]
["Hydrogen fluoride",null,1,null,null,1]
["Ammonia",null,"N/A",null,null,1]
[]
["Summary of any notifications or non-compliances under the permit"]
["Date","Summary of notification or non-compliance ",null,null,"Reason ",null,null,"Measures taken to prevent reoccurrence"]
["Nil","Nil"]
[]
[]
[]
[]
[]
["Summary of any complaints received and actions to taken to resolve them."]
["Date","Summary of complaint ",null,null,"Reason *",null,null,"Measures taken to prevent reoccurrence"]
[null,"Nil",null,null,"Nil"]
[]
[]
[]
[]
[null,null,null,null,"* including whether substantiated by the operator or the EA"]

{"sheet":"Improvements","index":8,"n_rows":39,"n_cols":5,"rows_kept":39,"cut":false,"hidden":false,"merged":[[37,0,37,9],[38,0,47,9],[4,0,4,9],[5,0,13,9],[15,0,15,9],[16,0,24,9],[26,0,26,9],[27,0,35,9]]}
[{"$f":"+'Cover Page'!$B$11","v":"Annual Performance Report 2021"},null,null,null,{"$f":"+'Cover Page'!$B$15","v":"Hull Energy Production Facility"}]
[]
["Summary of Plant Improvements"]
[]
["Summary of any efficiency improvements that have been completed within the year."]
["The installation of an OFGR fan, which improves cooling and reduces high temperatures in the hot gas path. These leads to improved thermal efficiency.\n"]
[]
[]
[]
[]
[]
[]
[]
[]
[]
["Summary of any permit improvement conditions that have been completed within the year and the resulting environmental benefits."]
["The addition of a new Scrubber spray water lance will reduce emissions mainly HCL.\nThe addition of new SNCR nozzle injectors will improve and reduce NOX emissions."]
[]
[]
[]
[]
[]
[]
[]
[]
[]
["Summary of any changes to the plant or operating techniques which required a variation to the permit and a summary of the resulting environmental impact."]
["A variation application was submitted to the EA in Q1 2020 to allow the acceptance, storage and processing of RDF in addition to biomass.  This has changed the facility from a co-incinerator to an incinerator and resulted in a slight change to the emission limit values.  In addition, the monitoring of hydrogen fluoride is now periodic rather than on a continuous basis."]
[]
[]
[]
[]
[]
[]
[]
[]
[]
["Summary of any other improvements made to the plant or planned to be made and a summary of the resulting environmental benefits."]
["Further improvements include adjustments to the weigh belt instrument on the feed system to ensure an accurate measurement of actual feedstock incinerated is calculated. "]

{"sheet":"Form R1 (Residues)","index":9,"n_rows":29,"n_cols":9,"rows_kept":29,"cut":false,"hidden":false,"merged":[[8,0,8,1],[8,2,8,3],[8,4,8,5],[8,6,8,7],[8,8,8,9],[2,0,2,4],[2,6,2,8],[3,1,3,4],[5,3,5,4],[5,6,5,7],[9,0,9,9],[10,0,10,1],[10,2,10,3],[10,4,10,5],[10,6,10,7],[10,8,10,9],[12,0,12,1],[12,2,12,3],[12,4,12,5],[12,6,12,7],[12,8,12,9],[11,0,11,1],[11,2,11,3],[11,4,11,5],[11,6,11,7],[11,8,11,9],[16,0,16,9],[13,0,13,1],[13,2,13,3],[13,4,13,5],[13,6,13,7],[13,8,13,9],[14,0,14,3],[14,4,14,5],[14,6,14,7],[14,8,14,9],[15,0,15,1],[15,2,15,3],[15,4,15,5],[15,6,15,7],[15,8,15,9],[18,0,18,1],[18,2,18,3],[18,4,18,5],[18,6,18,7],[18,8,18,9],[17,0,17,1],[17,2,17,3],[17,4,17,5],[17,6,17,7],[17,8,17,9],[24,0,26,9],[19,0,19,1],[19,2,19,3],[19,4,19,5],[19,6,19,7],[19,8,19,9],[20,0,20,3],[20,4,20,5],[20,6,20,7],[20,8,20,9],[21,0,21,3],[21,4,21,5],[21,6,21,7],[21,8,21,9],[23,0,23,9]]}
[{"$f":"'Cover Page'!C22","v":2021}," Annual Reporting Form R1"]
[]
[{"$f":"'Cover Page'!B13","v":"Permit EPR/DP3932RS"},null,null,null,null,"Operator: ",{"$f":"'Cover Page'!B17","v":"Biomass UK No 1 LLP"}]
["Facility:",{"$f":"'Cover Page'!B15","v":"Hull Energy Production Facility"},null,null,null,"Form:","R1"]
[]
["Reporting  Period from: ",null,null,"2020-01-01",null,"to:","2020-12-31"]
[]
[{"$f":"+A1","v":2021},"Annual Reporting of Waste Disposal and Recovery"]
["Waste Description",null,"Disposal Route(s)",null,"Disposal Tonnes",null,"Recovery Tonnes",null,"% / tonne of waste incinerated"]
["1) Hazardous Wastes"]
["APC Residues",null,"D05 - Landfill",null,288,null,null,null,{"$f":"'Operational Data'!H21","v":2.7467811158798282E-2}]
["IBA which is classified as hazardous waste",null,null,null,null,null,null,null,{"$f":"IF((E12+G12)>0,(E12+G12)/'[1]Operational Data'!$G$18, \"-\")","v":"-"}]
[null,null,null,null,null,null,null,null,{"$f":"IF((E13+G13)>0,(E13+G13)/'[1]Operational Data'!$G$18, \"-\")","v":"-"}]
[null,null,null,null,null,null,null,null,{"$f":"IF((E14+G14)>0,(E14+G14)/'[1]Operational Data'!$G$18, \"-\")","v":"-"}]
["Total Hazardous Waste",null,null,null,{"$f":"SUM(E11:F14)","v":288},null,{"$f":"SUM(G11:H14)","v":0},null,{"$f":"I11","v":2.7467811158798282E-2}]
[]
["2) Non-Hazardous Wastes"]
["IBA",null,null,null,108,null,null,null,{"$f":"E18/'Operational Data'!G9","v":1.0300429184549357E-2}]
["Other non-hazardous wastes"]
[]
["Total Non-Hazardous Waste",null,null,null,{"$f":"SUM(E18:F20)","v":108},null,{"$f":"SUM(G18:H20)","v":0},null,{"$f":"E21/'Operational Data'!G12","v":1.0876132930513595E-2}]
["TOTAL WASTE",null,null,null,{"$f":"+E21+E15","v":396},null,{"$f":"+G21+G15","v":0},null,{"$f":"I15","v":2.7467811158798282E-2}]
[]
["Operator’s comments :"]
[]
[]
[]
[]
["Signed: ",null,null,null,null,null,"Date:"]

{"sheet":"Residue Quality Form 1 ","index":10,"n_rows":38,"n_cols":22,"rows_kept":38,"cut":false,"hidden":false,"merged":[[12,16,12,18],[13,16,13,18],[12,19,12,21],[13,19,13,21],[2,0,2,4],[2,6,2,8],[3,1,3,4],[5,3,5,4],[5,6,5,7],[13,5,14,5],[13,14,14,14],[13,13,14,13],[13,12,14,12],[13,11,14,11],[13,10,14,10],[7,0,7,3],[27,13,28,13],[13,9,14,9],[13,8,14,8],[13,7,14,7],[13,6,14,6],[18,6,18,7],[33,0,34,9],[8,2,8,3],[9,2,9,3],[22,1,22,2],[23,1,23,2],[32,0,32,9],[26,0,28,0],[13,4,14,4],[13,3,14,3],[13,2,14,2],[18,3,18,4],[12,0,14,1],[15,0,15,1],[16,0,16,1]]}
[{"$f":"+'Cover Page'!C22","v":2021}," Annual Reporting Residues Form 1"]
[]
[{"$f":"+'Cover Page'!B13","v":"Permit EPR/DP3932RS"},null,null,null,null,"Operator: ",{"$f":"'Cover Page'!B17","v":"Biomass UK No 1 LLP"}]
["Facility:",{"$f":"+'Cover Page'!B15:I15","v":"Hull Energy Production Facility"},null,null,null,"Form:","Residue 1"]
[]
["Reporting  of Residue Quality Period from: ",null,null,"2021-01-01",null,"to:","2021-12-31"]
[]
["Ash Composition (TOC/LOI)"]
[null,"LOI (%)","% Carbon (TOC) w/w",null,null,null,"* at least one of LOI or TOC to be reported"]
["Bottom Ash"]
[]
["Ash Composition (Metals, Dioxins, etc.)"]
[null,null,"Sb","Cd","Tl","Hg","Pb","Cr","Cu","Mn","Ni","As","Co","V","Zn","Dioxin/furan ","Dioxin / Furan",null,null,"Dioxin-like PCBS"]
[null,null,"mg/kg","mg/kg","mg/kg","mg/kg","mg/kg","mg/kg","mg/kg","mg/kg","mg/kg","mg/kg","mg/kg","mg/kg","mg/kg","I-TEQ ng/kg","WHO-TEQ ng/kg",null,null,"WHO-TEQ ng/kg"]
[null,null,null,null,null,null,null,null,null,null,null,null,null,null,null,null,"Humans/mammals","Birds","Fish","Humans/mammals","Birds","Fish"]
["Bottom Ash (including boiler ash)",null,67,13.5,"<0.1","<0.1",1800,49,1400,2320,250,238,30.3,33.6,6900,864,null,null,null,0.16800000000000001,8.6E-3,0.59899999999999998]
["APC Residues",null,152.69999999999999,14.5,"<0.1",0.9,3374,361.2,1114,1305,42.3,415.8,11.4,18.600000000000001,5348,26600,null,null,null,58,2.7,92.8]
[]
["Reporting  of Ash solubility Period from: ",null,null,"2020-01-01",null,"to:","2020-12-31"]
[]
["Ash solubility - total soluble fractions"]
[null,"Total Soluble Fraction %"]
["Bottom Ash"]
["APC Residues"]
[]
["Ash Solubility (Metals)"]
[null,"Sb","Cd","Tl","Hg","Pb","Cr","Cu","Mn","Ni","As","Co","V","Zn"]
[null,"mg/kg","mg/kg","mg/kg","mg/kg","mg/kg","mg/kg","mg/kg","mg/kg","mg/kg","mg/kg","mg/kg","mg/kg","mg/kg"]
[]
["Bottom Ash (including boiler ash)"]
["APC Residues"]
[]
["Operator’s comments :"]
[]
[]
[]
[]
["Signed: ",null,null,null,null,null,"Date:"]

{"sheet":"Water","index":11,"n_rows":23,"n_cols":10,"rows_kept":23,"cut":false,"hidden":false,"merged":[[5,0,6,9],[7,0,8,9],[9,0,10,9],[12,0,12,9],[13,0,13,1],[13,2,13,9],[21,0,21,9],[22,0,22,2],[22,3,22,5],[14,0,15,1],[14,2,15,9],[16,0,17,1],[16,2,17,9],[18,0,19,1],[18,2,19,9],[23,0,23,2],[23,3,23,5],[24,0,24,2],[24,3,24,5],[25,0,25,2],[25,3,25,5],[29,0,29,2],[29,3,29,5],[26,0,26,2],[26,3,26,5],[27,0,27,2],[27,3,27,5],[28,0,28,2],[28,3,28,5]]}
[{"$f":"+'Cover Page'!$B$11","v":"Annual Performance Report 2021"},null,null,null,{"$f":"+'Cover Page'!$B$15","v":"Hull Energy Production Facility"}]
[]
["Emissions to Water"]
[]
["Summary of monitoring undertaken and compliance"]
["N/A"]
[]
[]
[]
[]
[]
[]
["Commentary on any specific events"]
["Date & Event",null,"Description"]
[]
[]
[]
[]
[]
[]
[]
["Emissions to Water / Sewer"]
["Parameter",null,null,"Monitoring Frequency",null,null,"Limit","Target","Max.","Average"]

{"sheet":"Air (periodic)","index":12,"n_rows":39,"n_cols":17,"rows_kept":39,"cut":false,"hidden":false,"merged":[[5,18,8,21],[9,18,10,21],[5,0,6,9],[11,0,11,1],[11,3,11,4],[9,0,10,1],[9,3,10,4],[9,2,10,2],[9,8,9,10],[9,11,9,13],[9,14,9,16],[8,0,8,16],[39,0,40,9],[18,0,18,1],[19,0,19,1],[20,0,20,1],[12,0,12,1],[13,0,13,1],[14,0,14,1],[38,0,38,9],[15,0,15,1],[16,0,16,1],[17,0,17,1],[21,0,21,1],[21,3,21,4],[20,3,20,4],[15,3,15,4],[16,3,16,4],[22,0,22,1],[23,0,23,1],[17,3,17,4],[14,3,14,4],[18,3,18,4],[24,0,24,1],[25,0,25,1],[26,0,26,1],[27,0,27,1],[28,0,28,1],[29,0,29,1],[37,0,37,1],[22,3,22,4],[23,3,23,4],[24,3,24,4],[25,3,25,4],[26,3,26,4],[27,3,27,4],[28,3,28,4],[30,0,30,1],[31,0,31,1],[32,0,32,1],[33,0,33,1],[34,0,34,1],[35,0,35,1],[36,0,36,1],[34,3,34,4],[35,3,35,4],[36,3,36,4],[37,3,37,4],[9,5,9,7],[29,3,29,4],[30,3,30,4],[31,3,31,4],[32,3,32,4],[33,3,33,4],[19,3,19,4],[12,3,12,4],[13,3,13,4]]}
[{"$f":"+'Cover Page'!$B$11","v":"Annual Performance Report 2021"},null,null,null,{"$f":"+'Cover Page'!$B$15","v":"Hull Energy Production Facility"}]
[]
["Emissions to Air (periodically monitored)"]
[]
["Summary of monitoring undertaken, standards used and compliance"]
[]
[]
[]
["Results of emissions to air that are periodically monitored"]
["Substance",null,"Ref. Period","Emission Limit Value",null,"Q1",null,null,"Q2",null,null,"Q3",null,null,"Q4"]
[null,null,null,null,null,"Result","Date & Time","Uncertainty","Result","Date & Time","Uncertainty","Result","Date & Time","Uncertainty","Result","Date & Time","Uncertainty"]
["Cd and Th and their compounds",null,"30 min, max 8hrs","0.05 mg/m3"]
["Hg and its compounds",null,"30 min, max 8hrs","0.05 mg/m3"]
["Sb, As, Pb, Cr, Co, Cu, Mn, Ni, V and their compounds",null,"30 min, max 8hrs","0.5 mg/m3"]
["Dioxins & Furans (I-TEQ)",null,"6-8hrs","0.1 ng/m3"]
["Dioxins & Furans (WHO-TEQ Humans / Mammals)",null,"6-8hrs","No limit applies"]
["Dioxins & Furans (WHO-TEQ Fish)",null,"6-8hrs","No limit applies"]
["Dioxins & Furans (WHO-TEQ Birds)",null,"6-8hrs","No limit applies"]
["PCBs (WHO-TEQ Humans / Mammals)",null,"6-8hrs","No limit applies"]
["PCBs (WHO-TEQ Fish)",null,"6-8hrs","No limit applies"]
["PCBs (WHO-TEQ Birds)",null,"6-8hrs","No limit applies"]
["Total PAHs",null,"6-8hrs","No limit applies"]
["Anthanthrene",null,"6-8hrs","No limit applies"]
["Benzo[a]anthracene",null,"6-8hrs","No limit applies"]
["Benzo[b]fluoranthene",null,"6-8hrs","No limit applies"]
["Benzo[k]fluoranthene",null,"6-8hrs","No limit applies"]
["Benzo[b]naph[2,1-d]thiopene",null,"6-8hrs","No limit applies"]
["Benzo[c]phenanthrene",null,"6-8hrs","No limit applies"]
["Benzo[ghi]perylene",null,"6-8hrs","No limit applies"]
["Benzo[a]pyrene",null,"6-8hrs","No limit applies"]
["Cholanthrene",null,"6-8hrs","No limit applies"]
["Chrysene",null,"6-8hrs","No limit applies"]
["Cyclopenta[c,d]pyrene",null,"6-8hrs","No limit applies"]
["Dibenzo[ah]anthracene",null,"6-8hrs","No limit applies"]
["Dibenzo[ai]pyrene",null,"6-8hrs","No limit applies"]
["Fluoranthene",null,"6-8hrs","No limit applies"]
["Indeno[1,2,3-cd]pyrene",null,"6-8hrs","No limit applies"]
["Naphthalene",null,"6-8hrs","No limit applies"]
["Comments :"]

{"sheet":"Air (CEMS)","index":13,"n_rows":30,"n_cols":5,"rows_kept":30,"cut":false,"hidden":false,"merged":[[5,0,8,4],[15,0,16,0],[17,0,18,0],[19,0,20,0],[13,0,14,0],[10,0,10,4],[11,0,12,0],[11,2,12,2],[11,1,12,1],[11,3,11,4],[21,0,22,0],[25,0,26,0],[23,0,24,0],[28,0,28,4],[30,0,31,4]]}
[{"$f":"+'Cover Page'!$B$11","v":"Annual Performance Report 2021"},null,null,null,{"$f":"'Cover Page'!B15","v":"Hull Energy Production Facility"}]
[]
["Emissions to Air (continuously monitored)"]
[]
["Summary of monitoring undertaken, standards used and compliance"]
[]
[]
[]
[]
[]
["Results of emissions to air that are continuously monitored"]
["Substance","Reference Period","Emission Limit Value","A1"]
[null,null,null,"Max.","Avg."]
["Oxides of nitrogen","Daily mean","300 mg/m3 ",287,{"$f":"NOx!N19","v":{"$error":"#DIV/0!"}}]
[null,"½ hourly mean","600 mg/m3 ",287,{"$f":"NOx!L19","v":{"$error":"#DIV/0!"}}]
["Particulates","Daily mean","15 mg/m3",2.21,{"$f":"Particulates!N19","v":{"$error":"#DIV/0!"}}]
[null,"½ hourly mean","45 mg/m3 ",2.21,{"$f":"Particulates!L19","v":{"$error":"#DIV/0!"}}]
["Total Organic Carbon ","Daily mean","15 mg/m3 ",0.99,{"$f":"TOC!N19","v":{"$error":"#DIV/0!"}}]
[null,"½ hourly mean","30 mg/m3 ",0.99,{"$f":"TOC!L19","v":{"$error":"#DIV/0!"}}]
["Hydrogen chloride ","Daily mean","15 mg/m3 ",3.69,{"$f":"HCl!N19","v":{"$error":"#DIV/0!"}}]
[null,"½ hourly mean","90 mg/m3 ",3.69,{"$f":"HCl!L19","v":{"$error":"#DIV/0!"}}]
["Hydrogen fluoride","Daily mean","6 mg/m3 ",0.38,{"$f":"HF!N19","v":{"$error":"#DIV/0!"}}]
[null,"½ hourly mean","1.5 mg/m3 ",0.38,{"$f":"HF!L19","v":{"$error":"#DIV/0!"}}]
["Sulphur dioxide","Daily mean","75 mg/m3 ",10.029999999999999,{"$f":"'SO2'!N19","v":{"$error":"#DIV/0!"}}]
[null,"½ hourly mean","300 mg/m3 ",10.029999999999999,{"$f":"'SO2'!L19","v":{"$error":"#DIV/0!"}}]
["Carbon monoxide ","Daily mean","75 mg/m3 ",34.42,{"$f":"'CO '!N19","v":{"$error":"#DIV/0!"}}]
[null,"½ hourly mean","150 mg/m3 ",34.42,{"$f":"'CO '!L19","v":{"$error":"#DIV/0!"}}]
["Ammonia","Daily mean","7.5 mg/m3",0.92,{"$f":"'NH3'!I19","v":{"$error":"#DIV/0!"}}]
["* = delete or amend as appropriate"]
["Comments :"]

{"sheet":"HCl","index":14,"n_rows":48,"n_cols":15,"rows_kept":48,"cut":false,"hidden":false,"merged":[[12,16,15,18],[51,9,63,9],[66,9,78,9],[4,9,4,14],[4,1,4,3],[4,4,4,6],[48,0,51,6],[47,0,47,6],[6,9,18,9],[21,9,33,9],[36,9,48,9],[3,16,7,18],[9,16,11,18]]}
[{"$f":"+'Cover Page'!$B$11","v":"Annual Performance Report 2021"},null,null,null,{"$f":"+'Cover Page'!$B$15","v":"Hull Energy Production Facility"}]
[]
["Monitoring of Hydrogen Chloride emissions",null,null,"Whole Installation",null,null,null,null,null,{"$f":"+A3","v":"Monitoring of Hydrogen Chloride emissions"},null,null,null,"Per Combustion Line"]
[]
["mg/Nm3","1/2 Hourly Reference Periods",null,null,"Daily Reference Periods"]
[{"$f":"+'Cover Page'!C22","v":2021},"1/2 hourly HCl ELV","Monthly 1/2 hourly mean","Highest 1/2 hourly maximum","Daily HCl ELV","Monthly daily mean","Highest daily maximum",null,null,{"$f":"+A6","v":2021},"mg/Nm3","Monthly 1/2 hourly mean","Monthly 1/2 hourly maximum","Monthly daily mean","Monthly daily maximum"]
["Jan",90,{"$f":"L7","v":"-"},{"$f":"M7","v":"-"},15,0.84,{"$f":"O7","v":"-"},null,null,"A1","Jan","-","-","-","-"]
["Feb",90,{"$f":"L8","v":"-"},{"$f":"M8","v":"-"},15,0.48,{"$f":"O8","v":"-"},null,null,null,"Feb","-","-","-","-"]
["Mar",90,"-","-",15,1.29,"-",null,null,null,"Mar","-","-","-","-"]
["Apr",90,"-","-",15,"N/A","-",null,null,null,"Apr","-","-","-","-"]
["May",90,"-","-",15,"N/A","-",null,null,null,"May","-","-","-","-"]
["Jun",90,"-","-",15,2.61,"-",null,null,null,"Jun","-","-","-","-"]
["Jul","Permit EPR/DP3932RS","-","-",15,3.69,"-",null,null,null,"Jul","-","-","-","-"]
["Aug",90,"-","-",15,2.39,"-",null,null,null,"Aug","-","-","-","-"]
["Sep",90,"-","-",15,2.68,"-",null,null,null,"Sep","-","-","-","-"]
["Oct",90,"-","-",15,1.5,"-",null,null,null,"Oct","-","-","-","-"]
["Nov",90,"-","-",15,"N/A","-",null,null,null,"Nov","-","-","-","-"]
["Dec",90,"-","-",15,"N/A","-",null,null,null,"Dec","-","-","-","-"]
[null,null,null,null,null,null,null,null,null,null,"Annual",{"$f":"AVERAGE(L7:L18)","v":{"$error":"#DIV/0!"}},{"$f":"MAX(M7:M18)","v":0},{"$f":"AVERAGE(N7:N18)","v":{"$error":"#DIV/0!"}},{"$f":"MAX(O7:O18)","v":0}]
[]
[]
[]
[]
[]
[]
[]
[]
[]
[]
[]
[]
[]
[]
[]
[]
[]
[]
[]
[]
[]
[]
[]
[]
[]
[]
[]
[]
["Comments :"]

{"sheet":"HF","index":15,"n_rows":48,"n_cols":15,"rows_kept":48,"cut":false,"hidden":false,"merged":[[66,9,78,9],[3,16,7,18],[4,1,4,3],[4,4,4,6],[4,9,4,14],[6,9,18,9],[9,16,11,18],[12,16,15,18],[21,9,33,9],[36,9,48,9],[47,0,47,6],[48,0,51,6],[51,9,63,9]]}
[{"$f":"+'Cover Page'!$B$11","v":"Annual Performance Report 2021"},null,null,null,{"$f":"+'Cover Page'!$B$15","v":"Hull Energy Production Facility"}]
[]
["Monitoring of Hydrogen Fluoride emissions",null,null,"Whole Installation",null,null,null,null,null,{"$f":"+A3","v":"Monitoring of Hydrogen Fluoride emissions"},null,null,null,"Per Combustion Line"]
[]
["mg/Nm3","1/2 Hourly Reference Periods",null,null,"Daily Reference Periods"]
[{"$f":"+'Cover Page'!C22","v":2021},"1/2 hourly HF ELV","Monthly 1/2 hourly mean","Highest 1/2 hourly maximum","Daily HF ELV","Monthly daily mean","Highest daily maximum",null,null,{"$f":"+A6","v":2021},"mg/Nm3","Monthly 1/2 hourly mean","Monthly 1/2 hourly maximum","Monthly daily mean","Monthly daily maximum"]
["Jan",6,{"$f":"L7","v":"-"},{"$f":"M7","v":"-"},1.5,0.15,{"$f":"O7","v":"-"},null,null,"A1","Jan","-","-","-","-"]
["Feb",6,{"$f":"L8","v":"-"},{"$f":"M8","v":"-"},1.5,0.17,{"$f":"O8","v":"-"},null,null,null,"Feb","-","-","-","-"]
["Mar",6,"-","-",1.5,0.28000000000000003,"-",null,null,null,"Mar","-","-","-","-"]
["Apr",6,"-","-",1.5,"N/A","-",null,null,null,"Apr","-","-","-","-"]
["May",6,"-","-",1.5,"N/A","-",null,null,null,"May","-","-","-","-"]
["Jun",6,"-","-",1.5,0.25,"-",null,null,null,"Jun","-","-","-","-"]
["Jul","Permit EPR/DP3932RS","-","-",1.5,0.31,"-",null,null,null,"Jul","-","-","-","-"]
["Aug",6,"-","-",1.5,0.24,"-",null,null,null,"Aug","-","-","-","-"]
["Sep",6,"-","-",1.5,0.17,"-",null,null,null,"Sep","-","-","-","-"]
["Oct",6,"-","-",1.5,0.38,"-",null,null,null,"Oct","-","-","-","-"]
["Nov",6,"-","-",1.5,"N/A","-",null,null,null,"Nov","-","-","-","-"]
["Dec",6,"-","-",1.5,"N/A","-",null,null,null,"Dec","-","-","-","-"]
[null,null,null,null,null,null,null,null,null,null,"Annual",{"$f":"AVERAGE(L7:L18)","v":{"$error":"#DIV/0!"}},{"$f":"MAX(M7:M18)","v":0},{"$f":"AVERAGE(N7:N18)","v":{"$error":"#DIV/0!"}},{"$f":"MAX(O7:O18)","v":0}]
[]
[]
[]
[]
[]
[]
[]
[]
[]
[]
[]
[]
[]
[]
[]
[]
[]
[]
[]
[]
[]
[]
[]
[]
[]
[]
[]
[]
["Comments :"]

{"sheet":"SO2","index":16,"n_rows":48,"n_cols":15,"rows_kept":48,"cut":false,"hidden":false,"merged":[[3,16,7,18],[9,16,11,18],[12,16,15,18],[66,9,78,9],[4,1,4,3],[4,4,4,6],[4,9,4,14],[6,9,18,9],[21,9,33,9],[36,9,48,9],[47,0,47,6],[48,0,51,6],[51,9,63,9]]}
[{"$f":"+'Cover Page'!$B$11","v":"Annual Performance Report 2021"},null,null,null,{"$f":"+'Cover Page'!$B$15","v":"Hull Energy Production Facility"}]
[]
["Monitoring of Sulphur dioxide emissions",null,null,"Whole Installation",null,null,null,null,null,{"$f":"+A3","v":"Monitoring of Sulphur dioxide emissions"},null,null,null,"Per Combustion Line"]
[]
["mg/Nm3","1/2 Hourly Reference Periods",null,null,"Daily Reference Periods"]
[{"$f":"+'Cover Page'!C22","v":2021},"1/2 hourly SO2 ELV","Monthly 1/2 hourly mean","Highest 1/2 hourly maximum","Daily SO2 ELV","Monthly daily mean","Highest daily maximum",null,null,{"$f":"+A6","v":2021},"mg/Nm3","Monthly 1/2 hourly mean","Monthly 1/2 hourly maximum","Monthly daily mean","Monthly daily maximum"]
["Jan",300,{"$f":"L7","v":"-"},{"$f":"M7","v":"-"},75,7.44,{"$f":"O7","v":"-"},null,null,"A1","Jan","-","-","-","-"]
["Feb",300,{"$f":"L8","v":"-"},{"$f":"M8","v":"-"},75,7.38,{"$f":"O8","v":"-"},null,null,null,"Feb","-","-","-","-"]
["Mar",300,"-","-",75,9.0500000000000007,"-",null,null,null,"Mar","-","-","-","-"]
["Apr",300,"-","-",75,"N/A","-",null,null,null,"Apr","-","-","-","-"]
["May",300,"-","-",75,"N/A","-",null,null,null,"May","-","-","-","-"]
["Jun",300,"-","-",75,10.029999999999999,"-",null,null,null,"Jun","-","-","-","-"]
["Jul","Permit EPR/DP3932RS","-","-",75,9.2799999999999994,"-",null,null,null,"Jul","-","-","-","-"]
["Aug",300,"-","-",75,9.6999999999999993,"-",null,null,null,"Aug","-","-","-","-"]
["Sep",300,"-","-",75,9.2200000000000006,"-",null,null,null,"Sep","-","-","-","-"]
["Oct",300,"-","-",75,9.39,"-",null,null,null,"Oct","-","-","-","-"]
["Nov",300,"-","-",75,"N/A","-",null,null,null,"Nov","-","-","-","-"]
["Dec",300,"-","-",75,"N/A","-",null,null,null,"Dec","-","-","-","-"]
[null,null,null,null,null,null,null,null,null,null,"Annual",{"$f":"AVERAGE(L7:L18)","v":{"$error":"#DIV/0!"}},{"$f":"MAX(M7:M18)","v":0},{"$f":"AVERAGE(N7:N18)","v":{"$error":"#DIV/0!"}},{"$f":"MAX(O7:O18)","v":0}]
[]
[]
[]
[]
[]
[]
[]
[]
[]
[]
[]
[]
[]
[]
[]
[]
[]
[]
[]
[]
[]
[]
[]
[]
[]
[]
[]
[]
["Comments :"]

{"sheet":"NOx","index":17,"n_rows":48,"n_cols":15,"rows_kept":48,"cut":false,"hidden":false,"merged":[[3,16,7,18],[9,16,11,18],[12,16,15,18],[66,9,78,9],[4,1,4,3],[4,4,4,6],[4,9,4,14],[6,9,18,9],[21,9,33,9],[36,9,48,9],[47,0,47,6],[48,0,51,6],[51,9,63,9]]}
[{"$f":"+'Cover Page'!$B$11","v":"Annual Performance Report 2021"},null,null,null,{"$f":"+'Cover Page'!$B$15","v":"Hull Energy Production Facility"}]
[]
["Monitoring of Oxides of Nitrogen emissions",null,null,"Whole Installation",null,null,null,null,null,{"$f":"+A3","v":"Monitoring of Oxides of Nitrogen emissions"},null,null,null,"Per Combustion Line"]
[]
["mg/Nm3","1/2 Hourly Reference Periods",null,null,"Daily Reference Periods"]
[{"$f":"+'Cover Page'!C22","v":2021},"1/2 hourly NOx ELV","Monthly 1/2 hourly mean","Highest 1/2 hourly maximum","Daily NOx ELV","Monthly daily mean","Highest daily maximum",null,null,{"$f":"+A6","v":2021},"mg/Nm3","Monthly 1/2 hourly mean","Monthly 1/2 hourly maximum","Monthly daily mean","Monthly daily maximum"]
["Jan",600,{"$f":"L7","v":"-"},{"$f":"M7","v":"-"},300,150.37,null,null,null,"A1","Jan","-","-","-","-"]
["Feb",600,{"$f":"L8","v":"-"},{"$f":"M8","v":"-"},300,161.13,null,null,null,null,"Feb","-","-","-","-"]
["Mar",600,"-","-",300,216.52,null,null,null,null,"Mar","-","-","-","-"]
["Apr",600,"-","-",300,"N/A",null,null,null,null,"Apr","-","-","-","-"]
["May",600,"-","-",300,"N/A",null,null,null,null,"May","-","-","-","-"]
["Jun",600,"-","-",300,205.57,null,null,null,null,"Jun","-","-","-","-"]
["Jul","Permit EPR/DP3932RS","-","-",300,287.89,null,null,null,null,"Jul","-","-","-","-"]
["Aug",600,"-","-",300,199.29,null,null,null,null,"Aug","-","-","-","-"]
["Sep",600,"-","-",300,204.12,null,null,null,null,"Sep","-","-","-","-"]
["Oct",600,"-","-",300,200.45,null,null,null,null,"Oct","-","-","-","-"]
["Nov",600,"-","-",300,"N/A",null,null,null,null,"Nov","-","-","-","-"]
["Dec",600,"-","-",300,"N/A",null,null,null,null,"Dec","-","-","-","-"]
[null,null,null,null,null,null,null,null,null,null,"Annual",{"$f":"AVERAGE(L7:L18)","v":{"$error":"#DIV/0!"}},{"$f":"MAX(M7:M18)","v":0},{"$f":"AVERAGE(N7:N18)","v":{"$error":"#DIV/0!"}},{"$f":"MAX(O7:O18)","v":0}]
[]
[]
[]
[]
[]
[]
[]
[]
[]
[]
[]
[]
[]
[]
[]
[]
[]
[]
[]
[]
[]
[]
[]
[]
[]
[]
[]
[]
["Comments :"]

{"sheet":"TOC","index":18,"n_rows":48,"n_cols":15,"rows_kept":48,"cut":false,"hidden":false,"merged":[[3,16,7,18],[9,16,11,18],[12,16,15,18],[66,9,78,9],[4,1,4,3],[4,4,4,6],[4,9,4,14],[6,9,18,9],[21,9,33,9],[36,9,48,9],[47,0,47,6],[48,0,51,6],[51,9,63,9]]}
[{"$f":"+'Cover Page'!$B$11","v":"Annual Performance Report 2021"},null,null,null,{"$f":"+'Cover Page'!$B$15","v":"Hull Energy Production Facility"}]
[]
["Monitoring of Total organic carbon emissions",null,null,"Whole Installation",null,null,null,null,null,{"$f":"+A3","v":"Monitoring of Total organic carbon emissions"},null,null,null,"Per Combustion Line"]
[]
["mg/Nm3","1/2 Hourly Reference Periods",null,null,"Daily Reference Periods"]
[{"$f":"+'Cover Page'!C22","v":2021},"1/2 hourly TOC ELV","Monthly 1/2 hourly mean","Highest 1/2 hourly maximum","Daily TOC ELV","Monthly daily mean","Highest daily maximum",null,null,{"$f":"+A6","v":2021},"mg/Nm3","Monthly 1/2 hourly mean","Monthly 1/2 hourly maximum","Monthly daily mean","Monthly daily maximum"]
["Jan",30,{"$f":"L7","v":"-"},{"$f":"M7","v":"-"},15,0.05,{"$f":"O7","v":"-"},null,null,"A1","Jan","-","-","-","-"]
["Feb",30,{"$f":"L8","v":"-"},{"$f":"M8","v":"-"},15,-0.01,{"$f":"O8","v":"-"},null,null,null,"Feb","-","-","-","-"]
["Mar",30,"-","-",15,0.5,"-",null,null,null,"Mar","-","-","-","-"]
["Apr",30,"-","-",15,"N/A","-",null,null,null,"Apr","-","-","-","-"]
["May",30,"-","-",15,"N/A","-",null,null,null,"May","-","-","-","-"]
["Jun",30,"-","-",15,-0.99,"-",null,null,null,"Jun","-","-","-","-"]
["Jul","Permit EPR/DP3932RS","-","-",15,-0.27,"-",null,null,null,"Jul","-","-","-","-"]
["Aug",30,"-","-",15,0.8,"-",null,null,null,"Aug","-","-","-","-"]
["Sep",30,"-","-",15,0.78,"-",null,null,null,"Sep","-","-","-","-"]
["Oct",30,"-","-",15,0.72,"-",null,null,null,"Oct","-","-","-","-"]
["Nov",30,"-","-",15,"N/A","-",null,null,null,"Nov","-","-","-","-"]
["Dec",30,"-","-",15,"N/A","-",null,null,null,"Dec","-","-","-","-"]
[null,null,null,null,null,null,null,null,null,null,"Annual",{"$f":"AVERAGE(L7:L18)","v":{"$error":"#DIV/0!"}},{"$f":"MAX(M7:M18)","v":0},{"$f":"AVERAGE(N7:N18)","v":{"$error":"#DIV/0!"}},{"$f":"MAX(O7:O18)","v":0}]
[]
[]
[]
[]
[]
[]
[]
[]
[]
[]
[]
[]
[]
[]
[]
[]
[]
[]
[]
[]
[]
[]
[]
[]
[]
[]
[]
[]
["Comments :"]

{"sheet":"Particulates","index":19,"n_rows":48,"n_cols":15,"rows_kept":48,"cut":false,"hidden":false,"merged":[[3,16,7,18],[9,16,11,18],[12,16,15,18],[66,9,78,9],[4,1,4,3],[4,4,4,6],[4,9,4,14],[6,9,18,9],[21,9,33,9],[36,9,48,9],[47,0,47,6],[48,0,51,6],[51,9,63,9]]}
[{"$f":"+'Cover Page'!$B$11","v":"Annual Performance Report 2021"},null,null,null,{"$f":"+'Cover Page'!$B$15","v":"Hull Energy Production Facility"}]
[]
["Monitoring of Particulate matter emissions",null,null,"Whole Installation",null,null,null,null,null,{"$f":"+A3","v":"Monitoring of Particulate matter emissions"},null,null,null,"Per Combustion Line"]
[]
["mg/Nm3","1/2 Hourly Reference Periods",null,null,"Daily Reference Periods"]
[{"$f":"+'Cover Page'!C22","v":2021},"1/2 hourly PM ELV","Monthly 1/2 hourly mean","Highest 1/2 hourly maximum","Daily PM ELV","Monthly daily mean","Highest daily maximum",null,null,{"$f":"+A6","v":2021},"mg/Nm3","Monthly 1/2 hourly mean","Monthly 1/2 hourly maximum","Monthly daily mean","Monthly daily maximum"]
["Jan",45,{"$f":"L7","v":"-"},{"$f":"M7","v":"-"},15,0.28999999999999998,{"$f":"O7","v":"-"},null,null,"A1","Jan","-","-","-","-"]
["Feb",45,{"$f":"L8","v":"-"},{"$f":"M8","v":"-"},15,2.21,{"$f":"O8","v":"-"},null,null,null,"Feb","-","-","-","-"]
["Mar",45,"-","-",15,0.35,"-",null,null,null,"Mar","-","-","-","-"]
["Apr",45,"-","-",15,"N/A","-",null,null,null,"Apr","-","-","-","-"]
["May",45,"-","-",15,"N/A","-",null,null,null,"May","-","-","-","-"]
["Jun",45,"-","-",15,0.27,"-",null,null,null,"Jun","-","-","-","-"]
["Jul","Permit EPR/DP3932RS","-","-",15,0.32,"-",null,null,null,"Jul","-","-","-","-"]
["Aug",45,"-","-",15,0.34,"-",null,null,null,"Aug","-","-","-","-"]
["Sep",45,"-","-",15,0.34,"-",null,null,null,"Sep","-","-","-","-"]
["Oct",45,"-","-",15,0.32,"-",null,null,null,"Oct","-","-","-","-"]
["Nov",45,"-","-",15,"N/A","-",null,null,null,"Nov","-","-","-","-"]
["Dec",45,"-","-",15,"N/A","-",null,null,null,"Dec","-","-","-","-"]
[null,null,null,null,null,null,null,null,null,null,"Annual",{"$f":"AVERAGE(L7:L18)","v":{"$error":"#DIV/0!"}},{"$f":"MAX(M7:M18)","v":0},{"$f":"AVERAGE(N7:N18)","v":{"$error":"#DIV/0!"}},{"$f":"MAX(O7:O18)","v":0}]
[]
[]
[]
[]
[]
[]
[]
[]
[]
[]
[]
[]
[]
[]
[]
[]
[]
[]
[]
[]
[]
[]
[]
[]
[]
[]
[]
[]
["Comments :"]

{"sheet":"CO ","index":20,"n_rows":48,"n_cols":15,"rows_kept":48,"cut":false,"hidden":false,"merged":[[3,16,7,18],[9,16,11,18],[12,16,15,18],[66,9,78,9],[4,1,4,3],[4,4,4,6],[4,9,4,14],[6,9,18,9],[21,9,33,9],[36,9,48,9],[47,0,47,6],[48,0,51,6],[51,9,63,9]]}
[{"$f":"+'Cover Page'!$B$11","v":"Annual Performance Report 2021"},null,null,null,{"$f":"+'Cover Page'!$B$15","v":"Hull Energy Production Facility"}]
[]
["Monitoring of Carbon Monoxide (half hourly)",null,null,"Whole Installation",null,null,null,null,null,{"$f":"+A3","v":"Monitoring of Carbon Monoxide (half hourly)"},null,null,null,"Per Combustion Line"]
[]
["mg/Nm3","1/2 Hourly Reference Periods",null,null,"Daily Reference Periods"]
[{"$f":"+'Cover Page'!C22","v":2021},"1/2 hourly CO ELV","Monthly 1/2 hourly mean","Highest 1/2 hourly maximum","Daily CO ELV","Monthly daily mean","Highest daily maximum",null,null,{"$f":"+A6","v":2021},"mg/Nm3","Monthly 1/2 hourly mean","Monthly 1/2 hourly maximum","Monthly daily mean","Monthly daily maximum"]
["Jan",150,{"$f":"L7","v":"-"},{"$f":"M7","v":"-"},75,21.32,{"$f":"O7","v":"-"},null,null,"A1","Jan","-","-","-","-"]
["Feb",150,{"$f":"L8","v":"-"},{"$f":"M8","v":"-"},75,21.02,{"$f":"O8","v":"-"},null,null,null,"Feb","-","-","-","-"]
["Mar",150,"-","-",75,22.26,"-",null,null,null,"Mar","-","-","-","-"]
["Apr",150,"-","-",75,"N/A","-",null,null,null,"Apr","-","-","-","-"]
["May",150,"-","-",75,"N/A","-",null,null,null,"May","-","-","-","-"]
["Jun",150,"-","-",75,32.29,"-",null,null,null,"Jun","-","-","-","-"]
["Jul","Permit EPR/DP3932RS","-","-",75,34.42,"-",null,null,null,"Jul","-","-","-","-"]
["Aug",150,"-","-",75,25.5,"-",null,null,null,"Aug","-","-","-","-"]
["Sep",150,"-","-",75,25.18,"-",null,null,null,"Sep","-","-","-","-"]
["Oct",150,"-","-",75,28.37,"-",null,null,null,"Oct","-","-","-","-"]
["Nov",150,"-","-",75,"N/A","-",null,null,null,"Nov","-","-","-","-"]
["Dec",150,"-","-",75,"N/A","-",null,null,null,"Dec","-","-","-","-"]
[null,null,null,null,null,null,null,null,null,null,"Annual",{"$f":"AVERAGE(L7:L18)","v":{"$error":"#DIV/0!"}},{"$f":"MAX(M7:M18)","v":0},{"$f":"AVERAGE(N7:N18)","v":{"$error":"#DIV/0!"}},{"$f":"MAX(O7:O18)","v":0}]
[]
[]
[]
[]
[]
[]
[]
[]
[]
[]
[]
[]
[]
[]
[]
[]
[]
[]
[]
[]
[]
[]
[]
[]
[]
[]
[]
[]
["Comments :"]

{"sheet":"NH3","index":21,"n_rows":48,"n_cols":10,"rows_kept":48,"cut":false,"hidden":false,"merged":[[3,11,7,13],[9,11,11,13],[12,11,15,13],[66,6,78,6],[4,1,4,3],[4,6,4,9],[6,6,18,6],[21,6,33,6],[36,6,48,6],[47,0,47,3],[48,0,51,3],[51,6,63,6]]}
[{"$f":"+'Cover Page'!$B$11","v":"Annual Performance Report 2021"},{"$f":"+'Cover Page'!$B$15","v":"Hull Energy Production Facility"}]
[]
["Monitoring of Ammonia emissions ",null,null,null,null,null,{"$f":"+A3","v":"Monitoring of Ammonia emissions "},null,"Per Combustion Line"]
[]
["mg/Nm3","Daily Reference Periods"]
[{"$f":"+'Cover Page'!C22","v":2021},"Daily NH3 ELV","Monthly daily mean","Highest daily maximum",null,null,{"$f":"+A6","v":2021},"mg/Nm3","Monthly daily mean","Monthly daily maximum"]
["Jan",5,0.17,{"$f":"J7","v":"-"},null,null,"A1","Jan","-","-"]
["Feb",5,0.63,{"$f":"J8","v":"-"},null,null,null,"Feb","-","-"]
["Mar",5,0.18,"-",null,null,null,"Mar","-","-"]
["Apr",5,"N/A","-",null,null,null,"Apr","-","-"]
["May",5,"N/A","-",null,null,null,"May","-","-"]
["Jun",5,0.92,"-",null,null,null,"Jun","-","-"]
["Jul","Permit EPR/DP3932RS",0,"-",null,null,null,"Jul","-","-"]
["Aug",5,0.21,"-",null,null,null,"Aug","-","-"]
["Sep",5,0.51,"-",null,null,null,"Sep","-","-"]
["Oct",5,0.52,"-",null,null,null,"Oct","-","-"]
["Nov",5,"N/A","-",null,null,null,"Nov","-","-"]
["Dec",5,"N/A","-",null,null,null,"Dec","-","-"]
[null,null,null,null,null,null,null,"Annual",{"$f":"AVERAGE(I7:I18)","v":{"$error":"#DIV/0!"}},{"$f":"MAX(J7:J18)","v":0}]
[]
[]
[]
[]
[]
[]
[]
[]
[]
[]
[]
[]
[]
[]
[]
[]
[]
[]
[]
[]
[]
[]
[]
[]
[]
[]
[]
[]
["Comments :"]