Workbook

Sheet Cover Page
D1: Add company logo
N2: Version 24.1a (for incinerators) - 08/11/24
N4: Note that there is another version of this template available for co-incinerators
B8: Add photo
N13: Notes:
N14: This template may require adjustments by individual operators to meet specific reporting requirements as defined in the site Permit(s)
B29: Annual Performance Report 2024
B31: Permit EPR/SP3239FU
B33: Enfinium Ferrybridge 1 Limited
B37: enfinium Ferrybridge 1 Ltd
B39: Year: | C39: 2024
B41: Address: | C41: Kirkhaw Lane, Knottingley, West Yorkshire, WF11 8DX
B43: Tel: | C43: 07385 473628
B45: Email: | C45: lee.leonards@enfinium.co.uk
B47: Prepared by: | C47: Lee Leonards | F47: Position: | G47: Environmental Manager
B49: Approved by: | C49: Steve Tosney | F49: Position: | G49: Plant Manager
B51: Version: | C51: 1
B53: Issue Date: | C53: 45687

Sheet Facility Info
A1: =+'Cover Page'!$B$29 -> Annual Performance Report 2024 | E1: =+'Cover Page'!$B$33 -> Enfinium Ferrybridge 1 Limited
A3: Plant Description and Design | K3: Notes:
A5: Ferrybridge 1 is designed for the disposal of waste with energy recovery in an incineration plant and is permitted under Section 5.1 A(1)(b) the incineration of non-hazardous waste in an incineration plant with a capacity exceeding 3 tonnes per hour. The installation is located on land adjacent to the Ferrybridge Power Station site, close to the A1(M). It lies 1km northwest of the village of Ferrybridge, 2km northwest of Knottingley, 1.9km southeast of Ferry Fryston, and 3km northeast of Pontefract, at grid reference SE 4726 2500. The facility has a throughput limit of 725,000 tonnes per year of waste which can include refuse derived fuel, waste wood and commercial and industrial waste. The facility consists of two combustion lines and generates approximately 80 MWe of electricity, of which approximately 73 MWe is exported. Moving grate technology is used for burning the waste material. The furnace design ensures that a temperature of at least 850 degrees Celsius for a period of at least two seconds is achieved in the combustion chamber. Auxiliary burners firing a low sulphur gas oil are automatically triggered by online process monitoring equipment are used to ensure the temperature does not fall below 850 degrees Celsius. Hot gases from the furnace pass into a boiler. Steam raised in the boiler is passed to a turbine to generate electricity for export to the National Grid. | K5: Include summary of plant design, design capacity, no. of combustion lines, electrical and heat capacity and any other general information that describes the facility, its location and purpose
A20: Summary of Operational Processes and Procedures
A22: "Key processes include waste reception, waste storage, water use, drainage, flue gas and air supply systems, boilers, treatment of exhaust gases, treatment and storage of residues and water recycling, stacks, devices and systems for controlling incineration operations, recording and monitoring conditions. The site has an Environmental Management System accredited to ISO 14001. The site has a Health and Safety management system covering all aspects of health and safety which is accredited to ISO 45001. Maintenance across the facilities is broken down in to reactive (breakdown) maintenance, and planned preventive maintenance. Preventive maintenance is conducted via the philosophy of Risk Based Inspections to ensure the safety of personnel and availability of the plant is cost effectively maintained." | K22: Include summary of key processes and procedures such as (but not limited to); waste reception, control rooms, grate, bed and boiler, energy & heat generation, cooling systems, residue management, emission controls, health and safety systems, maintenance

Sheet Contents
A1: =+'Cover Page'!$B$29 -> Annual Performance Report 2024 | E1: =+'Cover Page'!$B$33 -> Enfinium Ferrybridge 1 Limited
A3: Contents | K3: Notes:
A4: Section | B4: Subject | H4: Page | K4: Section references and Page nos. to be inserted
B5: Facility Information | H5: 2 | K5: Sections and Subjects may require adjustment by individual operators to meet specific reporting requirements as defined in the sites Permit(s)
B6: Operational Data | H6: 4
B7: Operational Summary | H7: 5
B8: Performance Form 1 | H8: 6
B9: Energy Form 1 | H9: 8
B10: Permit Compliance | H10: 9
B11: Improvements | H11: 11
B12: Public Liaison | H12: 12
B13: Carbon dioxide and nitrous oxide emissions | H13: 13
B14: Residue Quality | H14: 14
B15: Emissions to Water | H15: 15
B16: Emissions to Air (periodically monitored) | H16: 16
B17: Emissions to Air (continuously monitored) | H17: 18
... B24: Ammonia emissions | H24: 25
A27: Version Control
A28: Section | B28: Information | H28: Date
A35: Distribution
A36: Copy | B36: Name, Role | H36: No.
A45: This report is required under the Industrial Emissions Directive’s Article 55(2) requirements on reporting and public information on waste incineration plants and co-incineration plants, which require the operator to produce an annual report on the functioning and monitoring of the plant and make it available to the public.

Sheet Operational Data
A1: =+'Cover Page'!$B$29 -> Annual Performance Report 2024 | E1: =+'Cover Page'!$B$33 -> Enfinium Ferrybridge 1 Limited
A3: Operational Data
A4: Plant Size | B4: 725000 | D4: tonnes pa | E4: 80 | F4: MWth | G4: 73 | H4: MWe | J4: Notes:
A5: No. of combustion lines | B5: 2 | D5: No. of Turbines: | F5: 1 | J5: * - RDF to include SRF
J6: ** - Combusted tonnage = tonnes delivered in period + (tonnes in bunker at start of period – tonnes in bunker at end of period), or equivalent calculation depending on plant type
A7: Waste types received | B7: Unit | C7: Q1 | D7: Q2 | E7: Q3 | F7: Q4 | G7: Year Total | H7: %
A8: Household / Local Authority | B8: tonnes | C8: 7668.5 | D8: 14211 | E8: 14683.08 | F8: 14636.42 | G8: =SUM(C8:F8) -> 51199 | H8: =IF(G8>0,G8/$G$18,"-") -> 0.078372303
A9: Commercial & Industrial | G9: =SUM(C9:F9) -> 0 | H9: =IF(G9>0,G9/$G$18,"-") -> - | J9: *** - CHP plants only
A10: Hazardous | G10: =SUM(C10:F10) -> 0 | H10: =IF(G10>0,G10/$G$18,"-") -> - | J10: **** Availability Definition: 'the availability of a line is to be calculated by the number of hours the line reported Continuously Monitored emission levels to the Regulator through the calendar year divided by the total number of hours in that year. The overall plant availability is calculated as the Mean of all lines in the plant. For clarity this includes periods of abnormal operation.' Rationale: The primary function of an Energy from Waste facility is the disposal of waste. It follows therefore that the availability of a plant is determined by the period of time a facility spends undertaking this activity.
A11: Clinical | G11: =SUM(C11:F11) -> 0 | H11: =IF(G11>0,G11/$G$18,"-") -> -
A12: Waste wood (biomass) | G12: =SUM(C12:F12) -> 0 | H12: =IF(G12>0,G12/$G$18,"-") -> -
A13: Refuse Derived Fuel * - H'hold/LA | C13: 163750.24 | D13: 122011.98 | E13: 156974.24 | F13: 159343.8 | G13: =SUM(C13:F13) -> 602080.26 | H13: =IF(G13>0,G13/$G$18,"-") -> 0.9216277
A14: Refuse Derived Fuel * - C&I | G14: =SUM(C14:F14) -> 0 | H14: =IF(G14>0,G14/$G$18,"-") -> -
A15: Other [Please specify] | G15: =SUM(C15:F15) -> 0 | H15: =IF(G15>0,G15/$G$18,"-") -> -
A16: Other [Please specify] | G16: =SUM(C16:F16) -> 0 | H16: =IF(G16>0,G16/$G$18,"-") -> -
A17: Other [Please specify] | G17: =SUM(C17:F17) -> 0 | H17: =IF(G17>0,G17/$G$18,"-") -> -
A18: Total waste received | C18: =SUM(C8:C17) -> 171418.74 | D18: =SUM(D8:D17) -> 136222.98 | E18: =SUM(E8:E17) -> 171657.32 | F18: =SUM(F8:F17) -> 173980.22 | G18: =SUM(C18:F18) -> 653279.26
A19: Rejected Waste | G19: =SUM(C19:F19) -> 0 | H19: =IF(G19>0,G19/$G$18,"-") -> -
A20: Unprocessed waste transferred out | C20: 19.98 | D20: 23.96 | E20: 29 | F20: 9.5 | G20: =SUM(C20:F20) -> 82.44 | H20: =IF(G20>0,G20/$G$18,"-") -> 0.00012619412
A21: Total waste combusted ** | C21: 169754.72 | D21: 138529.94 | E21: 165878.52 | F21: 177177.53 | G21: =SUM(C21:F21) -> 651340.71
J22: Password for protected cells A password has been set to prevent accidental editing of cells with formulae. If you still need to make an edit for some reason then the password = 1234
A23: Energy Usage / Export | B23: Unit | C23: Q1 | D23: Q2 | E23: Q3 | F23: Q4 | G23: Year Total | H23: KWh/te
A24: Power Generated | B24: MWh | C24: 166893.87 | D24: 134042.49 | E24: 169533.32 | F24: 175824.9 | G24: =SUM(C24:F24) -> 646294.58 | H24: =IF(G24>0,G24*1000/$G$21,"-") -> 992.2527
A25: Power Exported | C25: 152368 | D25: 122900 | E25: 153241 | F25: 159176 | G25: =SUM(C25:F25) -> 587685 | H25: =IF(G25>0,G25*1000/$G$21,"-") -> 902.26972
A26: Power Used on site | C26: =C24-C25 -> 14525.87 | D26: =D24-D25 -> 11142.49 | E26: =E24-E25 -> 16292.32 | F26: =F24-F25 -> 16648.9 | G26: =SUM(C26:F26) -> 58609.58 | H26: =IF(G26>0,G26*1000/$G$21,"-") -> 89.982983
A27: Power Imported | C27: 125.34 | D27: 482.9 | E27: 34.9 | F27: 31.85 | G27: =SUM(C27:F27) -> 674.99 | H27: =IF(G27>0,G27*1000/$G$21,"-") -> 1.0363086
A28: Parasitic Load | B28: % | C28: =IF(C24>0,1-C25/(C24+C27),"-") -> 0.087721706 | D28: =IF(D24>0,1-D25/(D24+D27),"-") -> 0.086417813 | E28: =IF(E24>0,1-E25/(E24+E27),"-") -> 0.096287028 | F28: =IF(F24>0,1-F25/(F24+F27),"-") -> 0.094854192 | G28: =IF(G24>0,1-G25/(G24+G27),"-") -> 0.091634248
A29: Thermal Energy Produced *** | B29: MWh | G29: =SUM(C29:F29) -> 0 | H29: =IF(G29>0,G29*1000/$G$21,"-") -> -
A30: Thermal Energy Exported *** | G30: =SUM(C30:F30) -> 0 | H30: =IF(G30>0,G30*1000/$G$21,"-") -> -
A31: R1 value (if applicable) | B31: R1 | G31: 0.848
A33: Waste Disposal & Recovery | B33: Unit | C33: Q1 | D33: Q2 | E33: Q3 | F33: Q4 | G33: Year Total | H33: % inputs
A34: APC Residues - produced | B34: tonnes | C34: 6123.95 | D34: 5039.38 | E34: 6417.24 | F34: 5843.54 | G34: =SUM(C34:F34) -> 23424.11 | H34: =IF(G34>0,G34/$G$21,"-") -> 0.035962914
A35: Waste oil | C35: 1.69 | D35: 0.89 | F35: 1.38 | G35: =SUM(C35:F35) -> 3.96 | H35: =IF(G35>0,G35/$G$21,"-") -> 6.0797674e-06
A36: Oil contaminated solid waste | D36: 4.4 | F36: 7.82 | G36: =SUM(C36:F36) -> 12.22 | H36: =IF(G36>0,G36/$G$21,"-") -> 1.8761302e-05
A37: APCr filter bags | D37: 25.34 | G37: =SUM(C37:F37) -> 25.34 | H37: =IF(G37>0,G37/$G$21,"-") -> 3.890437e-05
A38: Fluorescent tubes | F38: 1 | G38: =SUM(C38:F38) -> 1 | H38: =IF(G38>0,G38/$G$21,"-") -> 1.5352948e-06
A39: Lab chemicals | F39: 0.665 | G39: =SUM(C39:F39) -> 0.665 | H39: =IF(G39>0,G39/$G$21,"-") -> 1.020971e-06
A40: IBA - produced | C40: 31940.46 | D40: 25834.83 | E40: 32735.22 | F40: 31213.6 | G40: =SUM(C40:F40) -> 121724.11 | H40: =IF(G40>0,G40/$G$21,"-") -> 0.18688239
A41: Metals recycling | C41: 1174.92 | D41: 1061.08 | E41: 1114.08 | F41: 1021.12 | G41: =SUM(C41:F41) -> 4371.2 | H41: =IF(G41>0,G41/$G$21,"-") -> 0.0067110806
A42: Dry Mixed Recyclables | C42: 0.84 | D42: 5.08 | E42: 1 | F42: 1.68 | G42: =SUM(C42:F42) -> 8.6 | H42: =IF(G42>0,G42/$G$21,"-") -> 1.3203535e-05
...

Sheet Operational Summary
A1: =+'Cover Page'!$B$29 -> Annual Performance Report 2024 | E1: =+'Cover Page'!$B$33 -> Enfinium Ferrybridge 1 Limited
A3: Summary of Plant Operations and Maintenance during the reporting year | K3: Notes:
A5: Overall, plant operations have been good with very little downtime and issues. Some shutdowns were initiated in order to repair some of the plant equipment, largely the boiler tubes. There have been no issues with emissions limits for the year. Online boiler cleans are carried out roughly every 2 months. A longer than usual outage was planned in March/April 2024 whereby several maintenance projects were undertaken as summarised below: Grate Inspections and Repairs. Removed and replaced 1st/2nd pass dividing wall panels 1st and 2nd Pass Inconel Inspections on Repairs. Replaced filter bags in 11off chambers on Line 2 and 5off chambers on line 1. Full Ash and Residue Systems inspections. Replaced all 4off Ash Extractor Chutes Replaced Line 1 and 2 Feed Hopper Chutes for an upgraded design Completed Statutory PSSR inspections. Full Site Instrumentation calibrations. All site VFD’s Inspected and repairs or replaced where required. Stack and Ducting Inspections and Repairs. | K5: Include summary of key operational and/or maintenance activity undertaken in the year, such as any major component upgrades and/or replacements
A29: Summary of Residue Handling for the reporting year
A31: "Incinerator Bottom Ash (IBA) from Ferrybridge 1 is stored in the Ash Bunker and then outloaded by the ash crane grab to receiving dumper trucks. The IBA is collected and taken to the Blue Phoenix Ferrybridge site, which is adjacent to the north of the Ferrybridge 2 site. Movement of the IBA is carried out by dumper truck via a predominantly internal road network to the Blue Phoenix site where it is processed into Incinerator Bottom Ash Aggregate (IBAA). APCr is collected in silos and then discharged to receiving tanker for off-site disposal. The APCr is transported to Castle Environmental Ltd and occasionally to OCO Technology. Castle Environmental receives APCr at two sites located in Ilkeston (Derbyshire) and Stoke on Trent, whereas OCO Technology has one site located in Leeds. Castle Environmental currently recycles approximately 70% of the APCr whereas OCO Technology recycles 100%." | K31: Include in here a summary of residue handling regimes and destinations
A43: =+'Cover Page'!C39 -> 2024 | B43: Plant shut-downs
A44: Date | B44: Reason for shut-down | K44: Provide a very brief reason for plant shut-down e.g. "Shut-down prior to major outage"; "Emergency shut-down due to boiler tube leak" There is no need to include periods of hot-standby here (e.g. to clear feed chute hopper blockages). For clinical waste incinerators which require regular shut-downs for boiler cleaning, there is no need to record these here.
A45: 45307 | B45: Line 2 shutdown to repair a leak to the grate cooling water
A46: 45374 | B46: Line 1 shutdown for boiler tube leak
A47: 45376 | B47: Line 2 was shut-down for its annual major outage
A48: 45385 | B48: Line 1 shutdown for it's annual major outage
A49: 45412 | B49: Line 2 shutdown to repair a boiler tube leak
A50: 45468 | B50: Line 1 shutdown to repair ID fan motor and an ash extracter RAM
A51: 45518 | B51: Line 1 shut down to carry out repairs to refractory tiles, the ID fan motor and the economiser screw
A52: 45483 | B52: Line 2 emergency shut down due to a bag filter failure
A53: 45558 | B53: Line 2 shut down to repair a boiler tube leak
A54: 45562 | B54: Line 1 shut down to repair a boiler tube leak
A55: 45609 | B55: Line 1 shut down to repair a boiler tube leak
A56: 45637 | B56: Line 2 shut down to repair some refactory tiles
A57: 45643 | B57: Line 1 shut down to repair some refactory tiles
A61: =+'Cover Page'!C39 -> 2024 | B61: Mercury and dioxins monitoring protocol compliance | K61: Use this table to record any exceedances of the threshold values under the mercury and dioxins monitoring protocols and the result of the subsequent 2x retests (see protocols). For mercury, the threshold value is 10 µg/m3 (11% oxygen).For dioxins, the threshold value is the permit ELV. Enter N/A in the first date box if there have been no exceedances of the threshold.
A62: Date | B62: Line | C62: Hg or dioxins | D62: Values | F62: Measures put in place to prevent recurrence
A63: N/A | D63: Exceedance
D64: Retest 1
D65: Retest 2
D66: Exceedance
D67: Retest 3
D68: Retest 4
A69: Note that the monitoring protocols require the operator to demonstrate consistent performance below threshold values such that continuous dioxins sampling or mercury monitoring is not required. The threshold value for dioxins is the same as the permit ELV, whereas the threshold for mercury is half of the ELV. Therefore, an exceedance of the threshold value for mercury does not necessarily mean an exceedance of the permit ELV.
A72: Line 1 Duty | B72: Results of annual surveillance tests (ASTs) for continuous emissions monitors | K72: Use this table to record the results of the annual surveillance tests (ASTs) that are carried out on the continuous emissions monitors (CEMS). Where the CEM passes the AST, enter N/A under all the proceeding cells. Even if a new QAL2 is done as a precautionary measure, an AST must also be completed, and the reasons for any failures investigated. Add additional table(s) if your plant has more than 3 lines.
A73: Date | B73: Monitor | C73: Pass/fail | D73: Root cause of failure | G73: Date of QAL2 | H73: Date new calibration function entered
A74: 01/10/24 | B74: HCl | C74: Pass | D74: N/A | G74: N/A | H74: N/A
A75: 01/10/24 | B75: SO2 | C75: Pass | D75: N/A | G75: N/A | H75: N/A
A76: 01/10/24 | B76: NO | C76: Pass | D76: N/A | G76: N/A | H76: N/A
A77: 01/10/24 | B77: NO2 | C77: Pass | D77: N/A | G77: N/A | H77: N/A
A78: 01/10/24 | B78: TOC | C78: Pass | D78: N/A | G78: N/A | H78: N/A
A79: 01/10/24 | B79: Particulate matter | C79: Pass | D79: N/A | G79: N/A | H79: N/A
A80: 01/10/24 | B80: CO | C80: Pass | D80: N/A | G80: N/A | H80: N/A
A81: 01/10/24 | B81: NH3 | C81: Pass | D81: N/A | G81: N/A | H81: N/A
A82: 01/10/24 | B82: CO2 | C82: Pass | D82: N/A | G82: N/A | H82: N/A
...

Sheet Perf. Form 1
A1: =+'Cover Page'!C39 -> 2024 | B1: Annual Reporting Performance Form 1
A3: =+'Cover Page'!B31 -> Permit EPR/SP3239FU | F3: Operator: | G3: =+'Cover Page'!B37 -> enfinium Ferrybridge 1 Ltd
A4: Facility: | B4: =+'Cover Page'!B33:I33 -> Enfinium Ferrybridge 1 Limited | F4: Form: | G4: Performance 1
A6: Reporting Period from: | D6: 45292 | F6: to: | G6: 45657
A8: =+A1 -> 2024 | B8: Annual Reporting of Waste Disposal and Recovery
A9: Waste Description | C9: Disposal Route(s) | E9: Disposal Tonnes | G9: Recovery Tonnes | I9: % / tonne of waste incinerated
A10: 1) Hazardous Wastes
A11: APC Residues | C11: D9, R5 | E11: 10778.79 | G11: 12645.32 | I11: =IF((E11+G11)>0,(E11+G11)/'Operational Data'!$G$21, "-") -> 0.035962914
A12: Bulk waste oil | C12: R13 | G12: 3.96 | I12: =IF((E12+G12)>0,(E12+G12)/'Operational Data'!$G$21, "-") -> 6.0797674e-06
A13: Oil contaminated solid waste | C13: R13 | G13: 12.22 | I13: =IF((E13+G13)>0,(E13+G13)/'Operational Data'!$G$21, "-") -> 1.8761302e-05
A14: Fluorescent tubes | C14: R13 | G14: 1 | I14: =IF((E14+G14)>0,(E14+G14)/'Operational Data'!$G$21, "-") -> 1.5352948e-06
A15: Lab chemicals | C15: R13 | G15: 0.665 | I15: =IF((E15+G15)>0,(E15+G15)/'Operational Data'!$G$21, "-") -> 1.020971e-06
A16: Total Hazardous Waste | E16: =SUM(E11:F15) -> 10778.79 | G16: =SUM(G11:H15) -> 12663.165 | I16: =IF((E16+G16)>0,(E16+G16)/'Operational Data'!$G$21, "-") -> 0.035990311
A18: 2) Non-Hazardous Wastes
A19: IBA | C19: R5 | G19: 121724.11 | I19: =IF((E19+G19)>0,(E19+G19)/'Operational Data'!$G$21, "-") -> 0.18688239
A20: Ferrous Metal | C20: R4 | G20: 4371.2 | I20: =IF((E20+G20)>0,(E20+G20)/'Operational Data'!$G$21, "-") -> 0.0067110806
A21: Dry Mixed recyclables | C21: R13 | G21: ='Operational Data'!G42 -> 8.6 | I21: =IF((E21+G21)>0,(E21+G21)/'Operational Data'!$G$21, "-") -> 1.3203535e-05
A22: General waste | C22: R13 | G22: ='Operational Data'!G43 -> 28.7 | I22: =IF((E22+G22)>0,(E22+G22)/'Operational Data'!$G$21, "-") -> 4.4062961e-05
A23: Wood | C23: R3 | G23: ='Operational Data'!G44 -> 15.88 | I23: =IF((E23+G23)>0,(E23+G23)/'Operational Data'!$G$21, "-") -> 2.4380481e-05
A24: Rubble | C24: R13 | G24: ='Operational Data'!G45 -> 83.04 | I24: =IF((E24+G24)>0,(E24+G24)/'Operational Data'!$G$21, "-") -> 0.00012749088
A25: Aqueous waste | C25: D08 | E25: ='Operational Data'!G46 -> 885.25 | I25: =IF((E25+G25)>0,(E25+G25)/'Operational Data'!$G$21, "-") -> 0.0013591197
A26: Sewage | C26: D08 | E26: ='Operational Data'!G47 -> 259.28 | I26: =IF((E26+G26)>0,(E26+G26)/'Operational Data'!$G$21, "-") -> 0.00039807123
A27: Electrical components | C27: R13 | G27: ='Operational Data'!G48 -> 3.64 | I27: =IF((E27+G27)>0,(E27+G27)/'Operational Data'!$G$21, "-") -> 5.588473e-06
A28: Total Non-Hazardous Waste | E28: =SUM(E19:F27) -> 1144.53 | G28: =SUM(G19:H27) -> 126235.17 | I28: =IF((E28+G28)>0,(E28+G28)/'Operational Data'!$G$21, "-") -> 0.19556539
A29: TOTAL WASTE | E29: =+E28+E16 -> 11923.32 | G29: =+G28+G16 -> 138898.33 | I29: =IF((E29+G29)>0,(E29+G29)/'Operational Data'!$G$21, "-") -> 0.2315557
A31: Operator’s comments :
A36: =+A1 -> 2024 | B36: Annual Reporting of Water and Other Raw Material Usage
A37: Raw Material | E37: Usage | G37: Unit | H37: Specific Usage | J37: Unit
A38: Mains Water | E38: =+'Operational Data'!G52/1000 -> 92370 | G38: m3 | H38: =IF(E38>0,E38/'Operational Data'!$G$21,"-") -> 0.14181518 | J38: m3/te
A39: Total Water | E39: =(+'Operational Data'!G53+'Operational Data'!G52)/1000 -> 151612.39 | G39: m3 | H39: =IF(E39>0,E39/'Operational Data'!$G$21,"-") -> 0.23276971 | J39: m3/te
A40: Urea / Ammonia | E40: =+'Operational Data'!G54 -> 35102.84 | G40: kg | H40: =IF(E40>0,E40/'Operational Data'!$G$21,"-") -> 0.053893207 | J40: kg/te
A41: Activated Carbon | E41: =+'Operational Data'!G56 -> 171016 | G41: kg | H41: =IF(E41>0,E41/'Operational Data'!$G$21,"-") -> 0.26255997 | J41: kg/te
A42: Lime / hydrated lime / Sodium Bicarb. | E42: =+'Operational Data'!G57 -> 10349704 | G42: kg | H42: =IF(E42>0,E42/'Operational Data'!$G$21,"-") -> 15.889846 | J42: kg/te
A44: Operator’s comments :
A48: =+A36 -> 2024 | B48: Annual Reporting of other performance indicators
A49: Parameter | C49: Results by Line
C50: A1 | D50: A2 | E50: A3 | F50: A4 | G50: A5 | I50: Turbine 1 | J50: Turbine 2
A51: Operating hours for the year, hours | C51: ='Operational Data'!G63 -> 7861 | D51: ='Operational Data'!G64 -> 7979.4 | I51: ='Operational Data'!G66 -> 8399.4
A52: Number of periods of abnormal operation, qty. | C52: 6 | D52: 3
A53: Cumulative hours of abnormal operation for this year, hours | C53: 14 | D53: 7.5
...

Sheet Energy Form 1
A1: =+'Cover Page'!C39 -> 2024 | B1: Annual Reporting of Energy Usage/Export
A3: =+'Cover Page'!B31 -> Permit EPR/SP3239FU | F3: Operator: | G3: =+'Cover Page'!B37 -> enfinium Ferrybridge 1 Ltd
A5: Facility: | B5: =+'Cover Page'!B33:I33 -> Enfinium Ferrybridge 1 Limited | F5: Form: | G5: Energy 1
A7: Reporting Period from: | D7: =+'Perf. Form 1'!D6:E6 -> 45292 | F7: to: | G7: =+'Perf. Form 1'!G6:H6 -> 45657
A9: Energy Source | D9: Energy Usage | F9: Unit | G9: Specific Usage (KWh/tonne incinerated
A10: Electricity Produced | D10: =+'Operational Data'!G24 -> 646294.58 | F10: MWh | G10: =+'Operational Data'!H24 -> 992.2527
A11: Electricity Imported | D11: =+'Operational Data'!G27 -> 674.99 | F11: MWh | G11: =+'Operational Data'!H27 -> 1.0363086
A12: Electricity Exported | D12: =+'Operational Data'!G25 -> 587685 | F12: MWh | G12: =+'Operational Data'!H25 -> 902.26972
A13: Gas Oil | D13: 848.37 | F13: tonnes
A14: Steam/hot water exported | D14: =+'Operational Data'!G30 -> 0 | F14: GWh | G14: =+'Operational Data'!H30 -> -
A18: Operator’s comments :
A19: Review of Combined Heat and Power (CHP) options. It is a permit requirement that the viability of CHP implementation is reviewed at least every four years. Information submitted in the annual report for 2022 provides relevant information and there are no updates for 2024.
A29: Signed: | B29: Lee Leonards | G29: Date: | H29: 45671

Sheet Permit Compliance
A1: =+'Cover Page'!$B$29 -> Annual Performance Report 2024 | E1: =+'Cover Page'!$B$33 -> Enfinium Ferrybridge 1 Limited
A3: Summary of Permit Compliance
A5: Compliance with permit limits for continuously monitored pollutants
A7: The plant met its emission limits as shown in the table below:
A8: Substance | C8: Percentage time compliant during operationNote 1 | L8: Notes:
C9: Half-hourly limit | F9: Daily limit | L9: Note 1: Please report to 2 decimal places, i.e. xx.xx% Note 2: Please enter into this table any permit non-compliances that the EA has given a CCS score for. Please also enter any other non-compliances which you have notified to the EA (e.g. ELV exceedances) but which have not yet been assessed by the EA. There is no need to enter any notifications which were subsequently assessed by the EA not to be permit breaches. Note 3: Please enter information here (rather than just referencing the notifications that were sent to the EA) including where relevant the incineration line reference, pollutant and value of the measured result for any ELV exceedances.
A10: Particulates | C10: 1 | F10: 1
A11: Oxides of nitrogen | C11: 1 | F11: 1
A12: Sulphur dioxide | C12: 1 | F12: 1
A13: Carbon monoxide | C13: 100.00% 95% of 10-min averages | F13: 1
A14: Total organic carbon | C14: 1 | F14: 1
A15: Hydrogen chloride | C15: 1 | F15: 1
A16: Ammonia | C16: 1 | F16: 1
A19: Summary of non-compliances under the permit Note 2
A20: Date | B20: Summary of non-compliance Note 3 | D20: Reason | G20: Measures taken to prevent reoccurrence | H20: CCS score if applicable*
H21: Impact | I21: Root cause
A27: *If the Environment Agency (EA) has given a Compliance Classification Scheme (CCS) score due to a permit non-compliance it should be entered here (CCS4 = No impact; CCS3 = Minor impact; CCS2 = Significant impact; CCS1 = Major impact). If the EA has not yet assessed a non-compliance which you have notified to them, these columns should be left blank.
A29: Summary of any complaints received and actions to taken to resolve them.
A30: Date | B30: Summary of complaint [including Line/Reference] | E30: Reason (including whether substantiated by the operator or the EA) | H30: Measures taken to prevent reoccurrence
A31: 45382 | B31: Odour complaint from a local resident 400m away | E31: Unsubstantiated due to wind direction data and odour checks log | H31: Discussed at morning meeting. Frequent Odour monitoring checks
A32: 45386 | B32: Odour complaint from a local resident | E32: Unsubstantiated due to wind direction data and odour checks log | H32: Discussed at morning meeting. Frequent Odour monitoring checks
A33: 45390 | B33: Odour complaint and dust complaint from local resident | E33: Unsubstantiated due to wind direction data and odour checks log. Dust generation is minimal on site and therefore unlikely to be due to Ferrybridge 1 site. | H33: Discussed at morning meeting. Frequent Odour monitoring checks

Sheet Improvements
A1: =+'Cover Page'!$B$29 -> Annual Performance Report 2024 | E1: =+'Cover Page'!$B$33 -> Enfinium Ferrybridge 1 Limited
A3: Summary of Plant Improvements
A5: Summary of any efficiency improvements that have been completed within the year.
A6: Replacement of light fittings to energy efficient LEDs
A16: Summary of any permit improvement conditions that have been completed within the year and the resulting environmental benefits.
A17: None
A27: Summary of any changes to the plant or operating techniques which required a variation to the permit and a summary of the resulting environmental impact.
A28: None
A38: Summary of any other improvements made to the plant or planned to be made and a summary of the resulting environmental benefits.
A39: None

Sheet Public Liasion
A1: =+'Cover Page'!$B$29 -> Annual Performance Report 2024 | E1: =+'Cover Page'!$B$33 -> Enfinium Ferrybridge 1 Limited
A3: Details of Public & Stakeholder Liaison
A5: Summary of events held during the reporting year.
A6: Date | C6: Description
A7: 45617 | C7: Transport liaison group meeting held
A9: 45627 | C9: Community liaison group meeting held
A16: List of events planned for next year
A17: Date | C17: Description
A18: June & December 2025 | C18: Community liaison group meetings to continueat 6 monthly intervals through the year, dates to be confirmed.
A20: April/October 2025 | C20: Transport liaison group meetings to continue at regular intervals through the year, dates to be confirmed.
A29: If you wish to be involved in the public liaison programme, please contact Philip Curds philip.curds@enfinium.co.uk

Sheet CO2 N2O
A1: =+'Cover Page'!$B$29 -> Annual Performance Report 2024 | C1: =+'Cover Page'!$B$33 -> Enfinium Ferrybridge 1 Limited
A3: Carbon dioxide emissions and biogenic content of waste inputs | F3: Notes:
A5: Carbon dioxide emissions (all types of plant)
B6: Annual mass of carbon dioxide released | C6: tonnes | D6: =((19955.1*19643)+(18761.5*19643))/1000 -> 760510.17
B7: Annual mass of carbon dioxide released per tonne of waste burned | C7: t CO2 / t waste | D7: 1.17
B8: Annual mass of carbon dioxide released per MWh of energy exported | C8: t CO2 / MWh export | D8: =D6/'Operational Data'!G25 -> 1.2940779
B9: Description of how annual carbon dioxide mass emission has been calculated. See Note 1 | C9: CEMS CO2% calculated via Annual mass emissions report and converted into kg | F9: Note 1: All permits require operators to continuously monitor CO2 to EN14181 and flow to BS EN 16911-2 (unless otherwise agreed in writing). Operators must therefore use the results from these instruments to calculate their annual CO2 emissions. Where an operator does not have a flow meter calibrated to BS EN 16911-2, the averaged flow measurement from that year's periodic monitoring can be used instead. If the plant does not have calibrated CO2 CEMS, a suitably justified emissions factor can be used.
A10: Nitrous oxide emissions (only plants which use ammonia or urea to abate NOx emissions)
B11: Annual mass emissions of nitrous oxide | C11: tonnes N2O | D11: =(447+1136.4)/1000 -> 1.5834
B12: Description of how annual nitrous oxide mass emission has been calculated See Note 2 | C12: CEMS data has been used to calculate the mass emissions | F12: Note 2: All permits require operators to continuously monitor N2O to EN14181 and flow to BS EN 16911-2, unless otherwise agreed in writing. Operators must therefore use the results from these instruments to calculate their annual N2O emissions. Where an operator does not have a flow meter calibrated to BS EN 16911-2, the averaged flow measurement from periodic monitoring can be used instead. If the plant does not have calibrated N2O CEMS, data from periodic monitoring or a suitably justified emissions factor can be used instead.
A13: Total annual carbon dioxide + nitrous oxide emissions. See Note 3. | C13: tonnes CO2e | D13: =(D11*265)+D6 -> 760929.77 | F13: Note 3: Total annual carbon dioxide and nitrous oxide emissions reported as carbon dioxide equivalent where 1 tonne nitrous oxide is equivalent to 265 tonnes carbon dioxide.
A14: Biogenic CO2 emissions (See Note 4) | F14: Note 4: Only plants combusting residual municipal waste, refuse derived fuel or solid recovered fuel need complete this section.
B15: Percentage of total carbon dioxide emissions arising from biogenic waste | C15: % | D15: 0.524
B16: No. of measurements undertaken | C16: Number | D16: 222
B17: Description of how percentage biogenic carbon dioxide emissions have been measured or calculated. See Note 5 | C17: Calculated from lab analysis via a UKAS accredited method ISO 216:2021. | F17: Note 5: The results from C14 sampling should be used if this is carried out at the plant (either via an installed sampler or from spot samples). Otherwise, as an approximation (and in lieu of any more accurate metrics which may be developed in future), the measured or estimated biogenic fraction by net calorific value (see Note 6) can be assumed to be the same as the biogenic CO2 fraction of the total CO2 emissions from the plant.
A18: Biogenic fraction of waste feedstock (See Note 4)
B19: Yearly average biogenic percentage of the waste by net calorific value (NCV) | C19: % | D19: 0.525
B20: Description of how biogenic percentage (by NCV) has been calculated or estimated. See Note 6 | C20: From fuel model which takes weighbridge data and RDF test results sampled at source (calculated from lab analysis via a UKAS accredited method ISO 21644:2021), then weights each suppliers tonnage on a heat input basis. | F20: Note 6: If C14 sampling is carried out at the plant, the methodology set out in the embedded document entitled "Renewable Energy Association Energy Content of Fuels - Description of Method" embedded below can be used to calculate the biogenic percentage by net calorific value. Otherwise, data from waste sampling or BIOMA software can be used; or if none of these are available, an estimated figure with justification or a figure assumed on the basis of up-to-date industry data can be used.
B21: Yearly average biogenic percentage of the waste by mass | C21: % | D21: 0.571
B22: If waste sampling undertaken, no. of samples used to ascertain average biogenic percentages above | C22: Number | D22: 302
B23: Description of how biogenic percentage (by mass) has been calculated or estimated. See Note 7 | C23: From fuel model which takes weighbridge data and RDF test results sampled at source (calculated from lab analysis via a UKAS accredited method ISO 21644:2021), then weights each suppliers tonnage on a heat input basis. | F23: Note 7: Where available, data from waste sampling should be used; otherwise, an estimated figure with justification can be used, or a figure assumed on the basis of up-to-date industry data.
B25: Comments:
B26: The numbers for waste sampling and biogenic content are provisional and based on an incomplete dataset, as some data is still waiting to be received.

Sheet Residue Quality 
A1: =+'Cover Page'!$B$29 -> Annual Performance Report 2024 | E1: =+'Cover Page'!$B$33 -> Enfinium Ferrybridge 1 Limited
A3: Residue Quality Monitoring Requirements
A5: Summary of monitoring undertaken and compliance
A6: Monthly IBA hazard assessments and annual full hazardous property assessments, quarterly IBA and APC residue compliance monitoring, annual characterisation of IBA and APC residue. Analysis and reporting carried out by WRc.
A9: Commentary on any specific events
A10: Date & Event | C10: Description
A11: October 2024 - IBA and APC Annual Characterisation Report | C11: Results of the annual characterisation of IBA and APC residues from Ferrybridge 1, including a full hazardous property assessment of IBA as required by the ESA Protocol 2018.
A17: Residue Quality Monitoring Results
A18: Parameter (unit) | C18: Limit* | D18: Normal Operation
D19: Bottom ash | F19: APC Residues
A20: Loss on Ignition (average %) | C20: <5% | D20: =(2.59+1.71+1.74+1.87)/4 -> 1.9775
A21: Total Organic Carbon (average %) | C21: <3% | D21: =(0.7+0.6+0.6+0.7)/4 -> 0.65
A22: No. of Assessments Undertaken | C22: --- | D22: 24 | F22: 4
A23: No. of Hazardous Results | C23: --- | D23: 0
A24: * The permit will specify a limit of either 5% loss on ignition or 3% total organic carbon. If both are measured anyway, please enter the results here, even where the limit does not apply.
A26: Comments :

Sheet Water
A1: =+'Cover Page'!$B$29 -> Annual Performance Report 2024 | E1: =+'Cover Page'!$B$33 -> Enfinium Ferrybridge 1 Limited
A3: Emissions to Water
A5: Summary of monitoring undertaken and compliance
A6: Sampling and analysis of attenuation pond water is carried out periodically, testing for pH and conductivity, and checking the odour and appearance depending upon operational activity.
A9: Commentary on any specific events
A10: Date & Event | C10: Description
A11: None
A18: Emissions to Water / Sewer
A19: Parameter | D19: Monitoring Frequency | F19: Limit | G19: Target | H19: Max. | I19: Average
A20: No parameters set in permit | D20: N/A | F20: None | G20: None | H20: None | I20: N/A

Sheet Air (periodic)
A1: =+'Cover Page'!$B$29 -> Annual Performance Report 2024 | E1: =+'Cover Page'!$B$33 -> Enfinium Ferrybridge 1 Limited
A3: Emissions to Air (periodically monitored)
A5: Summary of monitoring undertaken, standards used and compliance | H5: Notes:
A6: Periodic Monitoring carried out in accordance with permit requirements using test methods CEN TS 17340 for HF; BS EN 14385 for cadmium, thallium and metals; EN 13211 for mercury; BS EN 1948 for dioxins and furans and PCBs, BS ISO 11338 for PAHs. All emissions were within the Emission Limit Values. | H6: Template may require adjustment for any bespoke monitoring requirements of permit - please also check that all default ELV values, reference periods and the stated oxygen reference value match those for your plant, and edit if necessary!
A9: Results of emissions to air that are periodically monitored - oxygen reference 11%
A10: Substance | C10: Ref. Period | D10: Emission Limit Value | F10: Average | H10: User to add additional tables as necessary, depending on whether quarterly or bi-annual reporting is required for the compliance year
F11: A1 | G11: A2
A12: Hydrogen fluoride | C12: 1 hr | D12: 1 mg/m3 | F12: 0.0585 | G12: 0.0585
A13: Cd and Tl and their compounds | C13: 0.5-8hrs | D13: 0.02 mg/m3 | F13: 0.00265 | G13: 0.001
A14: Hg and its compounds | C14: 0.5-8hrs | D14: 0.02 mg/m3 | F14: 0.00305 | G14: 0.00135
A15: Sb, As, Pb, Cr, Co, Cu, Mn, Ni, V and their compounds | C15: 0.5-8hrs | D15: 0.3 mg/m3 | F15: 0.061 | G15: 0.0215
A16: Dioxins & Furans (I-TEQ) | C16: 6-8hrs | D16: 0.06 ng/m3 | F16: 0.01605 | G16: 0.017
A17: PCBs (WHO-TEQ Humans / Mammals) | C17: 6-8hrs | D17: None set ng/m3 | F17: 0.00335 | G17: 0.0107
A18: PCBs (WHO-TEQ Fish) | C18: 6-8hrs | D18: None set ng/m3 | F18: 0.000165 | G18: 0.000103
A19: PCBs (WHO-TEQ Birds) | C19: 6-8hrs | D19: None set ng/m3 | F19: 0.0078 | G19: 0.00525
A20: Dioxins & Furans (WHO-TEQ Humans / Mammals) | C20: 6-8hrs | D20: None set ng/m3 | F20: 0.01525 | G20: 0.0155
A21: Dioxins & Furans (WHO-TEQ Fish) | C21: 6-8hrs | D21: None set ng/m3 | F21: 0.017 | G21: 0.0098
A22: Dioxins & Furans (WHO-TEQ Birds) | C22: 6-8hrs | D22: None set ng/m3 | F22: 0.031 | G22: 0.0275
A23: Anthanthrene | C23: 6-8hrs | D23: None set µg/m3 | F23: 0.0017 | G23: 0.0019
... A38: Naphthalene | C38: 6-8hrs | D38: None set µg/m3 | F38: 0.95 | G38: 3.1
A39: Comments :
A40: All bi-annual and annual air emissions results are within the Emission limit values where applicable

Sheet Air (CEMS)
A1: =+'Cover Page'!$B$29 -> Annual Performance Report 2024
A3: Emissions to Air (continuously monitored)
H4: Notes:
A5: Summary of monitoring undertaken, standards used and compliance | H5: Template may require adjustment for any bespoke monitoring requirements of permit
A6: Continuous emissions monitoring of Oxides of Nitrogen, Sulphur Dioxide, Hydrogen Chloride, Total Organic Carbon, Particulates, Ammonia and Carbon Monoxide (also Flow, O2, N2O) to EN14181. Instruments used PCME QAL 181, Oxymitter 4000, Envea MIR FT multigas analyser and Graphite 52M Flame Ionisation Detector (FID). All results demonstrate 100% compliance with the daily emission limit values. All results demonstrate 100% compliance with 1/2 hour average emission limit values. | H6: Please check that all default ELV values match those for your plant and edit if necessary!
H7: Report to 1 decimal place
A11: Results of emissions to air that are continuously monitored (maximum and average values for each line) - oxygen reference 11%
A12: Substance | B12: Reference Period | C12: Emission Limit Value | D12: A1 | F12: A2
D13: Max. | E13: Avg. | F13: Max. | G13: Avg.
A14: Oxides of nitrogen | B14: Daily mean | C14: 180 mg/m3 | D14: 170.23 | E14: 154.64 | F14: 164.69 | G14: 149.24
B15: ½ hourly mean | C15: 400 mg/m3 | D15: 189 | E15: 154.5 | F15: 203 | G15: 149.25
A16: Particulates | B16: Daily mean | C16: 5 mg/m3 | D16: 4.35 | E16: 1.81 | F16: 4.43 | G16: 1.15
B17: ½ hourly mean | C17: 30 mg/m3 | D17: 17 | E17: 1.75 | F17: 24 | G17: 1.25
A18: Total Organic Carbon | B18: Daily mean | C18: 10 mg/m3 | D18: 2.04 | E18: 0.33 | F18: 0.96 | G18: 0.35
B19: ½ hourly mean | C19: 20 mg/m3 | D19: 10 | E19: 0 | F19: 6 | G19: 0.25
A20: Hydrogen chloride | B20: Daily mean | C20: 8 mg/m3 | D20: 6 | E20: 3.47 | F20: 6.18 | G20: 4.13
B21: ½ hourly mean | C21: 60 mg/m3 | D21: 30 | E21: 3.5 | F21: 15 | G21: 4.25
A22: Sulphur dioxide | B22: Daily mean | C22: 40 mg/m3 | D22: 21.45 | E22: 5.3 | F22: 13.21 | G22: 4.96
B23: ½ hourly mean | C23: 200 mg/m3 | D23: 103 | E23: 5.42 | F23: 50 | G23: 5.08
A24: Carbon monoxide | B24: Daily mean | C24: 50 mg/m3 | D24: 42.18 | E24: 11.52 | F24: 19.78 | G24: 9.11
B25: 95%ile 10-min avg * | C25: 150 mg/m3 * | D25: 69 | E25: 11.5 | F25: 73 | G25: 9
A26: Ammonia | B26: Daily mean | C26: 15 mg/m3 | D26: 3.98 | E26: 0.32 | F26: 2.2 | G26: 0.58
A28: Comments :
A29: No exceedances of emission limit values for any continuous emissions parameters

Sheet HCl
A1: =+'Cover Page'!$B$29 -> Annual Performance Report 2024 | E1: =+'Cover Page'!$B$33 -> Enfinium Ferrybridge 1 Limited
A3: Monitoring of Hydrogen Chloride emissions | D3: Whole Installation | G3: See Notes in Cell Q3 | J3: =+A3 -> Monitoring of Hydrogen Chloride emissions | N3: Per Combustion Line | Q3: Notes:
Q4: User to add logic to complete Whole installation, Table A5:G18. From the data in Per Combustion Line, Table J6:O79, subject to No. of lines installed
A5: =+'Cover Page'!C39 -> 2024 | B5: 1/2 Hourly Reference Periods | E5: Daily Reference Periods
A6: mg/Nm3 | B6: 1/2 hourly HCl ELV | C6: Monthly mean of half-hourly averages | D6: Highest half- hourly average | E6: Daily HCl ELV | F6: Monthly mean of daily averages | G6: Highest daily average | J6: =+A5 -> 2024 | K6: mg/Nm3 | L6: Monthly mean of half-hourly averages | M6: Highest half- hourly average | N6: Monthly mean of daily averages | O6: Highest daily average
A7: Jan | B7: 60 | C7: =AVERAGE(L7, L22) -> 3.5 | D7: =MAX(M7,M22) -> 16 | E7: 8 | F7: =AVERAGE(N7,N22) -> 3.52 | G7: =MAX(O7,O22) -> 4.67 | J7: A1 | K7: Jan | L7: 3 | M7: 16 | N7: 3.29 | O7: 4.51
A8: Feb | B8: 60 | C8: =AVERAGE(L8, L23) -> 4 | D8: =MAX(M8,M23) -> 30 | E8: 8 | F8: =AVERAGE(N8,N23) -> 3.905 | G8: =MAX(O8,O23) -> 5.78 | K8: Feb | L8: 4 | M8: 30 | N8: 3.83 | O8: 5.78
A9: Mar | B9: 60 | C9: =AVERAGE(L9, L24) -> 3 | D9: =MAX(M9,M24) -> 8 | E9: 8 | F9: =AVERAGE(N9,N24) -> 3.03 | G9: =MAX(O9,O24) -> 4.32 | K9: Mar | L9: 3 | M9: 8 | N9: 3.41 | O9: 4.32 | Q9: Whole Installation table A5:G18:
A10: Apr | B10: 60 | C10: =AVERAGE(L10, L25) -> 3 | D10: =MAX(M10,M25) -> 7 | E10: 8 | F10: =AVERAGE(N10,N25) -> 3.05 | G10: =MAX(O10,O25) -> 6.18 | K10: Apr | L10: 2 | M10: 5 | N10: 2.05 | O10: 3.96 | Q10: Mean: for 1/2 hourly and daily periods calculate mean of values across all operational combustion lines for the month
A11: May | B11: 60 | C11: =AVERAGE(L11, L26) -> 4.5 | D11: =MAX(M11,M26) -> 8 | E11: 8 | F11: =AVERAGE(N11,N26) -> 4.4 | G11: =MAX(O11,O26) -> 5.37 | K11: May | L11: 4 | M11: 8 | N11: 4.22 | O11: 5.01
A12: Jun | B12: 60 | C12: =AVERAGE(L12, L27) -> 4.5 | D12: =MAX(M12,M27) -> 8 | E12: 8 | F12: =AVERAGE(N12,N27) -> 4.41 | G12: =MAX(O12,O27) -> 5.99 | K12: Jun | L12: 4 | M12: 8 | N12: 4.23 | O12: 5.22
A13: Jul | B13: 60 | C13: =AVERAGE(L13, L28) -> 4 | D13: =MAX(M13,M28) -> 8 | E13: 8 | F13: =AVERAGE(N13,N28) -> 3.82 | G13: =MAX(O13,O28) -> 4.65 | K13: Jul | L13: 4 | M13: 7 | N13: 3.8 | O13: 4.57 | Q13: Maximum: for 1/2 hourly and daily periods use the highest value across all operational combustion lines for the month
A14: Aug | B14: 60 | C14: =AVERAGE(L14, L29) -> 4 | D14: =MAX(M14,M29) -> 14 | E14: 8 | F14: =AVERAGE(N14,N29) -> 4.05 | G14: =MAX(O14,O29) -> 5.75 | K14: Aug | L14: 4 | M14: 14 | N14: 3.65 | O14: 4.5
A15: Sep | B15: 60 | C15: =AVERAGE(L15, L30) -> 4 | D15: =MAX(M15,M30) -> 7 | E15: 8 | F15: =AVERAGE(N15,N30) -> 3.76 | G15: =MAX(O15,O30) -> 5.23 | K15: Sep | L15: 3 | M15: 6 | N15: 2.83 | O15: 3.22
A16: Oct | B16: 60 | C16: =AVERAGE(L16, L31) -> 4 | D16: =MAX(M16,M31) -> 8 | E16: 8 | F16: =AVERAGE(N16,N31) -> 4.01 | G16: =MAX(O16,O31) -> 5.74 | K16: Oct | L16: 3 | M16: 6 | N16: 3.05 | O16: 3.89
A17: Nov | B17: 60 | C17: =AVERAGE(L17, L32) -> 3.5 | D17: =MAX(M17,M32) -> 8 | E17: 8 | F17: =AVERAGE(N17,N32) -> 3.54 | G17: =MAX(O17,O32) -> 5.94 | K17: Nov | L17: 3 | M17: 8 | N17: 2.78 | O17: 3.46
A18: Dec | B18: 60 | C18: =AVERAGE(L18, L33) -> 4.5 | D18: =MAX(M18,M33) -> 15 | E18: 8 | F18: =AVERAGE(N18,N33) -> 4.115 | G18: =MAX(O18,O33) -> 6 | K18: Dec | L18: 5 | M18: 13 | N18: 4.52 | O18: 6
K19: Annual | L19: =AVERAGE(L7:L18) -> 3.5 | M19: =MAX(M7:M18) -> 30 | N19: =AVERAGE(N7:N18) -> 3.4716667 | O19: =MAX(O7:O18) -> 6
J21: =+A5 -> 2024 | K21: mg/Nm3 | L21: Monthly mean of half-hourly averages | M21: Highest half- hourly average | N21: Monthly mean of daily averages | O21: Highest daily average
J22: A2 | K22: Jan | L22: 4 | M22: 8 | N22: 3.75 | O22: 4.67
K23: Feb | L23: 4 | M23: 8 | N23: 3.98 | O23: 4.92
K24: Mar | L24: 3 | M24: 8 | N24: 2.65 | O24: 3.82
K25: Apr | L25: 4 | M25: 7 | N25: 4.05 | O25: 6.18
K26: May | L26: 5 | M26: 7 | N26: 4.58 | O26: 5.37
K27: Jun | L27: 5 | M27: 8 | N27: 4.59 | O27: 5.99
K28: Jul | L28: 4 | M28: 8 | N28: 3.84 | O28: 4.65
K29: Aug | L29: 4 | M29: 11 | N29: 4.45 | O29: 5.75
K30: Sep | L30: 5 | M30: 7 | N30: 4.69 | O30: 5.23
K31: Oct | L31: 5 | M31: 8 | N31: 4.97 | O31: 5.74
K32: Nov | L32: 4 | M32: 7 | N32: 4.3 | O32: 5.94
K33: Dec | L33: 4 | M33: 15 | N33: 3.71 | O33: 4.99
K34: Annual | L34: =AVERAGE(L22:L33) -> 4.25 | M34: =MAX(M22:M33) -> 15 | N34: =AVERAGE(N22:N33) -> 4.13 | O34: =MAX(O22:O33) -> 6.18
A48: Comments :

Sheet SO2
A1: =+'Cover Page'!$B$29 -> Annual Performance Report 2024 | E1: =+'Cover Page'!$B$33 -> Enfinium Ferrybridge 1 Limited
A3: Monitoring of Sulphur dioxide emissions | D3: Whole Installation | G3: See Notes in Cell Q3 | J3: =+A3 -> Monitoring of Sulphur dioxide emissions | N3: Per Combustion Line | Q3: Notes:
Q4: User to add logic to complete Whole installation, Table A5:G18. From the data in Per Combustion Line, Table J6:O79, subject to No. of lines installed
A5: =+'Cover Page'!C39 -> 2024 | B5: 1/2 Hourly Reference Periods | E5: Daily Reference Periods
A6: mg/Nm3 | B6: 1/2 hourly SO2 ELV | C6: Monthly mean of half-hourly averages | D6: Highest half- hourly average | E6: Daily SO2 ELV | F6: Monthly mean of daily averages | G6: Highest daily average | J6: =+A5 -> 2024 | K6: mg/Nm3 | L6: Monthly mean of half-hourly averages | M6: Highest half- hourly average | N6: Monthly mean of daily averages | O6: Highest daily average
A7: Jan | B7: 200 | C7: =AVERAGE(L7, L22) -> 5 | D7: =MAX(M7,M22) -> 28 | E7: 40 | F7: =AVERAGE(N7,N22) -> 4.735 | G7: =MAX(O7,O22) -> 8.06 | J7: A1 | K7: Jan | L7: 7 | M7: 28 | N7: 6.94 | O7: 8.06
A8: Feb | B8: 200 | C8: =AVERAGE(L8, L23) -> 5 | D8: =MAX(M8,M23) -> 103 | E8: 40 | F8: =AVERAGE(N8,N23) -> 5.105 | G8: =MAX(O8,O23) -> 11.95 | K8: Feb | L8: 8 | M8: 103 | N8: 7.76 | O8: 11.95
A9: Mar | B9: 200 | C9: =AVERAGE(L9, L24) -> 6 | D9: =MAX(M9,M24) -> 41 | E9: 40 | F9: =AVERAGE(N9,N24) -> 6.05 | G9: =MAX(O9,O24) -> 19.07 | K9: Mar | L9: 8 | M9: 41 | N9: 8.35 | O9: 19.07 | Q9: Whole Installation table A5:G18:
A10: Apr | B10: 200 | C10: =AVERAGE(L10, L25) -> 9.5 | D10: =MAX(M10,M25) -> 60 | E10: 40 | F10: =AVERAGE(N10,N25) -> 9.195 | G10: =MAX(O10,O25) -> 21.45 | K10: Apr | L10: 13 | M10: 60 | N10: 12.74 | O10: 21.45 | Q10: Mean: for 1/2 hourly and daily periods calculate mean of values across all operational combustion lines for the month
A11: May | B11: 200 | C11: =AVERAGE(L11, L26) -> 6 | D11: =MAX(M11,M26) -> 14 | E11: 40 | F11: =AVERAGE(N11,N26) -> 5.895 | G11: =MAX(O11,O26) -> 8.45 | K11: May | L11: 7 | M11: 14 | N11: 6.53 | O11: 8.45
A12: Jun | B12: 200 | C12: =AVERAGE(L12, L27) -> 4.5 | D12: =MAX(M12,M27) -> 11 | E12: 40 | F12: =AVERAGE(N12,N27) -> 4.525 | G12: =MAX(O12,O27) -> 6.51 | K12: Jun | L12: 3 | M12: 11 | N12: 3.11 | O12: 3.86
A13: Jul | B13: 200 | C13: =AVERAGE(L13, L28) -> 5 | D13: =MAX(M13,M28) -> 11 | E13: 40 | F13: =AVERAGE(N13,N28) -> 4.815 | G13: =MAX(O13,O28) -> 6.49 | K13: Jul | L13: 4 | M13: 11 | N13: 3.6 | O13: 4.84 | Q13: Maximum: for 1/2 hourly and daily periods use the highest value across all operational combustion lines for the month
A14: Aug | B14: 200 | C14: =AVERAGE(L14, L29) -> 4.5 | D14: =MAX(M14,M29) -> 29 | E14: 40 | F14: =AVERAGE(N14,N29) -> 4.555 | G14: =MAX(O14,O29) -> 6.25 | K14: Aug | L14: 3 | M14: 29 | N14: 3.21 | O14: 3.74
A15: Sep | B15: 200 | C15: =AVERAGE(L15, L30) -> 4.5 | D15: =MAX(M15,M30) -> 25 | E15: 40 | F15: =AVERAGE(N15,N30) -> 4.25 | G15: =MAX(O15,O30) -> 13.21 | K15: Sep | L15: 3 | M15: 11 | N15: 2.82 | O15: 4.71
A16: Oct | B16: 200 | C16: =AVERAGE(L16, L31) -> 4.5 | D16: =MAX(M16,M31) -> 15 | E16: 40 | F16: =AVERAGE(N16,N31) -> 4.09 | G16: =MAX(O16,O31) -> 6.42 | K16: Oct | L16: 3 | M16: 15 | N16: 2.65 | O16: 3.68
A17: Nov | B17: 200 | C17: =AVERAGE(L17, L32) -> 4 | D17: =MAX(M17,M32) -> 25 | E17: 40 | F17: =AVERAGE(N17,N32) -> 4.08 | G17: =MAX(O17,O32) -> 9.21 | K17: Nov | L17: 3 | M17: 25 | N17: 2.92 | O17: 9.21
A18: Dec | B18: 200 | C18: =AVERAGE(L18, L33) -> 4.5 | D18: =MAX(M18,M33) -> 50 | E18: 40 | F18: =AVERAGE(N18,N33) -> 4.255 | G18: =MAX(O18,O33) -> 8.18 | K18: Dec | L18: 3 | M18: 35 | N18: 2.94 | O18: 5.85
K19: Annual | L19: =AVERAGE(L7:L18) -> 5.4166667 | M19: =MAX(M7:M18) -> 103 | N19: =AVERAGE(N7:N18) -> 5.2975 | O19: =MAX(O7:O18) -> 21.45
J21: =+A5 -> 2024 | K21: mg/Nm3 | L21: Monthly mean of half-hourly averages | M21: Highest half- hourly average | N21: Monthly mean of daily averages | O21: Highest daily average
J22: A2 | K22: Jan | L22: 3 | M22: 11 | N22: 2.53 | O22: 4.14
K23: Feb | L23: 2 | M23: 14 | N23: 2.45 | O23: 4.45
K24: Mar | L24: 4 | M24: 14 | N24: 3.75 | O24: 5.46
K25: Apr | L25: 6 | M25: 16 | N25: 5.65 | O25: 9.23
K26: May | L26: 5 | M26: 12 | N26: 5.26 | O26: 6.1
K27: Jun | L27: 6 | M27: 10 | N27: 5.94 | O27: 6.51
K28: Jul | L28: 6 | M28: 10 | N28: 6.03 | O28: 6.49
K29: Aug | L29: 6 | M29: 8 | N29: 5.9 | O29: 6.25
K30: Sep | L30: 6 | M30: 25 | N30: 5.68 | O30: 13.21
K31: Oct | L31: 6 | M31: 10 | N31: 5.53 | O31: 6.42
K32: Nov | L32: 5 | M32: 14 | N32: 5.24 | O32: 6.36
K33: Dec | L33: 6 | M33: 50 | N33: 5.57 | O33: 8.18
K34: Annual | L34: =AVERAGE(L22:L33) -> 5.0833333 | M34: =MAX(M22:M33) -> 50 | N34: =AVERAGE(N22:N33) -> 4.9608333 | O34: =MAX(O22:O33) -> 13.21
A48: Comments :

Sheet NOx
A1: =+'Cover Page'!$B$29 -> Annual Performance Report 2024 | E1: =+'Cover Page'!$B$33 -> Enfinium Ferrybridge 1 Limited
A3: Monitoring of Oxides of Nitrogen emissions | D3: Whole Installation | G3: See Notes in Cell Q3 | J3: =+A3 -> Monitoring of Oxides of Nitrogen emissions | N3: Per Combustion Line | Q3: Notes:
Q4: User to add logic to complete Whole installation, Table A5:G18. From the data in Per Combustion Line, Table J6:O79, subject to No. of lines installed
A5: =+'Cover Page'!C39 -> 2024 | B5: 1/2 Hourly Reference Periods | E5: Daily Reference Periods
A6: mg/Nm3 | B6: 1/2 hourly NOx ELV | C6: Monthly mean of half-hourly averages | D6: Highest half- hourly average | E6: Daily NOx ELV | F6: Monthly mean of daily averages | G6: Highest daily average | J6: =+A5 -> 2024 | K6: mg/Nm3 | L6: Monthly mean of half-hourly averages | M6: Highest half- hourly average | N6: Monthly mean of daily averages | O6: Highest daily average
A7: Jan | B7: 400 | C7: =AVERAGE(L7, L22) -> 151 | D7: =MAX(M7,M22) -> 203 | E7: 180 | F7: =AVERAGE(N7,N22) -> 151.1 | G7: =MAX(O7,O22) -> 162.06 | J7: A1 | K7: Jan | L7: 151 | M7: 180 | N7: 150.75 | O7: 162.06
A8: Feb | B8: 400 | C8: =AVERAGE(L8, L23) -> 157.5 | D8: =MAX(M8,M23) -> 190 | E8: 180 | F8: =AVERAGE(N8,N23) -> 157.34 | G8: =MAX(O8,O23) -> 162.06 | K8: Feb | L8: 155 | M8: 174 | N8: 155.05 | O8: 162.06
A9: Mar | B9: 400 | C9: =AVERAGE(L9, L24) -> 148.5 | D9: =MAX(M9,M24) -> 190 | E9: 180 | F9: =AVERAGE(N9,N24) -> 148.425 | G9: =MAX(O9,O24) -> 160.83 | K9: Mar | L9: 148 | M9: 176 | N9: 148.11 | O9: 160.83 | Q9: Whole Installation table A5:G18:
A10: Apr | B10: 400 | C10: =AVERAGE(L10, L25) -> 146 | D10: =MAX(M10,M25) -> 170 | E10: 180 | F10: =AVERAGE(N10,N25) -> 146.02 | G10: =MAX(O10,O25) -> 152.62 | K10: Apr | L10: 147 | M10: 170 | N10: 147.41 | O10: 152.34 | Q10: Mean: for 1/2 hourly and daily periods calculate mean of values across all operational combustion lines for the month
A11: May | B11: 400 | C11: =AVERAGE(L11, L26) -> 148.5 | D11: =MAX(M11,M26) -> 181 | E11: 180 | F11: =AVERAGE(N11,N26) -> 148.27 | G11: =MAX(O11,O26) -> 170.23 | K11: May | L11: 156 | M11: 181 | N11: 155.82 | O11: 170.23
A12: Jun | B12: 400 | C12: =AVERAGE(L12, L27) -> 155 | D12: =MAX(M12,M27) -> 183 | E12: 180 | F12: =AVERAGE(N12,N27) -> 155.225 | G12: =MAX(O12,O27) -> 168.41 | K12: Jun | L12: 164 | M12: 183 | N12: 164.02 | O12: 168.41
A13: Jul | B13: 400 | C13: =AVERAGE(L13, L28) -> 155.5 | D13: =MAX(M13,M28) -> 180 | E13: 180 | F13: =AVERAGE(N13,N28) -> 155.755 | G13: =MAX(O13,O28) -> 168.24 | K13: Jul | L13: 159 | M13: 180 | N13: 159.47 | O13: 168.24 | Q13: Maximum: for 1/2 hourly and daily periods use the highest value across all operational combustion lines for the month
A14: Aug | B14: 400 | C14: =AVERAGE(L14, L29) -> 149 | D14: =MAX(M14,M29) -> 189 | E14: 180 | F14: =AVERAGE(N14,N29) -> 148.9 | G14: =MAX(O14,O29) -> 165.06 | K14: Aug | L14: 155 | M14: 189 | N14: 154.37 | O14: 165.06
A15: Sep | B15: 400 | C15: =AVERAGE(L15, L30) -> 143.5 | D15: =MAX(M15,M30) -> 177 | E15: 180 | F15: =AVERAGE(N15,N30) -> 143.72 | G15: =MAX(O15,O30) -> 161.07 | K15: Sep | L15: 150 | M15: 177 | N15: 150.4 | O15: 161.07
A16: Oct | B16: 400 | C16: =AVERAGE(L16, L31) -> 154.5 | D16: =MAX(M16,M31) -> 178 | E16: 180 | F16: =AVERAGE(N16,N31) -> 154.75 | G16: =MAX(O16,O31) -> 163.88 | K16: Oct | L16: 154 | M16: 178 | N16: 154.49 | O16: 163.88
A17: Nov | B17: 400 | C17: =AVERAGE(L17, L32) -> 156.5 | D17: =MAX(M17,M32) -> 187 | E17: 180 | F17: =AVERAGE(N17,N32) -> 156.85 | G17: =MAX(O17,O32) -> 164.64 | K17: Nov | L17: 154 | M17: 187 | N17: 154.66 | O17: 164.45
A18: Dec | B18: 400 | C18: =AVERAGE(L18, L33) -> 157 | D18: =MAX(M18,M33) -> 190 | E18: 180 | F18: =AVERAGE(N18,N33) -> 156.91 | G18: =MAX(O18,O33) -> 166.81 | K18: Dec | L18: 161 | M18: 182 | N18: 161.07 | O18: 166.81
K19: Annual | L19: =AVERAGE(L7:L18) -> 154.5 | M19: =MAX(M7:M18) -> 189 | N19: =AVERAGE(N7:N18) -> 154.635 | O19: =MAX(O7:O18) -> 170.23
J21: =+A5 -> 2024 | K21: mg/Nm3 | L21: Monthly mean of half-hourly averages | M21: Highest half- hourly average | N21: Monthly mean of daily averages | O21: Highest daily average
J22: A2 | K22: Jan | L22: 151 | M22: 203 | N22: 151.45 | O22: 159.48
K23: Feb | L23: 160 | M23: 190 | N23: 159.63 | O23: 161.88
K24: Mar | L24: 149 | M24: 190 | N24: 148.74 | O24: 160.73
K25: Apr | L25: 145 | M25: 167 | N25: 144.63 | O25: 152.62
K26: May | L26: 141 | M26: 168 | N26: 140.72 | O26: 147.11
K27: Jun | L27: 146 | M27: 170 | N27: 146.43 | O27: 154.06
K28: Jul | L28: 152 | M28: 175 | N28: 152.04 | O28: 157.21
K29: Aug | L29: 143 | M29: 167 | N29: 143.43 | O29: 153.22
K30: Sep | L30: 137 | M30: 176 | N30: 137.04 | O30: 154.91
K31: Oct | L31: 155 | M31: 173 | N31: 155.01 | O31: 161.46
K32: Nov | L32: 159 | M32: 173 | N32: 159.04 | O32: 164.64
K33: Dec | L33: 153 | M33: 190 | N33: 152.75 | O33: 164.69
K34: Annual | L34: =AVERAGE(L22:L33) -> 149.25 | M34: =MAX(M22:M33) -> 203 | N34: =AVERAGE(N22:N33) -> 149.2425 | O34: =MAX(O22:O33) -> 164.69
A48: Comments :

Sheet TOC
A1: =+'Cover Page'!$B$29 -> Annual Performance Report 2024 | E1: =+'Cover Page'!$B$33 -> Enfinium Ferrybridge 1 Limited
A3: Monitoring of Total organic carbon emissions | D3: Whole Installation | G3: See Notes in Cell Q3 | J3: =+A3 -> Monitoring of Total organic carbon emissions | N3: Per Combustion Line | Q3: Notes:
Q4: User to add logic to complete Whole installation, Table A5:G18. From the data in Per Combustion Line, Table J6:O79, subject to No. of lines installed
A5: =+'Cover Page'!C39 -> 2024 | B5: 1/2 Hourly Reference Periods | E5: Daily Reference Periods
A6: mg/Nm3 | B6: 1/2 hourly TOC ELV | C6: Monthly mean of half-hourly averages | D6: Highest half- hourly average | E6: Daily TOC ELV | F6: Monthly mean of daily averages | G6: Highest daily average | J6: =+A5 -> 2024 | K6: mg/Nm3 | L6: Monthly mean of half-hourly averages | M6: Highest half- hourly average | N6: Monthly mean of daily averages | O6: Highest daily average
A7: Jan | B7: 20 | C7: =AVERAGE(L7, L22) -> 0.5 | D7: =MAX(M7,M22) -> 4 | E7: 10 | F7: =AVERAGE(N7,N22) -> 0.6 | G7: =MAX(O7,O22) -> 0.96 | J7: A1 | K7: Jan | L7: 0 | M7: 2 | N7: 0.49 | O7: 0.79
A8: Feb | B8: 20 | C8: =AVERAGE(L8, L23) -> 0.5 | D8: =MAX(M8,M23) -> 10 | E8: 10 | F8: =AVERAGE(N8,N23) -> 0.58 | G8: =MAX(O8,O23) -> 0.9 | K8: Feb | L8: 0 | M8: 10 | N8: 0.49 | O8: 0.9
A9: Mar | B9: 20 | C9: =AVERAGE(L9, L24) -> 0 | D9: =MAX(M9,M24) -> 8 | E9: 10 | F9: =AVERAGE(N9,N24) -> 0.41 | G9: =MAX(O9,O24) -> 2.04 | K9: Mar | L9: 0 | M9: 8 | N9: 0.39 | O9: 2.04 | Q9: Whole Installation table A5:G18:
A10: Apr | B10: 20 | C10: =AVERAGE(L10, L25) -> 0 | D10: =MAX(M10,M25) -> 2 | E10: 10 | F10: =AVERAGE(N10,N25) -> 0.295 | G10: =MAX(O10,O25) -> 0.86 | K10: Apr | L10: 0 | M10: 2 | N10: 0.3 | O10: 0.86 | Q10: Mean: for 1/2 hourly and daily periods calculate mean of values across all operational combustion lines for the month
A11: May | B11: 20 | C11: =AVERAGE(L11, L26) -> 0 | D11: =MAX(M11,M26) -> 6 | E11: 10 | F11: =AVERAGE(N11,N26) -> 0.23 | G11: =MAX(O11,O26) -> 0.5 | K11: May | L11: 0 | M11: 3 | N11: 0.19 | O11: 0.31
A12: Jun | B12: 20 | C12: =AVERAGE(L12, L27) -> 0.5 | D12: =MAX(M12,M27) -> 8 | E12: 10 | F12: =AVERAGE(N12,N27) -> 0.245 | G12: =MAX(O12,O27) -> 0.4 | K12: Jun | L12: 0 | M12: 8 | N12: 0.23 | O12: 0.38
A13: Jul | B13: 20 | C13: =AVERAGE(L13, L28) -> 0 | D13: =MAX(M13,M28) -> 3 | E13: 10 | F13: =AVERAGE(N13,N28) -> 0.3 | G13: =MAX(O13,O28) -> 0.43 | K13: Jul | L13: 0 | M13: 3 | N13: 0.33 | O13: 0.43 | Q13: Maximum: for 1/2 hourly and daily periods use the highest value across all operational combustion lines for the month
A14: Aug | B14: 20 | C14: =AVERAGE(L14, L29) -> 0 | D14: =MAX(M14,M29) -> 3 | E14: 10 | F14: =AVERAGE(N14,N29) -> 0.315 | G14: =MAX(O14,O29) -> 0.49 | K14: Aug | L14: 0 | M14: 3 | N14: 0.37 | O14: 0.49
A15: Sep | B15: 20 | C15: =AVERAGE(L15, L30) -> 0 | D15: =MAX(M15,M30) -> 3 | E15: 10 | F15: =AVERAGE(N15,N30) -> 0.32 | G15: =MAX(O15,O30) -> 0.5 | K15: Sep | L15: 0 | M15: 3 | N15: 0.37 | O15: 0.5
A16: Oct | B16: 20 | C16: =AVERAGE(L16, L31) -> 0 | D16: =MAX(M16,M31) -> 3 | E16: 10 | F16: =AVERAGE(N16,N31) -> 0.29 | G16: =MAX(O16,O31) -> 0.43 | K16: Oct | L16: 0 | M16: 3 | N16: 0.34 | O16: 0.43
A17: Nov | B17: 20 | C17: =AVERAGE(L17, L32) -> 0 | D17: =MAX(M17,M32) -> 3 | E17: 10 | F17: =AVERAGE(N17,N32) -> 0.24 | G17: =MAX(O17,O32) -> 0.36 | K17: Nov | L17: 0 | M17: 3 | N17: 0.23 | O17: 0.35
A18: Dec | B18: 20 | C18: =AVERAGE(L18, L33) -> 0 | D18: =MAX(M18,M33) -> 3 | E18: 10 | F18: =AVERAGE(N18,N33) -> 0.255 | G18: =MAX(O18,O33) -> 0.58 | K18: Dec | L18: 0 | M18: 3 | N18: 0.26 | O18: 0.58
K19: Annual | L19: =AVERAGE(L7:L18) -> 0 | M19: =MAX(M7:M18) -> 10 | N19: =AVERAGE(N7:N18) -> 0.3325 | O19: =MAX(O7:O18) -> 2.04
J21: =+A5 -> 2024 | K21: mg/Nm3 | L21: Monthly mean of half-hourly averages | M21: Highest half- hourly average | N21: Monthly mean of daily averages | O21: Highest daily average
J22: A2 | K22: Jan | L22: 1 | M22: 4 | N22: 0.71 | O22: 0.96
K23: Feb | L23: 1 | M23: 2 | N23: 0.67 | O23: 0.75
K24: Mar | L24: 0 | M24: 3 | N24: 0.43 | O24: 0.74
K25: Apr | L25: 0 | M25: 1 | N25: 0.29 | O25: 0.41
K26: May | L26: 0 | M26: 6 | N26: 0.27 | O26: 0.5
K27: Jun | L27: 1 | M27: 2 | N27: 0.26 | O27: 0.4
K28: Jul | L28: 0 | M28: 2 | N28: 0.27 | O28: 0.35
K29: Aug | L29: 0 | M29: 2 | N29: 0.26 | O29: 0.36
K30: Sep | L30: 0 | M30: 2 | N30: 0.27 | O30: 0.37
K31: Oct | L31: 0 | M31: 2 | N31: 0.24 | O31: 0.32
K32: Nov | L32: 0 | M32: 2 | N32: 0.25 | O32: 0.36
K33: Dec | L33: 0 | M33: 3 | N33: 0.25 | O33: 0.35
K34: Annual | L34: =AVERAGE(L22:L33) -> 0.25 | M34: =MAX(M22:M33) -> 6 | N34: =AVERAGE(N22:N33) -> 0.3475 | O34: =MAX(O22:O33) -> 0.96
A48: Comments :

Sheet Particulates
A1: =+'Cover Page'!$B$29 -> Annual Performance Report 2024 | E1: =+'Cover Page'!$B$33 -> Enfinium Ferrybridge 1 Limited
A3: Monitoring of Particulate matter emissions | D3: Whole Installation | G3: See Notes in Cell Q3 | J3: =+A3 -> Monitoring of Particulate matter emissions | N3: Per Combustion Line | Q3: Notes:
