{"text_format":"1","workbook":"xlsx","n_sheets":22,"sheets":["Cover Page","Contents","Facility Info","Operational Data","Operational Summary","Perf. Form 1","Energy Form 1","Permit Compliance","Improvements","Public Liasion","Residue Quality ","Water","Air (periodic)","Air (CEMS)","HCl","SO2","NOx","TOC","Particulates","CO 95% 10 min","NH3","N2O"],"not_rendered":{"charts":8,"images":2,"macros":1,"external_links":2,"defined_names":24,"comments":0,"pivot_tables":0},"unopened":[],"bounds":{"document_bytes":16777216,"sheet_cells":100000,"rows_first":2000,"rows_last":500,"rows_between":2000,"halvings":0,"cell_chars":16384,"cell_head_chars":4096},"cells_cut":0,"cells_raw":0,"read":"whole","date_system":"1900"}

{"sheet":"Cover Page","index":0,"n_rows":53,"n_cols":14,"rows_kept":53,"cut":false,"hidden":false,"merged":[[13,13,18,15],[34,1,34,8],[0,3,5,6],[7,1,23,8],[28,1,28,8],[30,1,30,8],[32,1,32,8],[48,2,48,3],[48,6,48,8],[52,2,52,3],[36,1,36,8],[40,2,40,8],[42,2,42,4],[44,2,44,4],[46,2,46,3],[46,6,46,8]]}
[]
[null,null,null,null,null,null,null,null,null,null,null,null,null,"Version 20.1 "]
[]
[]
[]
[]
[]
[null,"Add photo"]
[]
[]
[]
[]
[null,null,null,null,null,null,null,null,null,null,null,null,null,"Notes:"]
[null,null,null,null,null,null,null,null,null,null,null,null,null,"This template may require adjustments by individual operators to meet specific reporting requirements as defined in the site Permit(s)"]
[]
[]
[]
[]
[]
[]
[]
[]
[]
[]
[]
[]
[]
[]
[null,"Annual Performance Report 2021"]
[]
[null,"Permit EPR/JP3135DK"]
[]
[null,"Kemsley Generating Station"]
[]
[null,"K3 CHP"]
[]
[null,"enfinium K3 CHP Operations Limited"]
[]
[null,"Year:",2021]
[]
[null,"Address:","Barge Way,  Sittingbourne, Kent, ME10 2FP"]
[]
[null,"Tel: ","01795 685740"]
[]
[null,"Email: ","www.wtikemsley.co.uk"]
[]
[null,"Prepared by:","Michelle Dunbar",null,null,"Position:","Environmental Manager"]
[]
[null,"Approved by:","Stuart Kirk",null,null,"Position:","Plant Manager"]
[]
[null,"Version:",1]
[]
[null,"Issue Date:","25.01.2022"]

{"sheet":"Contents","index":1,"n_rows":54,"n_cols":11,"rows_kept":54,"cut":false,"hidden":false,"merged":[[21,1,21,6],[23,1,23,6],[4,10,7,14],[8,1,8,6],[3,1,3,6],[4,1,4,6],[5,1,5,6],[6,1,6,6],[7,1,7,6],[20,1,20,6],[9,1,9,6],[10,1,10,6],[11,1,11,6],[12,1,12,6],[13,1,13,6],[14,1,14,6],[15,1,15,6],[16,1,16,6],[17,1,17,6],[18,1,18,6],[19,1,19,6],[43,0,46,9],[36,1,36,6],[37,1,37,6],[38,1,38,6],[39,1,39,6],[40,1,40,6],[41,1,41,6],[35,1,35,6],[22,1,22,6],[26,1,26,6],[27,1,27,6],[28,1,28,6],[29,1,29,6],[30,1,30,6],[31,1,31,6],[34,1,34,6]]}
[{"$f":"+'Cover Page'!$B$29","v":"Annual Performance Report 2021"},null,null,null,{"$f":"+'Cover Page'!$B$33","v":"Kemsley Generating Station"}]
[]
["Contents",null,null,null,null,null,null,null,null,null,"Notes:"]
["Section","Subject",null,null,null,null,null,"Page ",null,null,"Section references and Page nos. to be inserted"]
[null,"Facility Information",null,null,null,null,null,3,null,null,"Sections and Subjects may require adjustment by individual operators to meet specific reporting requirements as defined in the sites Permit(s)"]
[null,"Operational Data",null,null,null,null,null,4]
[null,"Operational Summary",null,null,null,null,null,5]
[null,"Performance Form 1",null,null,null,null,null,7]
[null,"Energy Form 1",null,null,null,null,null,8]
[null,"Permit Compliance",null,null,null,null,null,9]
[null,"Improvements",null,null,null,null,null,10]
[null,"Public Liasion",null,null,null,null,null,11]
[null,"Residue Quality ",null,null,null,null,null,12]
[null,"Emissions to Water",null,null,null,null,null,13]
[null,"Emissions to Air (periodically monitored)",null,null,null,null,null,14]
[null,"Emissions to Air (continuously monitored)",null,null,null,null,null,15]
[null,"Hydrogen Chloride emissions",null,null,null,null,null,16]
[null,"Sulphur Dioxdie emsissions",null,null,null,null,null,17]
[null,"Oxides of Nitrogen emissions",null,null,null,null,null,18]
[null,"Total Organic Carbon emissions",null,null,null,null,null,19]
[null,"Particulate Matter emissions",null,null,null,null,null,20]
[null,"Carbon Monoxide emissions - 10 minute average",null,null,null,null,null,21]
[null,"Ammonia emissions",null,null,null,null,null,22]
[null,"N2O emissions",null,null,null,null,null,23]
[]
["Version Control"]
["Section","Information",null,null,null,null,null,"Date"]
[]
[]
[]
[]
[]
[]
["Distribution"]
["Copy","Name, Role",null,null,null,null,null,"No."]
[]
[]
[]
[]
[]
[]
[]
[]
["This report is required under the Industrial Emissions Directive’s Article 55(2) requirements on reporting and public information on waste incineration plants and co-incineration plants, which require the operator to produce an annual report on the functioning and monitoring of the plant and make it available to the public. "]
[]
[]
[]
[null,null,null,null,null,null,"Environmental Manager"]
[]
[]
[]
[]
[]
[null,null,"21.01.2022"]

{"sheet":"Facility Info","index":2,"n_rows":22,"n_cols":11,"rows_kept":22,"cut":false,"hidden":false,"merged":[[4,0,17,8],[21,0,53,8],[4,10,13,13],[21,10,30,13]]}
[{"$f":"+'Cover Page'!$B$29","v":"Annual Performance Report 2021"},null,null,null,{"$f":"+'Cover Page'!$B$33","v":"Kemsley Generating Station"}]
[]
["Plant Description and Design",null,null,null,null,null,null,null,null,null,"Notes:"]
[]
["The Kemsley Energy Recovery Facility (ERF) recovers value (primarily in the form of energy, but also recycled materials in the form of incinerator bottom ash aggregate (IBAA) and metals recovered from the incinerator bottom ash (IBA) from up to 657,000 tonnes per annum (tpa) residual waste  in two incineration lines.  The imported waste is primarily commercial and industrial (C&I) waste and residual Municipal Solid Waste (MSW), collected by private waste management companies. \nThe Installation forms part of the Kemsley Paper Mill installation which currently comprises the DS Smith Kemsley Paper Mill and the E.On combined heat and power facility. It is located at grid reference 592170,166640 which is to the east of Kemsley, 3 km north of Sittingbourne and 2.5 km south east of Iwade.\nPlanning permission for the site was granted in 2012 and construction of the facility has been completed. Some landscaping works remain, along with correction of various minor snags and defects.\nThe existing permit (Permit number EPR/JP3135DK) allows the facility to accept municipal, industrial and commercial waste and undertake the following activities:\n•\treceipt and storage of waste pending processing;\n•\telectricity and steam generation; and\n•\tdisposal of waste arising (incinerator bottom ash (IBA) and air pollution control residues (APCr)).\n\n",null,null,null,null,null,null,null,null,null,"Include summary of plant design, design capacity, no. of combustion lines, electrical and heat capacity and any other general information that descibes the facility, its location and purpose "]
[]
[]
[]
[]
[]
[]
[]
[]
[]
[]
[]
[]
[]
[]
["Summary of Operational Processes and Procedures"]
[]
["The facility processes waste using air cooled, moving grate technology. The energy recovered from the combustion of waste is utilised (in the form of high-pressure steam) to produce electrical power through a steam turbine and generator unit. \nThe facility has combined heat and power (CHP) capability and supplies the adjacent DS Smith paper mill with steam. \nThe combustion of waste releases flue gases which are treated in order to comply with the requirements of the Industrial Emissions Directive and the permit. In addition to primary and secondary air injection, additional support in combustion is provided through tertiary air injection or flue gas recirculation.\nUrea is added at various stages of the boiler’s combustion chamber (first pass) to reduce nitrogen oxides (NOx). Hydrated Lime and powdered activated carbon (PAC) are used within the dry flue gas treatment (FGT) system. \nThe lime reduces acid gas emissions while the activated carbon reduces mercury and the formation of dioxins/furans. The by-products from both reactions are captured in the fabric filter as Air Pollution Control Residues (APCR). \nThe facility is designed to export approximately 45MW of electricity to the grid, and 55 MWth of steam to the mill - when the paper mill is running at capacity.  ",null,null,null,null,null,null,null,null,null,"Include summary of key processes and procedures such as (but not limited to); waste reception, control rooms, grate, bed and bolier, energy & heat  generation, cooling systems, residue management, emission controls, health and safety systems, maintenance"]

{"sheet":"Operational Data","index":3,"n_rows":67,"n_cols":11,"rows_kept":67,"cut":false,"hidden":false,"merged":[[3,1,3,2],[7,1,20,1],[23,1,26,1],[28,1,29,1],[54,0,58,0],[5,10,6,10],[7,10,18,10],[33,1,40,1],[30,2,30,5],[30,6,30,7]]}
[{"$f":"+'Cover Page'!$B$29","v":"Annual Performance Report 2021"},null,null,null,{"$f":"+'Cover Page'!$B$33","v":"Kemsley Generating Station"}]
[]
["Operational Data",null,null,null,null,null,null,null,null,null,"Notes:"]
["Plant Size",657000,null,"tonnes pa",55,"MWth",45,"MWe",null,null,"* - RDF to include SRF "]
["No. of combustion lines",2,null,"No. of Turbines:",null,1,null,null,null,null,"** - CHP plants only"]
[null,null,null,null,null,null,null,null,null,null,"2020 updates include;  heat in MWh, water in Litres, NCV in MJ/kg"]
["Waste types received","Unit","Q1","Q2","Q3","Q4","Year Total","%"]
["Household / Local Authority","tonnes",53904.859999999971,58799.62,82041.339999999982,83783.080000000016,{"$f":"SUM(C8:F8)","v":278528.89999999997},{"$f":"IF(G8>0,G8/$G$18,\"-\")","v":0.52848841394674528},null,null,"Availabiity Definition: 'the availability of a line is to be calculated by the number of hours the line reported Continuously Monitored emission levels to the Regulator through the calendar year divided by the total number of hours in that year. \nThe overall plant availability is calculated as the Mean of all lines in the plant. For clarity this includes periods of Other Than Normal Operating Conditions (OTNOC) and abnormal operation.'  \n\nRationale: The primary function of an Energy from Waste facility is the disposal of waste. It follows therefore that the availability of a plant is determined by the period of time a facility spends undertaking this activity."]
["Commercial & Industrial ",null,67198.25999999998,20844.939999999999,21042.639999999999,19539.240000000002,{"$f":"SUM(C9:F9)","v":128625.07999999999},0.24405677300622389]
["Hazardous ",null,null,null,null,null,0,"-"]
["Clinical",null,null,null,null,null,0,"-"]
["Waste wood (biomass) ",null,null,null,null,null,0,"-"]
["Refuse Derived Fuel * - H'hold/LA",null,null,null,null,null,{"$f":"SUM(C13:F13)","v":0},"-"]
["Refuse Derived Fuel *  - C&I",null,20315.120000000006,21981.619999999995,42125.659999999982,35452.959999999999,119875.35999999999,0.22745481304703072]
["Other [Please specify]",null,null,null,null,null,0,"-"]
["Other [Please specify]"]
["Other [Please specify]"]
["Total waste received",null,{"$f":"SUM(C8:C17)","v":141418.23999999996},{"$f":"SUM(D8:D17)","v":101626.18},{"$f":"SUM(E8:E17)","v":145209.63999999996},{"$f":"SUM(F8:F17)","v":138775.28000000003},{"$f":"SUM(C18:F18)","v":527029.34},{"$f":"IF(G18>0,G18/$G$18,\"-\")","v":1}]
["Rejected Waste ",null,0,0,0,0,{"$f":"SUM(C19:F19)","v":0},{"$f":"IF(G19>0,G19/$G$18,\"-\")","v":"-"}]
["Unprocessed waste transferred out"]
["Total waste combusted",null,138371.91076690675,105574.7086699295,144809.38979988097,137995.4022842407,{"$f":"SUM(C21:F21)","v":526751.41152095795},{"$f":"IF(G21>0,G21/$G$21,\"-\")","v":1}]
[]
["Energy Useage / Export","Unit","Q1","Q2","Q3","Q4","Year Total","KWh/te"]
["Power Generated","MWh",95909.522717054846,79601.378569459732,116291,106517,{"$f":"SUM(C24:F24)","v":398318.90128651459},{"$f":"IF(G24>0,G24*1000/G21,\"-\")","v":756.18003592320053}]
["Power Exported",null,85338,71259,104112,95116,{"$f":"SUM(C25:F25)","v":355825},{"$f":"IF(G25>0,G25*1000/G21,\"-\")","v":675.50839393591775}]
["Power Used on site",null,{"$f":"C24-C25+C27","v":11146.522717054846},{"$f":"D24-D25+D27","v":9371.3785694597318},12285,11533,{"$f":"SUM(C26:F26)","v":44335.901286514578},{"$f":"IF(G26>0,G26*1000/G21,\"-\")","v":84.168547661785581}]
["Power Imported",null,575,1029,106,132,1842,{"$f":"IF(G27>0,G27*1000/G21,\"-\")","v":3.4969056745028051}]
["Parasitic Load","%",0.13700000000000001,0.13400000000000001,0.106,0.1196,{"$f":"IF(G24>0,1-G25/(G24+G27),\"-\")","v":0.11079518549657141}]
["Thermal Energy Produced **","MWh",401597.06055793748,306209.82278765406,418154.04867371445,400867.44693009742,{"$f":"SUM(C29:F29)","v":1526828.3789494035},{"$f":"IF(G29>0,G29*1000/G21,\"-\")","v":2898.5748221173117}]
["Thermal Energy Exported **",null,67148.846752685437,37823.023534640219,61574.748617484103,68139.535109622171,234686.15401443193,{"$f":"IF(G30>0,G30*1000/G21,\"-\")","v":445.53493143339102}]
["R1 value",null,1.03,null,null,null,"Design / Operational"]
[]
["Waste Disposal & Recovery","Unit","Q1","Q2","Q3","Q4","Year Total","% inputs"]
["APC Residues - produced","tonnes",4222.32,3342.66,4096.5599999999995,4002.44,{"$f":"SUM(C34:F34)","v":15663.98},{"$f":"IF(G34>0,G34/$G$21,\"-\")","v":2.9736949265634336E-2}]
["IBA - produced",null,30479.315999999977,23553.68,31526.550000000017,29485.68,115045.226,{"$f":"IF(G35>0,G35/$G$21,\"-\")","v":0.21840515940491728}]
["Metals recycling",null,282.56,239.4,225.1,343.9,{"$f":"SUM(C36:F36)","v":1090.96},{"$f":"IF(G36>0,G36/$G$21,\"-\")","v":2.0711097799433116E-3}]
["Water - 16 10 02",null,3236,1266.5,546,104,{"$f":"SUM(C37:F37)","v":5152.5},{"$f":"IF(G37>0,G37/$G$21,\"-\")","v":9.7816539022126513E-3}]
["13 05 07",null,null,20,0,0,20,{"$f":"IF(G38>0,G38/$G$21,\"-\")","v":3.7968574098836104E-5}]
["15 01 06",null,null,null,0.19,0.64,0.83000000000000007,{"$f":"IF(G39>0,G39/$G$21,\"-\")","v":1.5756958251016984E-6}]
["17 02 01",null,null,null,0.68,1.1200000000000001,1.8000000000000003,3.4171716688952497E-6]
["20 03 01",null,0,0,0.67,0,0.67,{"$f":"IF(G41>0,G41/$G$18,\"-\")","v":1.2712764720081809E-6}]
[]
["Raw Material Usage","Unit","Q1","Q2","Q3","Q4","Year Total","kg or Ltr /te"]
["Mains Water","ltrs",5354000,4206000,3113000,2976000,{"$f":"SUM(C44:F44)","v":15649000},{"$f":"IF(G44>0,G44/$G$21,\"-\")","v":29.708510803634308}]
["Other Water","ltrs",null,null,null,null,0,{"$f":"IF(G45>0,G45/$G$21,\"-\")","v":"-"}]
["Ammonia","kgs",null,null,null,null,0,{"$f":"IF(G46>0,G46/$G$21,\"-\")","v":"-"}]
["Urea","kgs",136646,122346.54856798977,132773,120197,511962.54856798978,{"$f":"IF(G47>0,G47/$G$21,\"-\")","v":0.97192439805663478}]
["Activated Carbon","kgs",45183,34075.017597293852,46333,43598,169189.01759729386,0.32119328756760684]
["Lime / hydrated lime","kgs",{"$f":"1963*1000","v":1963000},{"$f":"1643*1000","v":1643000},{"$f":"1927*1000","v":1927000},{"$f":"1901*1000","v":1901000},7434000,14.112918992537379]
["Fuel oil","ltrs",668741,575975.6875,186680,221095.2734375,1652491.9609375,3.1371381733293222]
["Gas","cf",0,0,0,0,0]
["Other",null,0,0,0,0,0]
[null,null,"21.01.2022"]
["Summary ","Line/Unit","Q1","Q2","Q3","Q4","Year Total",null,null,"Hrs in year *"]
["Availability of waste combustion by line, hrs",1,2047,1630,1991,1965,{"$f":"SUM(C55:F55)","v":7633},{"$f":"G55/J55","v":0.8713470319634703},null,8760]
[null,2,1814,1368,2185,2036,7403,{"$f":"G56/J55","v":0.84509132420091326}]
[null,3,null,null,null,null,0,"x %"]
[null,4,null,null,null,null,0,"x %"]
[null,5,null,null,null,null,{"$f":"SUM(C59:F59)","v":0},"x %"]
["Overall Availability, mean avg. of all lines, hrs",null,null,null,null,null,{"$f":"AVERAGE(G55:G56)","v":7518},{"$f":"G60/J55","v":0.85821917808219184}]
["Hours of turbine operations, hrs",1,2041,1601,2179,2159,7980,{"$f":"G61/J55","v":0.91095890410958902}]
["Hours of turbine operations, hrs",2]
["Hours of heat / steam export",null,2147,1640,2162,2088,8037,{"$f":"IF(B63>0,G62/J55,\"n/a\")","v":"n/a"}]
["Net Calorific Value of waste","MJ/kg",10534.850307466879,10787.084910144569,10594.26580446797,10623.402283887257,{"$f":"AVERAGE(C64:F64)","v":10634.900826491668},"-"]
["Abnormal Events","qty.",0,1,0,0,0,{"$f":"IF(G65>0,\"yes\",\"no\")","v":"no"}]
["Abnormal operation","hours",0,0.5,0,0,0,{"$f":"+(G66)/J55","v":0}]
["Permit (ELV) Breaches","qty.",null,1,null,null,1,{"$f":"IF(G67>0,\"yes\",\"no\")","v":"yes"}]

{"sheet":"Operational Summary","index":4,"n_rows":53,"n_cols":11,"rows_kept":53,"cut":false,"hidden":false,"merged":[[21,0,42,8],[4,10,5,13],[21,10,30,13],[4,0,4,8]]}
[{"$f":"+'Cover Page'!$B$29","v":"Annual Performance Report 2021"},null,null,null,{"$f":"+'Cover Page'!$B$33","v":"Kemsley Generating Station"}]
[]
["Summary of Plant Operations and Maintenance during the reporting year",null,null,null,null,null,null,null,null,null,"Notes:"]
[]
["Following commercial operations of the facility in July 2020 each of the two boiler plants have undergone a thorough examination and maintenance overhaul, in line with the original equipment manufacturers recommendations and PSSR Regulations. Legacy defects continue to be managed from the construction phase, all of which have a resoution date of July 2022 .\n\nDetailed PPM (planned preventative maintenance) activities have been produced and managed within the companies CMMS (Computerised Maintenance management System), which comply with the original equipment manufacturers recommendations for preventative maintenance. This will ensure the plant is operated at high levels of availability and within environmental limits.\n\nOperational routines have been developed to ensure safe and Environmentally compliant operation of the facility that include, but not limited to: Fire detection and suppression systems, receipt of consumable materials for the abatement and treatment of process effluent and gasses, safe start-up and shut-down of the boiler plants, emergency response plans and Environmental compliance training. \n\nA management of change (MoC) process has been established since commercial operation that evaluates and manages upgrades to the facilities installed equipment.MoC projects currently underway are:\n\n1. Continuous Emissions Measurement System (CEMS)  commenced the concept phase in 2020 and will be completed in Q1 2022 . When complete, the installation of a fourth CEM unit will enable enfinium Kemsley to have 100% redundancy on the CEMS for both boiler plants. \n2. Modifications to the ash discharging system which will reduce the requirement to interrupt the operating boiler following blockages within this system. Completion of first boiler Q2 2022. ",null,null,null,null,null,null,null,null,null,"Include summary of key operational and/or maintenance activity undertaken in the year, such as any major component upgrades and/or replacements "]
[]
[]
[]
[]
[]
[]
[]
[]
[]
[]
[]
[]
[]
[]
["Summary of Residue Handling for the reporting year"]
[]
["APCr is transferred to Augean (Peterborough) where it is treated and landfilled.  enfinium continue to investigate opportunities for recycling of this material.\n\nIBA is transferred to Fortis IBA (Andover), where it is recycled.  Metals are removed and IBAA is produced for use in construction.\n\nThe IBA is sampled and analysis undertaken twice monthly to assess its suitability for reporocessing at Fortis.  Core hazard properties are assessed, and as from July 2021, quarterly samples were analysed as per compliance requirements of the permit.\nAPCR samples are also taken quarterly in line with permit compliance requirements.\nIBA has consistently proven to be non-hazardous, with no failures during 2021.",null,null,null,null,null,null,null,null,null,"Include in here a summary of residue handling regimes and destinations "]
[]
[]
[]
[]
[]
[]
[]
[]
[]
[]
[]
[]
[]
[]
[]
[]
[]
[]
[]
[]
[]
[]
[]
[]
[null,null,null,null,null,null,"Environmental Manager"]
[]
[]
[]
[]
[]
[null,null,"21.01.2022"]

{"sheet":"Perf. Form 1","index":5,"n_rows":55,"n_cols":10,"rows_kept":55,"cut":false,"hidden":false,"merged":[[21,0,21,1],[21,2,21,3],[21,4,21,5],[21,6,21,7],[21,8,21,9],[19,6,19,7],[9,0,9,9],[10,0,10,1],[10,2,10,3],[10,4,10,5],[10,6,10,7],[10,8,10,9],[11,0,11,1],[11,2,11,3],[11,4,11,5],[11,6,11,7],[11,8,11,9],[12,0,12,1],[12,2,12,3],[12,4,12,5],[12,6,12,7],[12,8,12,9],[15,0,15,1],[15,2,15,3],[2,0,2,4],[2,6,2,8],[3,1,3,4],[5,3,5,4],[5,6,5,7],[8,0,8,1],[8,2,8,3],[8,4,8,5],[8,6,8,7],[8,8,8,9],[15,4,15,5],[15,6,15,7],[15,8,15,9],[16,0,16,9],[13,0,13,1],[13,2,13,3],[13,4,13,5],[13,6,13,7],[13,8,13,9],[14,0,14,3],[14,4,14,5],[14,6,14,7],[14,8,14,9],[17,0,17,1],[17,2,17,3],[17,4,17,5],[17,6,17,7],[17,8,17,9],[18,0,18,1],[18,4,18,5],[18,6,18,7],[18,8,18,9],[19,0,19,1],[18,2,18,3],[19,4,19,5],[19,8,19,9],[20,0,20,1],[20,2,20,3],[20,4,20,5],[20,6,20,7],[20,8,20,9],[19,2,19,3],[22,0,22,1],[22,2,22,3],[22,4,22,5],[22,6,22,7],[22,8,22,9],[23,0,23,3],[23,4,23,5],[23,6,23,7],[23,8,23,9],[32,0,32,3],[32,7,32,8],[33,0,33,3],[33,4,33,5],[33,7,33,8],[34,0,34,3],[34,4,34,5],[34,7,34,8],[24,0,24,3],[24,4,24,5],[24,6,24,7],[24,8,24,9],[26,0,26,9],[27,0,29,9],[37,0,37,3],[37,4,37,5],[37,7,37,8],[38,0,38,3],[38,4,38,5],[38,7,38,8],[35,0,35,3],[35,4,35,5],[35,7,35,8],[36,0,36,3],[36,4,36,5],[36,7,36,8],[48,0,48,1],[50,0,50,9],[51,0,52,9],[39,0,39,9],[40,0,41,9],[44,0,44,1],[44,2,44,9],[46,0,46,1],[47,0,47,1]]}
[{"$f":"+'Cover Page'!C39","v":2021}," Annual Reporting Performance Form 1"]
[]
[{"$f":"+'Cover Page'!B31","v":"Permit EPR/JP3135DK"},null,null,null,null,"Operator: ",{"$f":"+'Cover Page'!B37:I37","v":0}]
["Facility:",{"$f":"+'Cover Page'!B33:I33","v":"Kemsley Generating Station"},null,null,null,"Form:","Performance 1"]
[]
["Reporting  Period from: ",null,null,"January",null,"to:","December"]
[]
[{"$f":"+A1","v":2021},"Annual Reporting of Waste Disposal and Recovery"]
["Waste Description",null,"Disposal Route(s)",null,"Disposal Tonnes",null,"Recovery Tonnes",null,"% / tonne of waste incinerated"]
["1) Hazardous Wastes"]
["APC Residues",null,"D09",null,{"$f":"'Operational Data'!G34","v":15663.98},null,0,null,{"$f":"IF((E11+G11)>0,(E11+G11)/'Operational Data'!$G$21, \"-\")","v":2.9736949265634336E-2}]
["IBA",null,null,null,0,null,0,null,0]
["19 01 11",null,"D05",null,25,null,null,null,{"$f":"IF((E13+G13)>0,(E13+G13)/'Operational Data'!$G$21, \"-\")","v":4.7460717623545125E-5}]
["13 05 07",null,"D09",null,20,null,null,null,{"$f":"IF((E14+G14)>0,(E14+G14)/'Operational Data'!$G$21, \"-\")","v":3.7968574098836104E-5}]
["Total Hazardous Waste",null,null,null,{"$f":"SUM(E11:F14)","v":15708.98},null,{"$f":"SUM(G11:H14)","v":0},null,{"$f":"IF((E15+G15)>0,(E15+G15)/'Operational Data'!$G$21, \"-\")","v":2.9822378557356716E-2}]
[]
["2) Non-Hazardous Wastes"]
["IBA",null,"R5",null,null,null,{"$f":"'Operational Data'!G35","v":115045.226},null,{"$f":"IF((E18+G18)>0,(E18+G18)/'Operational Data'!$G$21, \"-\")","v":0.21840515940491728}]
["Ferrous Metal",null,"R4",null,null,null,{"$f":"'Operational Data'!G36","v":1090.96},null,{"$f":"IF((E19+G19)>0,(E19+G19)/'Operational Data'!$G$21, \"-\")","v":2.0711097799433116E-3}]
["Process Water",null,"D09",null,{"$f":"'Operational Data'!G37","v":5152.5},null,null,null,{"$f":"IF((E20+G20)>0,(E20+G20)/'Operational Data'!$G$21, \"-\")","v":9.7816539022126513E-3}]
["15 01 06",null,"R5",null,null,null,0.83,null,{"$f":"IF((E21+G21)>0,(E21+G21)/'Operational Data'!$G$21, \"-\")","v":1.5756958251016982E-6}]
["17 02 01",null,"R3",null,null,null,1.8,null,{"$f":"IF((E22+G22)>0,(E22+G22)/'Operational Data'!$G$21, \"-\")","v":3.4171716688952492E-6}]
["20 03 01",null,"R1",null,null,null,0.67,null,{"$f":"IF((E23+G23)>0,(E23+G23)/'Operational Data'!$G$21, \"-\")","v":1.2719472323110094E-6}]
["Total Non-Hazardous Waste",null,null,null,{"$f":"SUM(E18:F23)","v":5152.5},null,{"$f":"SUM(G18:H23)","v":116139.486},null,{"$f":"IF((E24+G24)>0,(E24+G24)/'Operational Data'!$G$21, \"-\")","v":0.23026418790179956}]
["TOTAL WASTE",null,null,null,{"$f":"+E24+E15","v":20861.48},null,{"$f":"+G24+G15","v":116139.486},null,{"$f":"IF((E25+G25)>0,(E25+G25)/'Operational Data'!$G$21, \"-\")","v":0.26008656645915629}]
[]
["Operator’s comments :"]
[]
[]
[]
[]
[{"$f":"+A1","v":2021},"Annual Reporting of Water and Other Raw Material Usage"]
["Raw Material",null,null,null,"Usage",null,"Unit","Specific Useage",null,"Unit"]
["Mains Water",null,null,null,{"$f":"+'Operational Data'!G44/1000","v":15649},null,"m3",{"$f":"IF(E34>0,E34/'Operational Data'!$G$21,\"-\")","v":2.9708510803634305E-2},null,"m3/te"]
["Total Water",null,null,null,{"$f":"+'Operational Data'!G44/1000","v":15649},null,"m3",{"$f":"IF(E35>0,E35/'Operational Data'!$G$21,\"-\")","v":2.9708510803634305E-2},null,"m3/te"]
["Urea / Ammonia",null,null,null,{"$f":"+'Operational Data'!G47","v":511962.54856798978},null,"kg",{"$f":"IF(E36>0,E36/'Operational Data'!$G$21,\"-\")","v":0.97192439805663478},null,"kg/te"]
["Activated Carbon",null,null,null,{"$f":"+'Operational Data'!G48","v":169189.01759729386},null,"kg",{"$f":"IF(E37>0,E37/'Operational Data'!$G$21,\"-\")","v":0.32119328756760684},null,"kg/te"]
["Lime / hydrated lime / Sodium Bicarb.",null,null,null,{"$f":"+'Operational Data'!G49","v":7434000},null,"kg",{"$f":"IF(E38>0,E38/'Operational Data'!$G$21,\"-\")","v":14.112918992537379},null,"kg/te"]
[]
["Operator’s comments : "]
[]
[]
[]
[{"$f":"+A32","v":2021},"Annual Reporting of other performance indicators "]
["Parameter",null,"Results by Line"]
[null,null,"A1","A2","A3","A4","A5",null,"Turbine 1","Turbine 2"]
["Operating hours for the year, hours",null,{"$f":"'Operational Data'!G55","v":7633},{"$f":"'Operational Data'!G56","v":7403},null,null,null,null,{"$f":"'Operational Data'!G61","v":7980}]
["Number of periods of abnormal operation, qty.",null,0,0.5]
["Cumulative hours of abnormal operation for this year, hours",null,0,0.5]
[]
["Operator’s comments :"]
[]
[]
[]
["Signed: ",null,null,null,null,null,"Date:"]

{"sheet":"Energy Form 1","index":6,"n_rows":53,"n_cols":7,"rows_kept":53,"cut":false,"hidden":false,"merged":[[2,6,2,8],[4,1,4,4],[6,3,6,4],[6,6,6,7],[8,0,8,2],[8,3,8,4],[8,6,8,8],[9,0,9,2],[9,3,9,4],[9,6,9,8],[10,0,10,2],[10,3,10,4],[10,6,10,8],[11,0,11,2],[11,3,11,4],[11,6,11,8],[12,0,12,2],[12,3,12,4],[12,6,12,8],[13,0,13,2],[13,3,13,4],[13,6,13,8],[14,0,14,2],[14,3,14,4],[14,6,14,8],[15,0,15,2],[15,3,15,4],[15,6,15,8],[17,0,17,8],[18,0,24,8]]}
[{"$f":"+'Cover Page'!C39","v":2021}," Annual Reporting of Energy Usage/Export"]
[]
[{"$f":"+'Cover Page'!B31","v":"Permit EPR/JP3135DK"},null,null,null,null,"Operator: ",{"$f":"+'Cover Page'!B37:I37","v":0}]
[]
["Facility:",{"$f":"+'Cover Page'!B33:I33","v":"Kemsley Generating Station"},null,null,null,"Form:","Energy 1"]
[]
["Reporting  Period from: ",null,null,"January",null,"to:",{"$f":"+'Perf. Form 1'!G6:H6","v":"December"}]
[]
["Energy Source",null,null,"Energy Usage",null,"Unit","Specific Useage (KWh/tonne incinerated"]
["Electricity Produced",null,null,{"$f":"+'Operational Data'!G24","v":398318.90128651459},null,"MWh",{"$f":"+'Operational Data'!H24","v":756.18003592320053}]
["Electricity Imported   ",null,null,{"$f":"+'Operational Data'!G27","v":1842},null,"MWh",{"$f":"+'Operational Data'!H27","v":3.4969056745028051}]
["Electricity Exported",null,null,{"$f":"+'Operational Data'!G25","v":355825},null,"MWh",{"$f":"+'Operational Data'!H25","v":675.50839393591775}]
["Gas Oil",null,null,{"$f":"'Operational Data'!G50*0.82/1000","v":1355.04340796875},null,"tonnes"]
["Steam/hot water exported",null,null,{"$f":"+'Operational Data'!G30","v":234686.15401443193},null,"GWh",{"$f":"+'Operational Data'!H30","v":445.53493143339102}]
[]
[]
[]
["Operator’s comments :"]
[]
[]
[]
[]
[]
[]
[]
[]
[]
[]
["Signed: ",null,null,null,null,null,"Date:"]
[]
[]
[]
[]
[]
[]
[]
[]
[]
[]
[]
[]
[]
[]
[]
[]
[]
[null,null,null,null,null,null,"Environmental Manager"]
[]
[]
[]
[]
[]
[null,null,"21.01.2022"]

{"sheet":"Permit Compliance","index":7,"n_rows":53,"n_cols":7,"rows_kept":53,"cut":false,"hidden":false,"merged":[[8,6,17,9],[27,2,27,3],[9,0,9,1],[10,0,10,1],[11,0,11,1],[12,0,12,1],[13,0,13,1],[16,0,16,1],[19,3,19,4],[20,3,20,4],[18,0,18,5],[25,3,25,4],[26,3,26,4],[24,0,24,2],[7,0,7,1],[7,2,7,3],[8,0,8,1],[14,0,14,1],[15,0,15,1]]}
[{"$f":"+'Cover Page'!$B$29","v":"Annual Performance Report 2021"},null,{"$f":"+'Cover Page'!$B$33","v":"Kemsley Generating Station"}]
[]
["Summary of Permit Compliance"]
[]
["Compliance with permit limits for continuously monitored pollutants"]
[]
["The plant met its emission limits as shown in the table below:"]
["Substance",null,"% time compliant during operation",null,null,null,"Notes:"]
[null,null,"Half-hourly","Daily",null,null,"Report to 2 decimal places, i.e. xx.xx%\n\nPlease provide a brief summary of each notification or non-compliance in the table (rather than just referring to notifications that were sent to the Regulator).  \n\n"]
["Particulates",null,1,1]
["Oxides of nitrogen",null,1,1]
["Sulphur dioxide",null,0.99990000000000001,1]
["Carbon monoxide",null,1,1]
["Total organic carbon",null,1,1]
["Hydrogen chloride",null,1,1]
["Hydrogen fluoride",null,1,1]
[]
[]
["Summary of any notifications or non-compliances under the permit"]
["Date","Summary of notification or non-compliance [including Line/Reference]","Reason ","Measures taken to prevent reoccurrence"]
["2021-04-11","TOC Data loss","2x half hour averages N/A due to hydrogen leak shutting down H supply to FID.","Alarm/ interlock modifications that ensure shutdown is initiated in the instance of H alarms being triggered."]
["2021-05-11","TOC Data loss","200.48mg/Nm3 SO2 ELV breach on 10/05/2021 08:00-08:29","Issue was as result of a failure of the abatement system.  Operator carried out actions as per procedural requirements."]
[]
[]
["Summary of any complaints received and actions to taken to resolve them."]
["Date","Summary of complaint [including Line/Reference]","Reason *","Measures taken to prevent reoccurrence"]
[]
[null,null,"* including whether substantiated by the operator or the EA"]
[]
[]
[]
[]
[]
[]
[]
[]
[]
[]
[]
[]
[]
[]
[]
[]
[]
[]
[null,null,null,null,null,null,"Environmental Manager"]
[]
[]
[]
[]
[]
[null,null,"21.01.2022"]

{"sheet":"Improvements","index":8,"n_rows":53,"n_cols":5,"rows_kept":53,"cut":false,"hidden":false,"merged":[[37,0,37,9],[38,0,47,9],[4,0,4,9],[5,0,13,9],[15,0,15,9],[16,0,24,9],[26,0,26,9],[27,0,35,9]]}
[{"$f":"+'Cover Page'!$B$29","v":"Annual Performance Report 2021"},null,null,null,{"$f":"+'Cover Page'!$B$33","v":"Kemsley Generating Station"}]
[]
["Summary of Plant Improvements"]
[]
["Summary of any efficiency improvements that have been completed within the year."]
["N/A.  As the plant was commisioined during the first half of 2020, efficiency improvement opportunities are yet to be identified.  R1 application submitted Q1 2021 and R1 status approved (rating calculation = 1.03)."]
[]
[]
[]
[]
[]
[]
[]
[]
[]
["Summary of any permit improvement conditions that have been completed within the year and the resulting environmental benefits."]
["Improvement conditions relating to commisioning of the plant were submitted in 2020.\n- IC1 - Environmental Management System.  Submitted 15/07/2021, discharged 22/07/2021.  Kemsley has successfully achieved ISO 14 001 cretification in November 2021, thereby ensuring that a robust management system is in place to reduce environmetal impacts and risk where possible, and to ensure continuous improvement as per standard.\n- IC2: Commissioning report - discharged 02/11/2021\n- IC3: Performance and optimisation of the SNCR system.  Submitted 21/12/2021.  Awaiting response.\n- IC5 - T2S (Residence time) testing report - discharged 06/08/2021\n- PO04 - discharged 09/08/2021\n- PO5 - Drainage: submitted as-built drawings 14/05/2021, discharged 18/05/2021\n- IC7 - incineration of sludges: submitted 25/08//2021 - awaiting response\n- IC4 - Air dispersion Modeling - submitted 08/10/2021 - awaiting response \n\nThese reports provide evidence that the plant has been installed and operated as per design/ permit requirements.\nAwaiting response/ confirmation of discharge for a number of submitted ICs."]
[]
[]
[]
[]
[]
[]
[]
[]
[]
["Summary of any changes to the plant or operating techniques which required a variation to the permit and a summary of the resulting environmental impact."]
["A varied permit was issued on 29.07.2020.  This included an increase in throughput tonnages from 550,000tpa to 657,000tpa.  The modelling carried out to support the variation application indicted no significant environmental impact.\nThe variation also included a change from the half-hour average for CO (100mg/nm3) to the 10-minute average (at 150mg/nm3).  This has resulted in no reportable CO permit breaches since implementation in September, as the plant CO emissions have been compliant with the IED requirement of 95% compliance with the ELV.  This variation has resulted in no CO breaches during 2021.\nNo variation applications relating to operating techniques submitted in 2021."]
[]
[]
[]
[]
[]
[]
[]
[]
[]
["Summary of any other improvements made to the plant or planned to be made and a summary of the resulting environmental benefits."]
["Several modifications have been effected to improve visibility of the CEMS status and ensure that appropriate actions are taken should there be  negative readings for TOC, CO or Particulates be received.  \nAdditional alarms and interlocks have been added to the DCS system that ensures automatic shutdown of the affected boiler in the event of a negative readings or loss of communication between the CDAS and the DCS. \na.\tTo further enhance the control room ELV visibility, enfinium have commissioned A1-Cbiss to supply additional hardware and software to display live ELV data and alarm status, directly from the CDAS system, to a 65” wall mounted display screen on the main operating panel in the control room.\nThe improvements have resulted in no further notifiable data loss incidents (with a single incident being reported in April 2021) prior to the implementation of the alarm modifications.\nThe facility has procured a second standby CEM to ensure no data is lost during malfunction of either of the main CEMs on Line 1 or Line 2.  Installation is planned for Mid-March during the planned common outage, 2022."]
[]
[]
[]
[]
[]
[]
[]
[]
[]
[]
[]
[]
[]
[null,null,"21.01.2022"]

{"sheet":"Public Liasion","index":9,"n_rows":53,"n_cols":5,"rows_kept":53,"cut":false,"hidden":false,"merged":[[18,0,18,1],[18,2,18,9],[5,0,5,1],[5,2,5,9],[6,0,7,1],[6,2,7,9],[8,0,9,1],[8,2,9,9],[10,0,11,1],[10,2,11,9],[12,0,13,1],[12,2,13,9],[14,0,14,1],[19,0,20,1],[19,2,20,9],[21,0,22,1],[21,2,22,9],[23,0,24,1],[23,2,24,9],[25,0,26,1],[25,2,26,9],[27,0,28,1],[27,2,28,9],[30,0,30,9]]}
[{"$f":"+'Cover Page'!$B$29","v":"Annual Performance Report 2021"},null,null,null,{"$f":"+'Cover Page'!$B$33","v":"Kemsley Generating Station"}]
[]
["Details of Public & Stakeholder Liasion"]
[]
["Summary of events held during the reporting year."]
["Date",null,"Description"]
["2021-02-02",null,"Quarterly Environmental meeting with DS Smith and E.On"]
[]
["2021-05-10",null,"Quarterly Environmental meeting with DS Smith and E.On"]
[]
["2021-08-17",null,"Quarterly Environmental meeting with DS Smith and E.On"]
[]
["2021-11-17",null,"Quarterly Environmental meeting with DS Smith and E.On"]
[]
["16.11.2021",null,"Kemsley Fields Business Park Forum (KFBPF)"]
[]
[]
["List of events planned for next year"]
["Date",null,"Description"]
["Q1",null,"Quarterly Environmental meeting with DS Smith and E.On"]
[]
["Q2",null,"Quarterly Environmental meeting with DS Smith and E.On"]
[]
["Q3",null,"Quarterly Environmental meeting with DS Smith and E.On"]
[]
["Q4",null,"Quarterly Environmental meeting with DS Smith and E.On"]
[]
[]
[]
[]
["If you wish to be involved in the public liasion programme, please contact _________________"]
[]
[]
[]
[]
[]
[]
[]
[]
[]
[]
[]
[]
[]
[]
[]
[]
[]
[]
[]
[]
[]
[null,null,"21.01.2022"]

{"sheet":"Residue Quality ","index":10,"n_rows":53,"n_cols":6,"rows_kept":53,"cut":false,"hidden":false,"merged":[[16,0,17,1],[16,2,17,6],[18,0,19,1],[18,2,19,6],[12,0,12,6],[13,0,13,1],[13,2,13,6],[5,0,6,6],[7,0,8,6],[9,0,10,6],[14,0,15,1],[14,2,15,6],[20,0,21,1],[20,2,21,6],[22,0,23,1],[22,2,23,6],[31,3,31,4],[27,2,28,2],[28,3,28,4],[28,5,28,6],[27,3,27,6],[26,0,26,6],[35,0,40,6],[32,3,32,4],[34,0,34,6],[27,0,28,1],[29,0,29,1],[30,0,30,1],[31,0,31,1],[32,0,32,1],[29,3,29,4],[30,3,30,4],[29,5,29,6],[30,5,30,6],[31,5,31,6],[32,5,32,6]]}
[{"$f":"+'Cover Page'!$B$29","v":"Annual Performance Report 2021"},null,null,null,{"$f":"+'Cover Page'!$B$33","v":"Kemsley Generating Station"}]
[]
["Residue Quality Monitoring Requirements"]
[]
["Summary of monitoring undertaken and compliance"]
["During commissioning in 2020, and once boiler operation had stabilised, start-up monitoring was carried out on the IBA .  24 samples were taken over a 12 week period and analysed for Hazardous properties.  A full 15 hazardous properties analysis was carried out for both IBA and APCr.  All 24 samples were categorised as non-hazardous according to the ESA protocol, and the results have been submitted to the Agency."]
[]
["Hazardous property analysis continues with two samples taken per month.  Monthly samples of both APCr and IBA were taken for Environmental Permit compliance analysis until July, when the frequency (as per permit and with agreement from the Agency) reduced to Quarterly.  Results are submitted to the Agency on a quarterly basis."]
[]
["IBA continues to pass as non-hazardous, and is compliant with permit requirements."]
[]
[]
["Commentary on any specific events"]
["Date & Event",null,"Description"]
[]
[]
[]
[]
[]
[]
[]
[]
[]
[]
[]
[]
["Residue Quality Monitoring Results"]
["Parameter (unit) ",null,"Limit","Normal Operation "]
[null,null,null,"Bottom ash  ",null,"APC Residues"]
["Loss on Ignition (average %)",null,"<5%",1.18]
["Total Organic Carbon (average %)",null,"<3%",0.62]
["No. of Assessments Undertaken",null,"---",{"$f":"36+24","v":60},null,{"$f":"8+7","v":15}]
["No. of Hazardous Results",null,"---",0]
[]
["Comments :"]
["Total samples taken since commissioining above.\nAverage over 2021 (24 samples) = LOI: 1.33; TOC: 0.61"]
[]
[]
[]
[]
[]
[]
[]
[]
[]
[]
[]
[]
[]
[]
[]
[]
[null,null,"21.01.2022"]

{"sheet":"Water","index":11,"n_rows":53,"n_cols":10,"rows_kept":53,"cut":false,"hidden":false,"merged":[[5,0,6,9],[7,0,8,9],[9,0,10,9],[12,0,12,9],[13,0,13,1],[13,2,13,9],[21,0,21,9],[22,0,22,2],[22,3,22,5],[14,0,15,1],[14,2,15,9],[16,0,17,1],[16,2,17,9],[18,0,19,1],[18,2,19,9],[23,0,23,2],[23,3,23,5],[24,0,24,2],[24,3,24,5],[25,0,25,2],[25,3,25,5],[29,0,29,2],[29,3,29,5],[26,0,26,2],[26,3,26,5],[27,0,27,2],[27,3,27,5],[28,0,28,2],[28,3,28,5]]}
[{"$f":"+'Cover Page'!$B$29","v":"Annual Performance Report 2021"},null,null,null,{"$f":"+'Cover Page'!$B$33","v":"Kemsley Generating Station"}]
[]
["Emissions to Water"]
[]
["Summary of monitoring undertaken and compliance"]
["N/A.  No limits in permit.  Visual inspections carried out to check for hydrocarbons, and pH testing carried out prior to discharging to Swale."]
[]
[]
[]
[]
[]
[]
["Commentary on any specific events"]
["Date & Event",null,"Description"]
[]
[]
[]
[]
[]
[]
[]
["Emissions to Water / Sewer"]
["Parameter",null,null,"Monitoring Frequency",null,null,"Limit","Target","Max.","Average"]
["N/A",null,null,"N/A",null,null,"N/A","N/A","N/A","N/A"]
[]
[]
[]
[]
[]
[]
[]
[]
[]
[]
[]
[]
[]
[]
[]
[]
[]
[]
[]
[]
[]
[]
[null,null,null,null,null,null,"Environmental Manager"]
[]
[]
[]
[]
[]
[null,null,"21.01.2022"]

{"sheet":"Air (periodic)","index":12,"n_rows":74,"n_cols":18,"rows_kept":74,"cut":false,"hidden":false,"merged":[[4,1,4,5],[72,4,72,5],[73,4,73,5],[36,4,36,5],[37,4,37,5],[36,1,36,2],[37,1,37,2],[69,4,69,5],[70,4,70,5],[71,4,71,5],[66,4,66,5],[67,4,67,5],[68,4,68,5],[63,4,63,5],[64,4,64,5],[65,4,65,5],[60,4,60,5],[61,4,61,5],[62,4,62,5],[57,4,57,5],[58,4,58,5],[59,4,59,5],[54,4,54,5],[55,4,55,5],[56,4,56,5],[51,4,51,5],[52,4,52,5],[53,4,53,5],[48,4,48,5],[49,4,49,5],[50,4,50,5],[45,4,45,5],[46,4,46,5],[47,4,47,5],[5,17,6,20],[7,17,9,20],[6,1,6,14],[9,1,9,2],[7,6,7,9],[5,1,5,9],[10,1,10,2],[9,4,9,5],[10,4,10,5],[7,1,8,2],[7,10,7,14],[7,4,8,5],[7,3,8,3],[14,1,14,2],[15,1,15,2],[16,1,16,2],[11,1,11,2],[12,1,12,2],[13,1,13,2],[39,1,40,14],[23,1,23,2],[24,1,24,2],[20,1,20,2],[21,1,21,2],[35,1,35,2],[25,1,25,2],[26,1,26,2],[27,1,27,2],[28,1,28,2],[29,1,29,2],[30,1,30,2],[35,4,35,5],[27,4,27,5],[28,4,28,5],[34,4,34,5],[38,1,38,14],[17,1,17,2],[18,1,18,2],[19,1,19,2],[32,4,32,5],[33,4,33,5],[31,1,31,2],[32,1,32,2],[33,1,33,2],[34,1,34,2],[22,1,22,2],[30,4,30,5],[11,4,11,5],[12,4,12,5],[13,4,13,5],[14,4,14,5],[15,4,15,5],[16,4,16,5],[25,4,25,5],[31,4,31,5],[17,4,17,5],[18,4,18,5],[19,4,19,5],[20,4,20,5],[21,4,21,5],[22,4,22,5],[29,4,29,5],[23,4,23,5],[24,4,24,5],[26,4,26,5]]}
[null,{"$f":"+'Cover Page'!$B$29","v":"Annual Performance Report 2021"},null,null,null,{"$f":"+'Cover Page'!$B$33","v":"Kemsley Generating Station"}]
[]
[null,"Emissions to Air (periodically monitored)"]
[]
[null,"Summary of monitoring undertaken, standards used and compliance",null,null,null,null,null,null,null,null,null,null,null,null,null,null,null,"Notes:"]
[null,"Four (quarterly) rounds of monitoring have been undertaken at Kemsley.   All monitored determinands are below pemiltted concentration levels.",null,null,null,null,null,null,null,null,null,null,null,null,null,null,null,"Template may require adjustment for any bespoke monitoring requirements of permit. "]
[null,"Results of emissions to air that are periodically monitored"]
[null,"Substance",null,"Ref. Period","Emission Limit Value",null,"Average",null,null,null,null,null,null,null,null,null,null,"User to add additional tables as necessary, depending on whether quarterly or bi-annual reporting is required for the compliance year"]
[null,null,null,null,null,null,null,"A1","A2"]
[null,"Hydrogen fluoride",null,"1 hr","2 mg/m3",null,null,{"$f":"O46","v":3.0666666666666665E-2},{"$f":"P46","v":2.9666666666666664E-2}]
[null,"Cd and Th and their compounds",null,"6-8hrs","0.05 mg/m3",null,null,7.7500000000000008E-4,7.3333333333333323E-4]
[null,"Hg and its compounds",null,"6-8hrs","0.05 mg/m3",null,null,2.9250000000000001E-3,2.5000000000000005E-3]
[null,"Sb, As, Pb, Cr, Co, Cu, Mn, Ni, V and their compounds",null,"6-8hrs","0.5 mg/m3",null,null,1.7249999999999998E-2,1.9324999999999998E-2]
[null,"Dioxins & Furans (I-TEQ)",null,"6-8hrs","0.1 ng/m3",null,null,5.45E-3,6.1749999999999999E-3]
[null,"PCBs (WHO-TEQ Humans / Mammals)",null,"6-8hrs","None set ng/m3",null,null,9.4850000000000002E-4,1.0320000000000001E-3]
[null,"PCBs (WHO-TEQ Fish)",null,"6-8hrs","None set ng/m3",null,null,1.6075E-3,4.8250000000000001E-5]
[null,"PCBs (WHO-TEQ Birds)",null,"6-8hrs","None set ng/m3",null,null,3.7014999999999999E-3,1.7850000000000001E-3]
[null,"Dioxins & Furans (WHO-TEQ Humans / Mammals)",null,"6-8hrs","None set ng/m3",null,null,5.3500000000000006E-3,5.2750000000000002E-3]
[null,"Dioxins & Furans (WHO-TEQ Fish)",null,"6-8hrs","None set ng/m3",null,null,5.7750000000000006E-3,5.6500000000000005E-3]
[null,"Dioxins & Furans (WHO-TEQ Birds)",null,"6-8hrs","None set ng/m3",null,null,9.6749999999999996E-3,8.7250000000000001E-3]
[null,"Anthanthrene",null,"6-8hrs","None set µg/m3",null,null,6.0000000000000001E-3,3.7000000000000002E-3]
[null,"Benzo(a)anthracene",null,"6-8hrs","None set µg/m3",null,null,6.4999999999999997E-3,4.0333333333333332E-3]
[null,"Benzo(a)pyrene",null,"6-8hrs","None set µg/m3",null,null,6.0000000000000001E-3,4.0333333333333332E-3]
[null,"Benzo(b)fluoranthene",null,"6-8hrs","None set µg/m3",null,null,3.0999999999999999E-3,2.0999999999999999E-3]
[null,"Benzo(b)naptho(2,1-d) thiophene",null,"6-8hrs","None set µg/m3",null,null,2.2500000000000003E-3,1.6000000000000001E-3]
[null,"Benzo(c)phenanthrene",null,"6-8hrs","None set µg/m3",null,null,6.0000000000000001E-3,4.0333333333333332E-3]
[null,"Benzo(ghi)perylene",null,"6-8hrs","None set µg/m3",null,null,6.0000000000000001E-3,4.0333333333333332E-3]
[null,"Benzo(k)fluoranthene",null,"6-8hrs","None set µg/m3",null,null,6.0000000000000001E-3,4.0333333333333332E-3]
[null,"Cholanthrene",null,"6-8hrs","None set µg/m3",null,null,6.0000000000000001E-3,4.0333333333333332E-3]
[null,"Chrysene",null,"6-8hrs","None set µg/m3",null,null,3.0333333333333336E-3,2.2333333333333333E-3]
[null,"Cyclopenta(cd)pyrene",null,"6-8hrs","None set µg/m3",null,null,6.0000000000000001E-3,4.0333333333333332E-3]
[null,"Dibenzo(ai)pyrene",null,"6-8hrs","None set µg/m3",null,null,6.0000000000000001E-3,4.0333333333333332E-3]
[null,"Dibenzo(ah)anthracene",null,"6-8hrs","None set µg/m3",null,null,6.0000000000000001E-3,4.0333333333333332E-3]
[null,"Fluoranthene",null,"6-8hrs","None set µg/m3",null,null,1.9349999999999999E-2,2.4899999999999999E-2]
[null,"Indeno(123-cd) pyrene",null,"6-8hrs","None set µg/m3",null,null,6.0000000000000001E-3,4.0333333333333332E-3]
[null,"Naphthalene",null,"6-8hrs","None set µg/m3",null,null,0.27905000000000002,9.0650000000000008E-2]
[null,"PM10",null,"4hrs","None set µg/m3",null,null,5.3333333333333337E-2,6.225E-2]
[null,"PM 2.5",null,"4hrs","None set µg/m3",null,null,4.4333333333333336E-2,4.725E-2]
[null,"Comments :"]
[]
[]
[]
[]
[null,null,null,null,null,null,"Q1",null,"Q2",null,"Q3",null,"Q4",null,"Averages"]
[null,"Emissions monitoring results for 2021",null,null,null,null,"L1","L2","L1","L2","L1","L2","L1","L2","L1","L2"]
[null,"Hydrogen fluoride",null,"1 hr","2 mg/m3",null,3.3000000000000002E-2,3.1E-2,2.8000000000000001E-2,2.7E-2,3.1E-2,3.1E-2,"<0.03","<0.03",{"$f":"AVERAGE(G46,I46,K46,M46)","v":3.0666666666666665E-2},{"$f":"AVERAGE(H46,J46,L46,N46)","v":2.9666666666666664E-2}]
[null,"Cd and Th and their compounds",null,"6-8hrs","0.05 mg/m3",null,"Environmental Manager",7.6999999999999996E-4,7.5000000000000002E-4,6.8000000000000005E-4,8.0000000000000004E-4,7.5000000000000002E-4,"<0.001","<0.001",{"$f":"AVERAGE(G47,I47,K47,M47)","v":7.7500000000000008E-4},{"$f":"AVERAGE(H47,J47,L47,N47)","v":7.3333333333333323E-4}]
[null,"Hg and its compounds",null,"6-8hrs","0.05 mg/m3",null,2.7000000000000001E-3,2.7000000000000001E-3,2.8999999999999998E-3,2E-3,2.0999999999999999E-3,4.3E-3,4.0000000000000001E-3,1E-3,2.9250000000000001E-3,2.5000000000000005E-3]
[null,"Sb, As, Pb, Cr, Co, Cu, Mn, Ni, V and their compounds",null,"6-8hrs","0.5 mg/m3",null,1.7999999999999999E-2,2.7E-2,2.1000000000000001E-2,8.3000000000000001E-3,1.7999999999999999E-2,2.7E-2,1.2E-2,1.4999999999999999E-2,1.7249999999999998E-2,1.9324999999999998E-2]
[null,"Dioxins & Furans (I-TEQ)",null,"6-8hrs","0.1 ng/m3",null,1.0999999999999999E-2,1.2E-2,5.7000000000000002E-3,4.5999999999999999E-3,1.6000000000000001E-3,4.7999999999999996E-3,3.5000000000000001E-3,3.3E-3,5.45E-3,6.1749999999999999E-3]
[null,"PCBs (WHO-TEQ Humans / Mammals)",null,"6-8hrs","None set ng/m3",null,1.6999999999999999E-3,2.5999999999999999E-3,1.1000000000000001E-3,5.9000000000000003E-4,5.1999999999999995E-4,5.9000000000000003E-4,4.7399999999999997E-4,3.48E-4,9.4850000000000002E-4,1.0320000000000001E-3]
[null,"PCBs (WHO-TEQ Fish)",null,"6-8hrs","None set ng/m3",null,8.0000000000000007E-5,1.2E-4,6.3E-3,2.6999999999999999E-5,2.5999999999999998E-5,2.8E-5,2.4000000000000001E-5,1.8E-5,1.6075E-3,4.8250000000000001E-5]
[null,"PCBs (WHO-TEQ Birds)","21.01.2022","6-8hrs","None set ng/m3",null,3.0999999999999999E-3,3.7000000000000002E-3,9.2999999999999992E-3,1.1000000000000001E-3,1.1000000000000001E-3,1.1999999999999999E-3,1.3060000000000001E-3,1.14E-3,3.7014999999999999E-3,1.7850000000000001E-3]
[null,"Dioxins & Furans (WHO-TEQ Humans / Mammals)",null,"6-8hrs","None set ng/m3",null,1.0999999999999999E-2,1.2E-2,5.5999999999999999E-3,4.5999999999999999E-3,1.6000000000000001E-3,1E-3,3.2000000000000002E-3,3.5000000000000001E-3,5.3500000000000006E-3,5.2750000000000002E-3]
[null,"Dioxins & Furans (WHO-TEQ Fish)",null,"6-8hrs","None set ng/m3",null,1.2E-2,1.2999999999999999E-2,6.3E-3,4.8999999999999998E-3,1.6000000000000001E-3,1E-3,3.2000000000000002E-3,3.7000000000000002E-3,5.7750000000000006E-3,5.6500000000000005E-3]
[null,"Dioxins & Furans (WHO-TEQ Birds)",null,"6-8hrs","None set ng/m3",null,2.1000000000000001E-2,2.1000000000000001E-2,9.2999999999999992E-3,7.1999999999999998E-3,3.2000000000000002E-3,1.1000000000000001E-3,5.1999999999999998E-3,5.5999999999999999E-3,9.6749999999999996E-3,8.7250000000000001E-3]
[null,"Anthanthrene",null,"6-8hrs","None set µg/m3",null,"<0.0007",1E-4,1E-3,1E-3,1.0999999999999999E-2,1.6999999999999999E-3,"<0.0139",1.2E-2,6.0000000000000001E-3,3.7000000000000002E-3]
[null,"Benzo(a)anthracene",null,"6-8hrs","None set µg/m3",null,"<0.0007",1E-4,2E-3,1E-3,1.0999999999999999E-2,1.0999999999999999E-2,"<0.0016","<0.0011",6.4999999999999997E-3,4.0333333333333332E-3,{"$f":"AVERAGE(K58:N58)","v":1.0999999999999999E-2}]
[null,"Benzo(a)pyrene",null,"6-8hrs","None set µg/m3",null,"<0.0007",1E-4,1E-3,1E-3,1.0999999999999999E-2,1.0999999999999999E-2,"<0.0016","<0.0011",6.0000000000000001E-3,4.0333333333333332E-3]
[null,"Benzo(b)fluoranthene",null,"6-8hrs","None set µg/m3",null,"<0.0007",1E-4,1E-3,1E-3,5.1999999999999998E-3,5.1999999999999998E-3,"<0.0016","<0.0011",3.0999999999999999E-3,2.0999999999999999E-3]
[null,"Benzo(b)naptho(2,1-d) thiophene",null,"6-8hrs","None set µg/m3",null,1.5E-3,1E-4,1E-3,1E-3,3.7000000000000002E-3,3.7000000000000002E-3,2.8E-3,"<0.0011",2.2500000000000003E-3,1.6000000000000001E-3]
[null,"Benzo(c)phenanthrene",null,"6-8hrs","None set µg/m3",null,"<0.0007",1E-4,1E-3,1E-3,1.0999999999999999E-2,1.0999999999999999E-2,"<0.0016","<0.0011",6.0000000000000001E-3,4.0333333333333332E-3]
[null,"Benzo(ghi)perylene",null,"6-8hrs","None set µg/m3",null,"<0.0007",1E-4,1E-3,1E-3,1.0999999999999999E-2,1.0999999999999999E-2,"<0.0016","<0.0011",6.0000000000000001E-3,4.0333333333333332E-3]
[null,"Benzo(k)fluoranthene",null,"6-8hrs","None set µg/m3",null,"<0.0007",1E-4,1E-3,1E-3,1.0999999999999999E-2,1.0999999999999999E-2,"<0.0016","<0.0011",6.0000000000000001E-3,4.0333333333333332E-3]
[null,"Cholanthrene",null,"6-8hrs","None set µg/m3",null,"<0.0007",1E-4,1E-3,1E-3,1.0999999999999999E-2,1.0999999999999999E-2,"<0.0016","<0.0011",6.0000000000000001E-3,4.0333333333333332E-3]
[null,"Chrysene",null,"6-8hrs","None set µg/m3",null,"<0.0007",1E-4,2E-3,2E-3,4.5999999999999999E-3,4.5999999999999999E-3,2.5000000000000001E-3,"<0.0011",3.0333333333333336E-3,2.2333333333333333E-3]
[null,"Cyclopenta(cd)pyrene",null,"6-8hrs","None set µg/m3",null,"<0.0007",1E-4,1E-3,1E-3,1.0999999999999999E-2,1.0999999999999999E-2,"<0.0016","<0.0011",6.0000000000000001E-3,4.0333333333333332E-3]
[null,"Dibenzo(ai)pyrene",null,"6-8hrs","None set µg/m3",null,"<0.0007",1E-4,1E-3,1E-3,1.0999999999999999E-2,1.0999999999999999E-2,"<0.0016","<0.0011",6.0000000000000001E-3,4.0333333333333332E-3]
[null,"Dibenzo(ah)anthracene",null,"6-8hrs","None set µg/m3",null,"<0.0007",1E-4,1E-3,1E-3,1.0999999999999999E-2,1.0999999999999999E-2,"<0.0016","<0.0011",6.0000000000000001E-3,4.0333333333333332E-3]
[null,"Fluoranthene",null,"6-8hrs","None set µg/m3",null,8.0000000000000002E-3,5.0000000000000001E-3,7.0000000000000001E-3,0.01,3.1E-2,3.1199999999999999E-2,3.1399999999999997E-2,5.3400000000000003E-2,1.9349999999999999E-2,2.4899999999999999E-2]
[null,"Indeno(123-cd) pyrene",null,"6-8hrs","None set µg/m3",null,"<0.0007",1E-4,1E-3,1E-3,1.0999999999999999E-2,1.0999999999999999E-2,"<0.0016","<0.0011",6.0000000000000001E-3,4.0333333333333332E-3]
[null,"Naphthalene",null,"6-8hrs","None set µg/m3",null,0.54,5.6000000000000001E-2,7.2999999999999995E-2,0.11,0.36,8.5999999999999993E-2,0.14319999999999999,0.1106,0.27905000000000002,9.0650000000000008E-2]
[null,"PM10",null,null,null,null,null,3.9E-2,4.1000000000000002E-2,0.04,5.8999999999999997E-2,0.11,0.06,0.06,5.3333333333333337E-2,6.225E-2]
[null,"PM 2.5",null,null,null,null,null,0.04,4.2999999999999997E-2,4.2999999999999997E-2,0.05,6.6000000000000003E-2,0.04,0.04,4.4333333333333336E-2,4.725E-2]

{"sheet":"Air (CEMS)","index":13,"n_rows":52,"n_cols":10,"rows_kept":52,"cut":false,"hidden":false,"merged":[[8,9,20,9],[23,9,35,9],[27,0,27,6],[29,0,30,6],[13,0,14,0],[5,0,6,6],[7,0,8,6],[10,0,10,6],[11,0,12,0],[11,2,12,2],[11,1,12,1],[11,3,11,4],[11,5,11,6]]}
[{"$f":"+'Cover Page'!$B$29","v":"Annual Performance Report 2021"}]
[]
["Emissions to Air (continously monitored)"]
[null,null,null,null,null,null,null,null,null,"Notes:"]
["Summary of monitoring undertaken, standards used and compliance",null,null,null,null,null,null,null,null,"Template may require adjustment for any bespoke monitoring requirements of permit"]
["Kemsley has installed MCERT's equipment to continuously monitor emissions as required by the permit.  The analysers have undergone QAL2 calibration in July 2021, with new QAL2 calibration functions inputted on 12/10/2021.",null,null,null,null,null,null,null,null,"Report to 2 decimal places, i.e. xx.xx%"]
[]
["A single ELV breach was recorded  for SO2 in May 2021 - 200.48mg/ Nm3.  This related to abatement system failure and was reported to the Agency via a Schdule 5 notification submitted on 11/05/2021.  No other limit breaches have occurred during 2021"]
[]
[]
["Results of emissions to air that are continuously monitored (maximum and average values for each line)"]
["Substance","Reference Period","Emission Limit Value","A1",null,"A2"]
[null,null,null,"Max.","Avg.","Max.","Avg."]
["Oxides of nitrogen","Daily mean","200 mg/m3 ",{"$f":"NOx!O19","v":184.85},{"$f":"NOx!N19","v":164.35},{"$f":"NOx!O34","v":181.06},{"$f":"NOx!N34","v":165.01}]
[null,"½ hourly mean","400 mg/m3 ",{"$f":"NOx!M19","v":281.33},{"$f":"NOx!L19","v":164.37249999999997},{"$f":"NOx!M34","v":258.25},{"$f":"NOx!L34","v":164.90166666666667}]
["Particulates","Daily mean","10 mg/m3",{"$f":"Particulates!O19","v":0.34},{"$f":"Particulates!N19","v":8.7500000000000008E-2},{"$f":"Particulates!O34","v":0.33},{"$f":"Particulates!N34","v":0.22500000000000001}]
[null,"½ hourly mean","30 mg/m3 ",{"$f":"Particulates!M19","v":1.49},{"$f":"Particulates!L19","v":8.7500000000000008E-2},{"$f":"Particulates!M34","v":0.89},{"$f":"Particulates!L34","v":0.22416666666666665}]
["Total Organic Carbon ","Daily mean","10 mg/m3 ",{"$f":"TOC!O19","v":0.83},{"$f":"TOC!N19","v":0.36166666666666664},{"$f":"TOC!O34","v":0.98},{"$f":"TOC!N34","v":0.39999999999999997}]
[null,"½ hourly mean","20 mg/m3 ",{"$f":"TOC!M19","v":3.76},{"$f":"TOC!L19","v":0.36250000000000004},{"$f":"TOC!M34","v":5.01},{"$f":"TOC!L34","v":0.40499999999999997}]
["Hydrogen chloride ","Daily mean","10 mg/m3 ",{"$f":"HCl!O19","v":8.43},{"$f":"HCl!N19","v":3.5749999999999993},{"$f":"HCl!O34","v":8.49},{"$f":"HCl!N34","v":3.9191666666666669}]
[null,"½ hourly mean","60 mg/m3 ",{"$f":"HCl!M19","v":28.7},{"$f":"HCl!L19","v":3.5674999999999994},{"$f":"HCl!M34","v":27.95},{"$f":"HCl!L34","v":3.8566666666666674}]
["Sulphur dioxide","Daily mean","50 mg/m3 ",{"$f":"'SO2'!O19","v":34.32},{"$f":"'SO2'!N19","v":3.1350000000000002},{"$f":"'SO2'!O34","v":18.46},{"$f":"'SO2'!N34","v":3.601666666666667}]
[null,"½ hourly mean","200 mg/m3 ",{"$f":"'SO2'!M19","v":181.66},{"$f":"'SO2'!L19","v":3.2241666666666666},{"$f":"'SO2'!M34","v":200.48},{"$f":"'SO2'!L34","v":3.705833333333334}]
["Carbon monoxide ","Daily mean","50 mg/m3 ",{"$f":"'CO 95% 10 min'!Q19","v":11.61},{"$f":"'CO 95% 10 min'!P19","v":4.6008333333333331},{"$f":"'CO 95% 10 min'!Q34","v":32.729999999999997},{"$f":"'CO 95% 10 min'!P34","v":4.9950000000000001}]
[null,"95%ile 10-min avg *","150 mg/m3 *",{"$f":"'CO 95% 10 min'!O19","v":741.69},{"$f":"'CO 95% 10 min'!N19","v":4.6141666666666667},{"$f":"'CO 95% 10 min'!O34","v":3087.7},{"$f":"'CO 95% 10 min'!N34","v":5.0074999999999994}]
[" Ammonia","Daily mean","No limit set",{"$f":"'NH3'!O19","v":2.4500000000000002},{"$f":"'NH3'!N19","v":0.90333333333333332},{"$f":"'NH3'!O34","v":3.22},{"$f":"'NH3'!N34","v":0.48166666666666669}]
[null,"½ hourly mean","No limit set",{"$f":"'NH3'!M19","v":6.91},{"$f":"'NH3'!L19","v":0.90583333333333338},{"$f":"'NH3'!M34","v":4.63},{"$f":"'NH3'!L34","v":0.49249999999999999}]
["* = delete or amend as appropriate"]
["Comments :"]
[]
[]
[]
[]
[]
[]
[]
[]
[]
[]
[]
[]
[]
[]
[]
[]
[null,null,null,null,null,null,"Environmental Manager"]
[]
[]
[]
[]
[]
[null,null,"21.01.2022"]

{"sheet":"HCl","index":14,"n_rows":53,"n_cols":17,"rows_kept":53,"cut":false,"hidden":false,"merged":[[12,16,15,18],[51,9,63,9],[66,9,78,9],[4,9,4,14],[4,1,4,3],[4,4,4,6],[48,0,51,6],[47,0,47,6],[6,9,18,9],[21,9,33,9],[36,9,48,9],[3,16,7,18],[9,16,11,18]]}
[{"$f":"+'Cover Page'!$B$29","v":"Annual Performance Report 2021"},null,null,null,{"$f":"+'Cover Page'!$B$33","v":"Kemsley Generating Station"}]
[]
["Monitoring of Hydrogen Chloride emissions",null,null,"Whole Installation",null,null,"See  Notes in Cell Q3",null,null,{"$f":"+A3","v":"Monitoring of Hydrogen Chloride emissions"},null,null,null,"Per Combustion Line",null,null,"Notes:"]
[null,null,null,null,null,null,null,null,null,null,null,null,null,null,null,null,"User to add logic to complete Whole installation, Table A5:G18. From the data in Per Combustion Line, Table J6:O79, subject to No. of lines installed"]
["mg/Nm3","1/2 Hourly Reference Periods",null,null,"Daily Reference Periods"]
[{"$f":"+'Cover Page'!C39","v":2021},"1/2 hourly HCl ELV","Monthly 1/2 hourly mean","Highest 1/2 hourly maximum","Daily HCl ELV","Monthly daily mean","Highest daily maximum",null,null,{"$f":"+A6","v":2021},"mg/Nm3","Monthly 1/2 hourly mean","Monthly 1/2 hourly maximum","Monthly daily mean","Monthly daily maximum"]
["Jan",60,4.49,23.88,10,4.5,8.23,null,null,"A1","Jan",3.04,23.88,3.06,5.75]
["Feb",60,3.93,28.7,10,3.89,8.06,null,null,null,"Feb",3.06,28.7,3.02,4.96]
["Mar",60,4.3899999999999997,27.95,10,4.5199999999999996,8.49,null,null,null,"Mar",4.0199999999999996,15.89,4.08,8.3000000000000007,null,"Whole Installation table A5:G18:"]
["Apr",60,4.32,11.37,10,4.3499999999999996,7.23,null,null,null,"Apr",4.0999999999999996,11.37,4.0999999999999996,7.23,null,"Mean: for 1/2 hourly and daily periods calculate mean of values across all operational combustion lines for the month"]
["May",60,2.54,7.53,10,2.52,4.38,null,null,null,"May",2.11,4.95,2.09,3.02]
["Jun",60,3.99,8.98,10,4,5.98,null,null,null,"Jun",4.08,8.98,4.08,5.4]
["Jul",60,4.71,11.02,10,4.75,8.43,null,null,null,"Jul",4.71,11.02,4.7300000000000004,8.43,null,"Maximum: for 1/2 hourly and daily periods use the highest value across all operational combustion lines for the month"]
["Aug",60,3.19,7.1,10,3.2,6.3,null,null,null,"Aug",2.83,7.1,2.86,6.3]
["Sep",60,3.68,11.32,10,3.68,7.81,null,null,null,"Sep",4.3099999999999996,11.32,4.3099999999999996,6.4]
["Oct",60,3.09,12.33,10,3.11,7.97,null,null,null,"Oct",3.87,12.33,3.91,7.97]
["Nov",60,3.06,9.61,10,3.07,5.47,null,null,null,"Nov",3.56,9.61,3.54,5.47]
["Dec",60,2.85,9.36,10,2.85,4.4400000000000004,null,null,null,"Dec",3.12,9.36,3.12,4.4400000000000004]
[null,null,null,null,null,null,null,null,null,null,"Annual",{"$f":"AVERAGE(L7:L18)","v":3.5674999999999994},{"$f":"MAX(M7:M18)","v":28.7},{"$f":"AVERAGE(N7:N18)","v":3.5749999999999993},{"$f":"MAX(O7:O18)","v":8.43}]
[]
[null,null,null,null,null,null,null,null,null,{"$f":"+A6","v":2021},"mg/Nm3","Monthly 1/2 hourly mean","Monthly 1/2 hourly maximum","Monthly daily mean","Monthly daily maximum"]
[null,null,null,null,null,null,null,null,null,"A2","Jan",6.14,15.67,6.41,8.23]
[null,null,null,null,null,null,null,null,null,null,"Feb",4.96,13.62,4.97,8.06]
[null,null,null,null,null,null,null,null,null,null,"Mar",4.79,27.95,5.0199999999999996,8.49]
[null,null,null,null,null,null,null,null,null,null,"Apr",4.8,10.64,4.93,6.72]
[null,null,null,null,null,null,null,null,null,null,"May",2.98,7.53,2.97,4.38]
[null,null,null,null,null,null,null,null,null,null,"Jun",3.9,6.87,3.92,5.98]
[null,null,null,null,null,null,null,null,null,null,"Jul",4.7,9.19,4.7699999999999996,7.68]
[null,null,null,null,null,null,null,null,null,null,"Aug",3.46,5.94,3.46,4.95]
[null,null,null,null,null,null,null,null,null,null,"Sep",3.06,8.59,3.06,7.81]
[null,null,null,null,null,null,null,null,null,null,"Oct",2.2799999999999998,4.5599999999999996,2.27,3.22]
[null,null,null,null,null,null,null,null,null,null,"Nov",2.63,8.73,2.67,4.82]
[null,null,null,null,null,null,null,null,null,null,"Dec",2.58,6.67,2.58,3.27]
[null,null,null,null,null,null,null,null,null,null,"Annual",{"$f":"AVERAGE(L22:L33)","v":3.8566666666666674},{"$f":"MAX(M22:M33)","v":27.95},{"$f":"AVERAGE(N22:N33)","v":3.9191666666666669},{"$f":"MAX(O22:O33)","v":8.49}]
[]
[]
[]
[]
[]
[]
[]
[]
[]
[]
[]
[]
[]
["Comments :"]
[]
[]
[]
[]
[null,null,"21.01.2022"]

{"sheet":"SO2","index":15,"n_rows":53,"n_cols":17,"rows_kept":53,"cut":false,"hidden":false,"merged":[[3,16,7,18],[9,16,11,18],[12,16,15,18],[66,9,78,9],[4,1,4,3],[4,4,4,6],[4,9,4,14],[6,9,18,9],[21,9,33,9],[36,9,48,9],[47,0,47,6],[48,0,51,6],[51,9,63,9]]}
[{"$f":"+'Cover Page'!$B$29","v":"Annual Performance Report 2021"},null,null,null,{"$f":"+'Cover Page'!$B$33","v":"Kemsley Generating Station"}]
[]
["Monitoring of Sulphur dioxide emissions",null,null,"Whole Installation",null,null,"See  Notes in Cell Q3",null,null,{"$f":"+A3","v":"Monitoring of Sulphur dioxide emissions"},null,null,null,"Per Combustion Line",null,null,"Notes:"]
[null,null,null,null,null,null,null,null,null,null,null,null,null,null,null,null,"User to add logic to complete Whole installation, Table A5:G18. From the data in Per Combustion Line, Table J6:O79, subject to No. of lines installed"]
["mg/Nm3","1/2 Hourly Reference Periods",null,null,"Daily Reference Periods"]
[{"$f":"+'Cover Page'!C39","v":2021},"1/2 hourly SO2 ELV","Monthly 1/2 hourly mean","Highest 1/2 hourly maximum","Daily SO2 ELV","Monthly daily mean","Highest daily maximum",null,null,{"$f":"+A6","v":2021},"mg/Nm3","Monthly 1/2 hourly mean","Monthly 1/2 hourly maximum","Monthly daily mean","Monthly daily maximum"]
["Jan",200,2.06,38.28,50,1.91,5.21,null,null,"A1","Jan",1.55,38.28,1.53,2.95]
["Feb",200,3.85,68.77,50,3.6,14.81,null,null,null,"Feb",2.79,68.77,2.61,14.81]
["Mar",200,4.7699999999999996,74.69,50,4.8,11.89,null,null,null,"Mar",4.05,55.67,3.87,9.2899999999999991,null,"Whole Installation table A5:G18:"]
["Apr",200,3.32,39.409999999999997,50,3.3,7.29,null,null,null,"Apr",3.46,39.409999999999997,3.44,6.94,null,"Mean: for 1/2 hourly and daily periods calculate mean of values across all operational combustion lines for the month"]
["May",200,6.75,200.48,50,5.97,34.32,null,null,null,"May",6.79,181.66,6.38,34.32]
["Jun",200,2.92,28.54,50,2.91,7.2,null,null,null,"Jun",1.36,28.54,1.36,3.49]
["Jul",200,3.03,35.46,50,2.97,8.19,null,null,null,"Jul",1.81,35.46,1.67,8.19,null,"Maximum: for 1/2 hourly and daily periods use the highest value across all operational combustion lines for the month"]
["Aug",200,2.54,16.75,50,2.54,4.47,null,null,null,"Aug",0.74,10.84,0.68,2.5099999999999998]
["Sep",200,2.52,28.32,50,2.52,4.67,null,null,null,"Sep",1.08,28.32,1.08,2.99]
["Oct",200,1.8,30.49,50,1.73,4.3600000000000003,null,null,null,"Oct",1.31,30.49,1.1399999999999999,4.01]
["Nov",200,4.51,56.74,50,4.5999999999999996,18.510000000000002,null,null,null,"Nov",8.02,56.74,8.1300000000000008,18.510000000000002]
["Dec",200,3.37,92.04,50,3.37,17.12,null,null,null,"Dec",5.73,49.77,5.73,17.12]
[null,null,null,null,null,null,null,null,null,null,"Annual",{"$f":"AVERAGE(L7:L18)","v":3.2241666666666666},{"$f":"MAX(M7:M18)","v":181.66},{"$f":"AVERAGE(N7:N18)","v":3.1350000000000002},{"$f":"MAX(O7:O18)","v":34.32}]
[]
[null,null,null,null,null,null,null,null,null,{"$f":"+A6","v":2021},"mg/Nm3","Monthly 1/2 hourly mean","Monthly 1/2 hourly maximum","Monthly daily mean","Monthly daily maximum"]
[null,null,null,null,null,null,null,null,null,"A2","Jan",2.64,33.54,2.42,5.21]
[null,null,null,null,null,null,null,null,null,null,"Feb",5.0999999999999996,53.67,4.83,10.06]
[null,null,null,null,null,null,null,null,null,null,"Mar",5.55,74.69,5.87,11.89]
[null,null,null,null,null,null,null,null,null,null,"Apr",3.02,30,2.98,7.29]
[null,null,null,null,null,null,null,null,null,null,"May",6.7,200.48,5.54,18.46]
[null,null,null,null,null,null,null,null,null,null,"Jun",4.5,22.36,4.5,7.2]
[null,null,null,null,null,null,null,null,null,null,"Jul",4.21,15.39,4.22,5.52]
[null,null,null,null,null,null,null,null,null,null,"Aug",3.92,16.75,3.92,4.47]
[null,null,null,null,null,null,null,null,null,null,"Sep",3.95,7.72,3.95,4.67]
[null,null,null,null,null,null,null,null,null,null,"Oct",2.31,13.44,2.35,4.3600000000000003]
[null,null,null,null,null,null,null,null,null,null,"Nov",1.55,31.69,1.62,4.37]
[null,null,null,null,null,null,null,null,null,null,"Dec",1.02,92.04,1.02,4.0199999999999996]
[null,null,null,null,null,null,null,null,null,null,"Annual",{"$f":"AVERAGE(L22:L33)","v":3.705833333333334},{"$f":"MAX(M22:M33)","v":200.48},{"$f":"AVERAGE(N22:N33)","v":3.601666666666667},{"$f":"MAX(O22:O33)","v":18.46}]
[]
[]
[]
[]
[]
[]
[]
[]
[]
[]
[]
[]
[]
["Comments :"]
[]
[]
[]
[]
[null,null,"21.01.2022"]

{"sheet":"NOx","index":16,"n_rows":53,"n_cols":17,"rows_kept":53,"cut":false,"hidden":false,"merged":[[3,16,7,18],[9,16,11,18],[12,16,15,18],[66,9,78,9],[4,1,4,3],[4,4,4,6],[4,9,4,14],[6,9,18,9],[21,9,33,9],[36,9,48,9],[47,0,47,6],[48,0,51,6],[51,9,63,9]]}
[{"$f":"+'Cover Page'!$B$29","v":"Annual Performance Report 2021"},null,null,null,{"$f":"+'Cover Page'!$B$33","v":"Kemsley Generating Station"}]
[]
["Monitoring of Oxides of Nitrogen emissions",null,null,"Whole Installation",null,null,"See  Notes in Cell Q3",null,null,{"$f":"+A3","v":"Monitoring of Oxides of Nitrogen emissions"},null,null,null,"Per Combustion Line",null,null,"Notes:"]
[null,null,null,null,null,null,null,null,null,null,null,null,null,null,null,null,"User to add logic to complete Whole installation, Table A5:G18. From the data in Per Combustion Line, Table J6:O79, subject to No. of lines installed"]
["mg/Nm3","1/2 Hourly Reference Periods",null,null,"Daily Reference Periods"]
[{"$f":"+'Cover Page'!C39","v":2021},"1/2 hourly NOx ELV","Monthly 1/2 hourly mean","Highest 1/2 hourly maximum","Daily NOx ELV","Monthly daily mean","Highest daily maximum",null,null,{"$f":"+A6","v":2021},"mg/Nm3","Monthly 1/2 hourly mean","Monthly 1/2 hourly maximum","Monthly daily mean","Monthly daily maximum"]
["Jan",400,152.84,271.74,200,152.86000000000001,162.09,null,null,"A1","Jan",152.87,271.74,152.88,162.09]
["Feb",400,152.82,247.2,200,152.84,160.63999999999999,null,null,null,"Feb",153.06,239.76,153.04,160.63999999999999]
["Mar",400,152.80000000000001,246.61,200,153.12,158.46,null,null,null,"Mar",152.63999999999999,246.61,152.66999999999999,156.25,null,"Whole Installation table A5:G18:"]
["Apr",400,152.51,197.91,200,152.5,154.31,null,null,null,"Apr",152.30000000000001,197.91,152.30000000000001,153.37,null,"Mean: for 1/2 hourly and daily periods calculate mean of values across all operational combustion lines for the month"]
["May",400,156.78,231.05,200,156.94999999999999,181.06,null,null,null,"May",155.74,207.05,155.63,179]
["Jun",400,157.06,234.22,200,157.06,180.3,null,null,null,"Jun",156.09,201.98,156.09,180.3]
["Jul",400,176.54,270.33999999999997,200,176.42,181.13,null,null,null,"Jul",176.34,270.33999999999997,176.08,181.13,null,"Maximum: for 1/2 hourly and daily periods use the highest value across all operational combustion lines for the month"]
["Aug",400,174.77,258.25,200,174.82,179.73,null,null,null,"Aug",173.87,242.82,173.96,179.73]
["Sep",400,175.55,281.33,200,175.55,184.85,null,null,null,"Sep",175.48,281.33,175.48,184.85]
["Oct",400,175.3,232.76,200,175.31,176.56,null,null,null,"Oct",175.32,232.76,175.31,176.56]
["Nov",400,175.34,251.99,200,175.34,178.1,null,null,null,"Nov",175.38,251.99,175.38,178.1]
["Dec",400,173.31,269.36,200,173.31,176.24,null,null,null,"Dec",173.38,269.36,173.38,176.24]
[null,null,null,null,null,null,null,null,null,null,"Annual",{"$f":"AVERAGE(L7:L18)","v":164.37249999999997},{"$f":"MAX(M7:M18)","v":281.33},{"$f":"AVERAGE(N7:N18)","v":164.35},{"$f":"MAX(O7:O18)","v":184.85}]
[]
[null,null,null,null,null,null,null,null,null,{"$f":"+A6","v":2021},"mg/Nm3","Monthly 1/2 hourly mean","Monthly 1/2 hourly maximum","Monthly daily mean","Monthly daily maximum"]
[null,null,null,null,null,null,null,null,null,"A2","Jan",152.81,253.31,152.84,155.54]
[null,null,null,null,null,null,null,null,null,null,"Feb",152.53,247.2,152.6,157.27000000000001]
[null,null,null,null,null,null,null,null,null,null,"Mar",152.97,212.72,153.63999999999999,158.46]
[null,null,null,null,null,null,null,null,null,null,"Apr",152.94999999999999,188.72,152.96,154.31]
[null,null,null,null,null,null,null,null,null,null,"May",157.87,231.05,158.35,181.06]
[null,null,null,null,null,null,null,null,null,null,"Jun",158.05000000000001,234.22,158.06,180.17]
[null,null,null,null,null,null,null,null,null,null,"Jul",176.74,252.24,176.75,180.93]
[null,null,null,null,null,null,null,null,null,null,"Aug",175.45,258.25,175.45,177.82]
[null,null,null,null,null,null,null,null,null,null,"Sep",175.62,218.37,175.62,176.72]
[null,null,null,null,null,null,null,null,null,null,"Oct",175.28,214.72,175.3,176.53]
[null,null,null,null,null,null,null,null,null,null,"Nov",175.3,204.58,175.31,176.05]
[null,null,null,null,null,null,null,null,null,null,"Dec",173.25,240.72,173.24,176.14]
[null,null,null,null,null,null,null,null,null,null,"Annual",{"$f":"AVERAGE(L22:L33)","v":164.90166666666667},{"$f":"MAX(M22:M33)","v":258.25},{"$f":"AVERAGE(N22:N33)","v":165.01},{"$f":"MAX(O22:O33)","v":181.06}]
[]
[]
[]
[]
[]
[]
[]
[]
[]
[]
[]
[]
[]
["Comments :"]
[]
[]
[]
[]
[null,null,"21.01.2022"]

{"sheet":"TOC","index":17,"n_rows":53,"n_cols":17,"rows_kept":53,"cut":false,"hidden":false,"merged":[[3,16,7,18],[9,16,11,18],[12,16,15,18],[66,9,78,9],[4,1,4,3],[4,4,4,6],[4,9,4,14],[6,9,18,9],[21,9,33,9],[36,9,48,9],[47,0,47,6],[48,0,51,6],[51,9,63,9]]}
[{"$f":"+'Cover Page'!$B$29","v":"Annual Performance Report 2021"},null,null,null,{"$f":"+'Cover Page'!$B$33","v":"Kemsley Generating Station"}]
[]
["Monitoring of Total organic carbon emissions",null,null,"Whole Installation",null,null,"See  Notes in Cell Q3",null,null,{"$f":"+A3","v":"Monitoring of Total organic carbon emissions"},null,null,null,"Per Combustion Line",null,null,"Notes:"]
[null,null,null,null,null,null,null,null,null,null,null,null,null,null,null,null,"User to add logic to complete Whole installation, Table A5:G18. From the data in Per Combustion Line, Table J6:O79, subject to No. of lines installed"]
["mg/Nm3","1/2 Hourly Reference Periods",null,null,"Daily Reference Periods"]
[{"$f":"+'Cover Page'!C39","v":2021},"1/2 hourly TOC ELV","Monthly 1/2 hourly mean","Highest 1/2 hourly maximum","Daily TOC ELV","Monthly daily mean","Highest daily maximum",null,null,{"$f":"+A6","v":2021},"mg/Nm3","Monthly 1/2 hourly mean","Monthly 1/2 hourly maximum","Monthly daily mean","Monthly daily maximum"]
["Jan",20,0.3,1.74,10,0.28999999999999998,0.57999999999999996,null,null,"A1","Jan",0.28000000000000003,1.28,0.28000000000000003,0.43]
["Feb",20,0.38,4.49,10,0.37,0.62,null,null,null,"Feb",0.36,3.76,0.36,0.47]
["Mar",20,0.41,2.63,10,0.41,0.56999999999999995,null,null,null,"Mar",0.36,1.82,0.37,0.47,null,"Whole Installation table A5:G18:"]
["Apr",20,0.44,1.54,10,0.44,0.61,null,null,null,"Apr",0.41,1.49,0.41,0.59,null,"Mean: for 1/2 hourly and daily periods calculate mean of values across all operational combustion lines for the month"]
["May",20,0.61,1.92,10,0.6,0.98,null,null,null,"May",0.65,1.45,0.65,0.83]
["Jun",20,0.46,4.4400000000000004,10,0.46,0.55000000000000004,null,null,null,"Jun",0.43,1.1399999999999999,0.43,0.51]
["Jul",20,0.47,1.93,10,0.47,0.56000000000000005,null,null,null,"Jul",0.44,1.93,0.44,0.5,null,"Maximum: for 1/2 hourly and daily periods use the highest value across all operational combustion lines for the month"]
["Aug",20,0.47,3.42,10,0.47,0.54,null,null,null,"Aug",0.45,1.28,0.44,0.52]
["Sep",20,0.47,3.2,10,0.47,0.56000000000000005,null,null,null,"Sep",0.44,0.97,0.44,0.51]
["Oct",20,0.28000000000000003,3.86,10,0.28999999999999998,0.52,null,null,null,"Oct",0.26,1.4,0.26,0.45]
["Nov",20,0.15,5.01,10,0.15,0.28000000000000003,null,null,null,"Nov",0.15,2.77,0.14000000000000001,0.2]
["Dec",20,0.13,2.89,10,0.13,0.31,null,null,null,"Dec",0.12,1.07,0.12,0.31]
[null,null,null,null,null,null,null,null,null,null,"Annual",{"$f":"AVERAGE(L7:L18)","v":0.36250000000000004},{"$f":"MAX(M7:M18)","v":3.76},{"$f":"AVERAGE(N7:N18)","v":0.36166666666666664},{"$f":"MAX(O7:O18)","v":0.83}]
[]
[null,null,null,null,null,null,null,null,null,{"$f":"+A6","v":2021},"mg/Nm3","Monthly 1/2 hourly mean","Monthly 1/2 hourly maximum","Monthly daily mean","Monthly daily maximum"]
[null,null,null,null,null,null,null,null,null,"A2","Jan",0.33,1.74,0.31,0.57999999999999996]
[null,null,null,null,null,null,null,null,null,null,"Feb",0.4,4.49,0.39,0.62]
[null,null,null,null,null,null,null,null,null,null,"Mar",0.46,2.63,0.45,0.56999999999999995]
[null,null,null,null,null,null,null,null,null,null,"Apr",0.51,1.54,0.51,0.61]
[null,null,null,null,null,null,null,null,null,null,"May",0.56999999999999995,1.92,0.54,0.98]
[null,null,null,null,null,null,null,null,null,null,"Jun",0.5,4.4400000000000004,0.5,0.55000000000000004]
[null,null,null,null,null,null,null,null,null,null,"Jul",0.5,1.39,0.5,0.56000000000000005]
[null,null,null,null,null,null,null,null,null,null,"Aug",0.48,3.42,0.48,0.54]
[null,null,null,null,null,null,null,null,null,null,"Sep",0.5,3.2,0.5,0.56000000000000005]
[null,null,null,null,null,null,null,null,null,null,"Oct",0.31,3.86,0.32,0.52]
[null,null,null,null,null,null,null,null,null,null,"Nov",0.16,5.01,0.16,0.28000000000000003]
[null,null,null,null,null,null,null,null,null,null,"Dec",0.14000000000000001,2.89,0.14000000000000001,0.3]
[null,null,null,null,null,null,null,null,null,null,"Annual",{"$f":"AVERAGE(L22:L33)","v":0.40499999999999997},{"$f":"MAX(M22:M33)","v":5.01},{"$f":"AVERAGE(N22:N33)","v":0.39999999999999997},{"$f":"MAX(O22:O33)","v":0.98}]
[]
[]
[]
[]
[]
[]
[]
[]
[]
[]
[]
[]
[]
["Comments :"]
[]
[]
[]
[]
[null,null,"21.01.2022"]

{"sheet":"Particulates","index":18,"n_rows":53,"n_cols":17,"rows_kept":53,"cut":false,"hidden":false,"merged":[[3,16,7,18],[9,16,11,18],[12,16,15,18],[66,9,78,9],[4,1,4,3],[4,4,4,6],[4,9,4,14],[6,9,18,9],[21,9,33,9],[36,9,48,9],[47,0,47,6],[48,0,51,6],[51,9,63,9]]}
[{"$f":"+'Cover Page'!$B$29","v":"Annual Performance Report 2021"},null,null,null,{"$f":"+'Cover Page'!$B$33","v":"Kemsley Generating Station"}]
[]
["Monitoring of Particulate matter emissions",null,null,"Whole Installation",null,null,"See  Notes in Cell Q3",null,null,{"$f":"+A3","v":"Monitoring of Particulate matter emissions"},null,null,null,"Per Combustion Line",null,null,"Notes:"]
[null,null,null,null,null,null,null,null,null,null,null,null,null,null,null,null,"User to add logic to complete Whole installation, Table A5:G18. From the data in Per Combustion Line, Table J6:O79, subject to No. of lines installed"]
["mg/Nm3","1/2 Hourly Reference Periods",null,null,"Daily Reference Periods"]
[{"$f":"+'Cover Page'!C39","v":2021},"1/2 hourly PM ELV","Monthly 1/2 hourly mean","Highest 1/2 hourly maximum","Daily PM ELV","Monthly daily mean","Highest daily maximum",null,null,{"$f":"+A6","v":2021},"mg/Nm3","Monthly 1/2 hourly mean","Monthly 1/2 hourly maximum","Monthly daily mean","Monthly daily maximum"]
["Jan",30,0.1,0.19,10,0.1,0.13,null,null,"A1","Jan",0.08,0.19,0.08,0.08]
["Feb",30,0.1,0.35,10,0.1,0.15,null,null,null,"Feb",0.08,0.35,0.08,0.15]
["Mar",30,0.16,0.42,10,0.16,0.27,null,null,null,"Mar",0.09,0.37,0.09,0.24,null,"Whole Installation table A5:G18:"]
["Apr",30,0.15,0.89,10,0.15,0.33,null,null,null,"Apr",0.09,0.8,0.09,0.13,null,"Mean: for 1/2 hourly and daily periods calculate mean of values across all operational combustion lines for the month"]
["May",30,0.15,0.51,10,0.15,0.23,null,null,null,"May",0.08,0.21,0.08,0.09]
["Jun",30,0.14000000000000001,0.37,10,0.14000000000000001,0.23,null,null,null,"Jun",7.0000000000000007E-2,0.37,7.0000000000000007E-2,0.08]
["Jul",30,0.15,0.36,10,0.15,0.22,null,null,null,"Jul",7.0000000000000007E-2,0.36,7.0000000000000007E-2,0.08,null,"Maximum: for 1/2 hourly and daily periods use the highest value across all operational combustion lines for the month"]
["Aug",30,0.19,1.49,10,0.19,0.34,null,null,null,"Aug",0.13,1.49,0.13,0.34]
["Sep",30,0.17,0.51,10,0.17,0.25,null,null,null,"Sep",0.11,0.51,0.11,0.25]
["Oct",30,0.17,0.36,10,0.17,0.28000000000000003,null,null,null,"Oct",0.09,0.36,0.09,0.12]
["Nov",30,0.18,0.39,10,0.18,0.28999999999999998,null,null,null,"Nov",0.08,0.15,0.08,0.08]
["Dec",30,0.17,0.33,10,0.17,0.28000000000000003,null,null,null,"Dec",0.08,0.15,0.08,0.08]
[null,null,null,null,null,null,null,null,null,null,"Annual",{"$f":"AVERAGE(L7:L18)","v":8.7500000000000008E-2},{"$f":"MAX(M7:M18)","v":1.49},{"$f":"AVERAGE(N7:N18)","v":8.7500000000000008E-2},{"$f":"MAX(O7:O18)","v":0.34}]
[]
[null,null,null,null,null,null,null,null,null,{"$f":"+A6","v":2021},"mg/Nm3","Monthly 1/2 hourly mean","Monthly 1/2 hourly maximum","Monthly daily mean","Monthly daily maximum"]
[null,null,null,null,null,null,null,null,null,"A2","Jan",0.12,0.17,0.12,0.13]
[null,null,null,null,null,null,null,null,null,null,"Feb",0.12,0.16,0.12,0.13]
[null,null,null,null,null,null,null,null,null,null,"Mar",0.24,0.42,0.24,0.27]
[null,null,null,null,null,null,null,null,null,null,"Apr",0.27,0.89,0.28000000000000003,0.33]
[null,null,null,null,null,null,null,null,null,null,"May",0.23,0.51,0.23,0.23]
[null,null,null,null,null,null,null,null,null,null,"Jun",0.22,0.37,0.22,0.23]
[null,null,null,null,null,null,null,null,null,null,"Jul",0.22,0.26,0.22,0.22]
[null,null,null,null,null,null,null,null,null,null,"Aug",0.23,0.28999999999999998,0.23,0.24]
[null,null,null,null,null,null,null,null,null,null,"Sep",0.24,0.28000000000000003,0.24,0.24]
[null,null,null,null,null,null,null,null,null,null,"Oct",0.26,0.34,0.26,0.28000000000000003]
[null,null,null,null,null,null,null,null,null,null,"Nov",0.27,0.39,0.27,0.28999999999999998]
[null,null,null,null,null,null,null,null,null,null,"Dec",0.27,0.33,0.27,0.28000000000000003]
[null,null,null,null,null,null,null,null,null,null,"Annual",{"$f":"AVERAGE(L22:L33)","v":0.22416666666666665},{"$f":"MAX(M22:M33)","v":0.89},{"$f":"AVERAGE(N22:N33)","v":0.22500000000000001},{"$f":"MAX(O22:O33)","v":0.33}]
[]
[]
[]
[]
[]
[]
[]
[]
[]
[]
[]
[]
[]
["Comments :"]
[]
[]
[]
[]
[null,null,"21.01.2022"]

{"sheet":"CO 95% 10 min","index":19,"n_rows":53,"n_cols":19,"rows_kept":53,"cut":false,"hidden":false,"merged":[[3,18,7,20],[9,18,11,20],[12,18,15,20],[66,10,78,10],[4,1,4,4],[4,5,4,7],[4,10,4,16],[6,10,18,10],[21,10,33,10],[36,10,48,10],[47,0,47,7],[48,0,51,7],[51,10,63,10]]}
[{"$f":"+'Cover Page'!$B$29","v":"Annual Performance Report 2021"},null,null,null,{"$f":"+'Cover Page'!$B$33","v":"Kemsley Generating Station"}]
[]
["Monitoring of Carbon Monoxide (10-minute avg)",null,null,null,"Whole Installation",null,null,"See  Notes in Cell S3",null,{"$f":"+A3","v":"Monitoring of Carbon Monoxide (10-minute avg)"},null,null,null,null,"Per Combustion Line",null,"Notes:",null,"Notes:"]
[null,null,null,null,null,null,null,null,null,null,null,null,null,null,null,null,null,null,"User to add logic to complete Whole installation, Table A5:H18. From the data in Per Combustion Line, Table K6:Q79, subject to No. of lines installed"]
["mg/Nm3","10-minute Reference Periods",null,null,null,"Daily Reference Periods"]
[{"$f":"+'Cover Page'!C39","v":2021},"95%ile 10-min avg CO ELV","95%ile 10-min avg maximum","Monthly CO 10-min avg mean","10-min avg maximum","Daily CO ELV","Monthly daily mean","Highest daily maximum",null,null,{"$f":"+A6","v":2021},"mg/Nm3","95%ile 10-min avg maximum","Monthly CO 10-min avg mean","10-min avg maximum","Monthly daily mean","Monthly daily maximum"]
["Jan",150,12.59,5.33,627.97,50,5.35,8.83,null,null,"A1","Jan",9.56,5.41,233.52,5.43,7.06]
["Feb",{"$f":"+B7","v":150},14.07,5.82,935.34,{"$f":"+F7","v":50},5.8,14.15,null,null,null,"Feb",9.86,5.7,179.24,5.67,7.3]
["Mar",{"$f":"+B8","v":150},12.43,5.56,1000.81,{"$f":"+F8","v":50},5.54,11.18,null,null,null,"Mar",11.96,5.5,287.72000000000003,5.5,7.77,null,"Whole Installation table A5:H18:"]
["Apr",150,32.909999999999997,6.28,3087.7,50,6.31,32.729999999999997,null,null,null,"Apr",9.67,5.57,741.69,5.57,10.47,null,"Mean: for 10-min and daily periods use average of all operational combustion lines."]
["May",150,15.81,4.8,406.03,50,4.68,7.62,null,null,null,"May",14.52,4.54,226.95,4.58,7.62]
["Jun",150,22.88,4.3600000000000003,923.23,50,4.37,11.61,null,null,null,"Jun",22.88,4.3499999999999996,717.66,4.3499999999999996,11.61]
["Jul",150,6.95,4.57,421.35,50,4.54,8.17,null,null,null,"Jul",6.95,4.3600000000000003,421.35,4.2699999999999996,8.17,null,"Maximum: for 10-min and daily periods use the highest of all operational combustion lines in any month."]
["Aug",150,7.25,4.6399999999999997,986.72,50,4.66,12.77,null,null,null,"Aug",5.24,4.1100000000000003,391.4,4.12,6.81]
["Sep",150,10.88,4.54,736.59,50,4.54,8.58,null,null,null,"Sep",5.7,4.1100000000000003,264.12,4.1100000000000003,5.74]
["Oct",150,9.66,3.55,194.01,50,3.54,5.54,null,null,null,"Oct",5.65,3.86,194.01,3.82,5.0599999999999996]
["Nov",150,12.94,4.04,1078.1199999999999,50,3.96,13.11,null,null,null,"Nov",8.25,4.1399999999999997,475.26,4.07,7.26]
["Dec",150,26.39,3.91,990.24,50,3.91,11.98,null,null,null,"Dec",6.62,3.72,463.09,3.72,6.58]
[null,null,null,null,null,null,null,null,null,null,null,"Annual",{"$f":"MAX(M7:M18)","v":22.88},{"$f":"AVERAGE(N7:N18)","v":4.6141666666666667},{"$f":"MAX(O7:O18)","v":741.69},{"$f":"AVERAGE(P7:P18)","v":4.6008333333333331},{"$f":"MAX(Q7:Q18)","v":11.61}]
[]
[null,null,null,null,null,null,null,null,null,null,{"$f":"+A6","v":2021},"mg/Nm3","95%ile 10-min avg maximum","Monthly CO 10-min avg mean","10-min avg maximum","Monthly daily mean","Monthly daily maximum"]
[null,null,null,null,null,null,null,null,null,null,"A2","Jan",12.59,5.23,627.97,5.24,8.83]
[null,null,null,null,null,null,null,null,null,null,null,"Feb",14.07,5.96,935.34,5.95,14.15]
[null,null,null,null,null,null,null,null,null,null,null,"Mar",12.43,5.61,1000.81,5.59,11.18]
[null,null,null,null,null,null,null,null,null,null,null,"Apr",32.909999999999997,7.77,3087.7,7.96,32.729999999999997]
[null,null,null,null,null,null,null,null,null,null,null,"May",15.81,5.08,406.03,4.79,7.5]
[null,null,null,null,null,null,null,null,null,null,null,"Jun",7.92,4.3600000000000003,923.23,4.38,10.79]
[null,null,null,null,null,null,null,null,null,null,null,"Jul",6.84,4.78,284.07,4.79,7.92]
[null,null,null,null,null,null,null,null,null,null,null,"Aug",7.25,5.05,986.72,5.05,12.77]
[null,null,null,null,null,null,null,null,null,null,null,"Sep",10.88,4.97,736.59,4.97,8.58]
[null,null,null,null,null,null,null,null,null,null,null,"Oct",9.66,3.21,180.26,3.25,5.54]
[null,null,null,null,null,null,null,null,null,null,null,"Nov",12.94,3.96,1078.1199999999999,3.87,13.11]
[null,null,null,null,null,null,null,null,null,null,null,"Dec",26.39,4.1100000000000003,990.24,4.0999999999999996,11.98]
[null,null,null,null,null,null,null,null,null,null,null,"Annual",{"$f":"MAX(M22:M33)","v":32.909999999999997},{"$f":"AVERAGE(N22:N33)","v":5.0074999999999994},{"$f":"MAX(O22:O33)","v":3087.7},{"$f":"AVERAGE(P22:P33)","v":4.9950000000000001},{"$f":"MAX(Q22:Q33)","v":32.729999999999997}]
[]
[]
[]
[]
[]
[]
[]
[]
[]
[]
[]
[]
[]
["Comments :"]
["Environment Agency explanatory note: The 10-minute average ELV is based on the “95th percentile”. In this case this means that 95% of the 10 minute averages in the relevant 24-hour period (i.e. 137) must be below 150 mg/Nm3, and 5% (i.e. 7) are allowed to be any value above 150 mg/Nm3. Whilst we expect operators to minimise CO emissions at all times, it is perfectly acceptable for the value of the maximum 10-minute average to be above 150 mg/Nm3, provided the 95th percentile ELV has been met for that period. "]
[]
[]
[]
[null,null,"21.01.2022"]

{"sheet":"NH3","index":20,"n_rows":53,"n_cols":17,"rows_kept":53,"cut":false,"hidden":false,"merged":[[3,16,7,18],[9,16,11,18],[12,16,15,18],[66,9,78,9],[4,1,4,3],[4,4,4,6],[4,9,4,14],[6,9,18,9],[21,9,33,9],[36,9,48,9],[47,0,47,6],[48,0,51,6],[51,9,63,9]]}
[{"$f":"+'Cover Page'!$B$29","v":"Annual Performance Report 2021"},null,null,null,{"$f":"+'Cover Page'!$B$33","v":"Kemsley Generating Station"}]
[]
["Monitoring of Ammnonia emissions ",null,null,"Whole Installation",null,null,"See  Notes in Cell Q3",null,null,{"$f":"+A3","v":"Monitoring of Ammnonia emissions "},null,null,null,"Per Combustion Line",null,null,"Notes:"]
[null,null,null,null,null,null,null,null,null,null,null,null,null,null,null,null,"User to add logic to complete Whole installation, Table A5:G18. From the data in Per Combustion Line, Table J6:O79, subject to No. of lines installed"]
["mg/Nm3","1/2 Hourly Reference Periods",null,null,"Daily Reference Periods"]
[{"$f":"+'Cover Page'!C39","v":2021},"1/2 hourly NH3 ELV","Monthly 1/2 hourly mean","Highest 1/2 hourly maximum","Daily NH3 ELV","Monthly daily mean","Highest daily maximum",null,null,{"$f":"+A6","v":2021},"mg/Nm3","Monthly 1/2 hourly mean","Monthly 1/2 hourly maximum","Monthly daily mean","Monthly daily maximum"]
["Jan",0,0.91,4.47,10,0.93,1.99,null,null,"A1","Jan",1.36,4.47,1.37,1.99]
["Feb",{"$f":"+B7","v":0},0.86,5.04,{"$f":"+E7","v":10},0.88,2.3199999999999998,null,null,null,"Feb",1.25,5.04,1.26,2.3199999999999998]
["Mar",{"$f":"+B8","v":0},0.99,6.91,{"$f":"+E8","v":10},0.99,2.4500000000000002,null,null,null,"Mar",1.38,6.91,1.38,2.4500000000000002,null,"Whole Installation table A5:G18:"]
["Apr",0,0.78,6.38,10,0.78,2.0099999999999998,null,null,null,"Apr",0.89,6.38,0.89,2.0099999999999998,null,"Mean: for 1/2 hourly and daily periods calculate mean of values across all operational combustion lines for the month"]
["May",0,1,4.63,10,0.97,3.22,null,null,null,"May",0.83,3.68,0.82,1.73]
["Jun",0,0.76,2.46,10,0.76,1.3,null,null,null,"Jun",0.72,2.46,0.72,1.3]
["Jul",0,0.45,2.9,10,0.45,1.01,null,null,null,"Jul",0.57999999999999996,2.9,0.56999999999999995,1.01,null,"Maximum: for 1/2 hourly and daily periods use the highest value across all operational combustion lines for the month"]
["Aug",0,0.33,2.4,10,0.32,0.86,null,null,null,"Aug",0.45,2.4,0.44,0.86]
["Sep",0,0.41,3.84,10,0.41,1.69,null,null,null,"Sep",0.51,3.84,0.51,1.69]
["Oct",0,0.7,3.5,10,0.68,1.34,null,null,null,"Oct",0.93,3.5,0.91,1.34]
["Nov",0,0.72,3.79,10,0.72,1.66,null,null,null,"Nov",1.07,3.79,1.07,1.66]
["Dec",0,0.57999999999999996,3.43,10,0.57999999999999996,1.75,null,null,null,"Dec",0.9,3.43,0.9,1.75]
[null,null,null,null,null,null,null,null,null,null,"Annual",{"$f":"AVERAGE(L7:L18)","v":0.90583333333333338},{"$f":"MAX(M7:M18)","v":6.91},{"$f":"AVERAGE(N7:N18)","v":0.90333333333333332},{"$f":"MAX(O7:O18)","v":2.4500000000000002}]
[]
[null,null,null,null,null,null,null,null,null,{"$f":"+A6","v":2021},"mg/Nm3","Monthly 1/2 hourly mean","Monthly 1/2 hourly maximum","Monthly daily mean","Monthly daily maximum"]
[null,null,null,null,null,null,null,null,null,"A2","Jan",0.39,2.2200000000000002,0.36,0.92]
[null,null,null,null,null,null,null,null,null,null,"Feb",0.41,1.93,0.42,0.74]
[null,null,null,null,null,null,null,null,null,null,"Mar",0.56999999999999995,3.96,0.53,1.1299999999999999]
[null,null,null,null,null,null,null,null,null,null,"Apr",0.53,2.27,0.53,0.86]
[null,null,null,null,null,null,null,null,null,null,"May",1.18,4.63,1.1299999999999999,3.22]
[null,null,null,null,null,null,null,null,null,null,"Jun",0.79,2.2400000000000002,0.79,1.2]
[null,null,null,null,null,null,null,null,null,null,"Jul",0.33,2.1800000000000002,0.33,0.63]
[null,null,null,null,null,null,null,null,null,null,"Aug",0.24,0.96,0.24,0.38]
[null,null,null,null,null,null,null,null,null,null,"Sep",0.32,1.29,0.32,0.54]
[null,null,null,null,null,null,null,null,null,null,"Oct",0.46,1.77,0.45,0.81]
[null,null,null,null,null,null,null,null,null,null,"Nov",0.43,2.14,0.42,1.18]
[null,null,null,null,null,null,null,null,null,null,"Dec",0.26,0.81,0.26,0.45]
[null,null,null,null,null,null,null,null,null,null,"Annual",{"$f":"AVERAGE(L22:L33)","v":0.49249999999999999},{"$f":"MAX(M22:M33)","v":4.63},{"$f":"AVERAGE(N22:N33)","v":0.48166666666666669},{"$f":"MAX(O22:O33)","v":3.22}]
[]
[]
[]
[]
[]
[]
[]
[]
[]
[]
[]
[]
[]
["Comments :"]
["An indicated ELV value of zero in the table above means that no ammonia limit is set in the permit. \n"]
[]
[]
[]
[null,null,"21.01.2022"]

{"sheet":"N2O","index":21,"n_rows":49,"n_cols":17,"rows_kept":49,"cut":false,"hidden":false,"merged":[[66,9,78,9],[3,16,7,18],[4,1,4,3],[4,4,4,6],[4,9,4,14],[6,9,18,9],[9,16,11,18],[12,16,15,18],[21,9,33,9],[36,9,48,9],[47,0,47,6],[48,0,51,6],[51,9,63,9]]}
[{"$f":"+'[2]Cover Page'!$B$29","v":"Annual Performance Report 2021"},null,null,null,{"$f":"+'[2]Cover Page'!$B$33","v":"Kemsley Generating Station"}]
[]
["Monitoring of Sulphur dioxide emissions",null,null,"Whole Installation",null,null,"See  Notes in Cell Q3",null,null,{"$f":"+A3","v":"Monitoring of Sulphur dioxide emissions"},null,null,null,"Per Combustion Line",null,null,"Notes:"]
[null,null,null,null,null,null,null,null,null,null,null,null,null,null,null,null,"User to add logic to complete Whole installation, Table A5:G18. From the data in Per Combustion Line, Table J6:O79, subject to No. of lines installed"]
["mg/Nm3","1/2 Hourly Reference Periods",null,null,"Daily Reference Periods"]
[{"$f":"+'[2]Cover Page'!C39","v":2021},"1/2 hourly SO2 ELV","Monthly 1/2 hourly mean","Highest 1/2 hourly maximum","Daily SO2 ELV","Monthly daily mean","Highest daily maximum",null,null,{"$f":"+A6","v":2021},"mg/Nm3","Monthly 1/2 hourly mean","Monthly 1/2 hourly maximum","Monthly daily mean","Monthly daily maximum"]
["Jan",0,0.91,87,0,9.5454545454545467,12,null,null,"A1","Jan",11,23,11,12]
["Feb",{"$f":"+B7","v":0},0.86,22,{"$f":"+E7","v":0},8.9350000000000005,13,null,null,null,"Feb",11,19,10.92,13]
["Mar",{"$f":"+B8","v":0},0.99,48,{"$f":"+E8","v":0},9.0119047619047628,13,null,null,null,"Mar",11,36,11.107142857142858,13,null,"Whole Installation table A5:G18:"]
["Apr",0,0.78,18,0,8.3541666666666679,12,null,null,null,"Apr",10,18,9.8333333333333339,12,null,"Mean: for 1/2 hourly and daily periods calculate mean of values across all operational combustion lines for the month"]
["May",0,1,25,0,8.8055555555555554,11,null,null,null,"May",7,25,7.6111111111111107,11]
["Jun",0,0.76,25,0,8.443678160919541,11,null,null,null,"Jun",8,24,8.2666666666666675,10]
["Jul",0,0.45,17,0,7.529556650246306,10,null,null,null,"Jul",8,17,7.7142857142857144,10,null,"Maximum: for 1/2 hourly and daily periods use the highest value across all operational combustion lines for the month"]
["Aug",0,0.33,17,0,8.0007012622720897,12,null,null,null,"Aug",9,17,9.1304347826086953,12]
["Sep",0,0.41,20,0,8.2666666666666657,11,null,null,null,"Sep",10,20,9.5666666666666664,11]
["Oct",0,0.7,21,0,9.4764957264957257,14,null,null,null,"Oct",12,21,11.222222222222221,14]
["Nov",0,0.72,21,0,10.414335664335665,15,null,null,null,"Nov",13,21,13.136363636363637,15]
["Dec",0,0.57999999999999996,21,0,7.532258064516129,14,null,null,null,"Dec",9,21,9,14]
[null,null,null,null,null,null,null,null,null,null,"Annual",9.9166666666666661,36,9.8756855825334089,15]
[]
[null,null,null,null,null,null,null,null,null,{"$f":"+A6","v":2021},"mg/Nm3","Monthly 1/2 hourly mean","Monthly 1/2 hourly maximum","Monthly daily mean","Monthly daily maximum"]
[null,null,null,null,null,null,null,null,null,"A2","Jan",8,87,8.0909090909090917,11]
[null,null,null,null,null,null,null,null,null,null,"Feb",7,22,6.95,9]
[null,null,null,null,null,null,null,null,null,null,"Mar",7,48,6.916666666666667,9]
[null,null,null,null,null,null,null,null,null,null,"Apr",7,15,6.875,8]
[null,null,null,null,null,null,null,null,null,null,"May",10,17,10,12]
[null,null,null,null,null,null,null,null,null,null,"Jun",9,25,8.6206896551724146,11]
[null,null,null,null,null,null,null,null,null,null,"Jul",7,15,7.3448275862068968,8]
[null,null,null,null,null,null,null,null,null,null,"Aug",7,16,6.870967741935484,9]
[null,null,null,null,null,null,null,null,null,null,"Sep",7,14,6.9666666666666668,8]
[null,null,null,null,null,null,null,null,null,null,"Oct",8,16,7.7307692307692308,9]
[null,null,null,null,null,null,null,null,null,null,"Nov",8,25,7.6923076923076925,10]
[null,null,null,null,null,null,null,null,null,null,"Dec",6,13,6.064516129032258,8]
[null,null,null,null,null,null,null,null,null,null,"Annual",7.583333333333333,87,7.5102767049721999,12]
[]
[]
[]
[]
[]
[]
[]
[]
[]
[]
[]
[]
[]
["Comments :"]
["No N2O limit is set in the permit."]